BEGIN:VCALENDAR
VERSION:2.0
PRODID:-//隠岐の島町教育文化振興財団 - ECPv6.15.20//NONSGML v1.0//EN
CALSCALE:GREGORIAN
METHOD:PUBLISH
X-ORIGINAL-URL:https://zaidan-oki.com
X-WR-CALDESC:隠岐の島町教育文化振興財団 のイベント
REFRESH-INTERVAL;VALUE=DURATION:PT1H
X-Robots-Tag:noindex
X-PUBLISHED-TTL:PT1H
BEGIN:VTIMEZONE
TZID:Asia/Tokyo
BEGIN:STANDARD
TZOFFSETFROM:+0900
TZOFFSETTO:+0900
TZNAME:JST
DTSTART:20240101T000000
END:STANDARD
END:VTIMEZONE
BEGIN:VEVENT
DTSTART;VALUE=DATE:20250422
DTEND;VALUE=DATE:20250423
DTSTAMP:20260422T052705
CREATED:20250321T012919Z
LAST-MODIFIED:20250420T234655Z
UID:3003-1745280000-1745366399@zaidan-oki.com
SUMMARY:【文化会館】予約状況4/22
DESCRIPTION:室名\n午前(8:30～12:00)\n午後(12:00～17:00)\n夜間(17:00～22:00)\n\n\n\n\n大ホール\n〇\n〇\n〇\n\n\n控室\n〇\n〇\n×\n\n\nホワイエ\n〇\n〇\n〇\n\n\n小会議室\n×\n〇\n〇\n\n\n研修室\n〇\n〇\n〇\n\n\n娯楽室\n〇\n〇\n×\n\n\n保養室\n〇\n〇\n〇\n\n\n住民相談室\n〇\n〇\n〇\n\n\nコミュニケーション ホール\n〇\n〇\n〇\n\n\n集会室\n〇\n×\n×\n\n\n展示ホール\n〇\n〇\n〇\n\n\n調理実習室\n〇\n〇\n〇\n\n\n会議室\n〇\n〇\n〇\n\n\n産業研修室\n〇\n×\n〇\n\n\n青年研修室\n〇\n〇\n〇\n\n\n\n\n\n詳しくは文化会館（08512-2-0237）までお問い合わせください。
URL:https://zaidan-oki.com/event/%e3%80%90%e6%96%87%e5%8c%96%e4%bc%9a%e9%a4%a8%e3%80%91%e4%ba%88%e7%b4%84%e7%8a%b6%e6%b3%814-21-2/
ATTACH;FMTTYPE=:
END:VEVENT
BEGIN:VEVENT
DTSTART;VALUE=DATE:20250422
DTEND;VALUE=DATE:20250423
DTSTAMP:20260422T052705
CREATED:20250403T013007Z
LAST-MODIFIED:20250403T013007Z
UID:3469-1745280000-1745366399@zaidan-oki.com
SUMMARY:【体育館】予約状況4/22
DESCRIPTION:部屋名/室名\n8:30～13:00\n13:00～16:00\n16:00～20:00\n20:00～22:00\n\n\n\n\nアリーナA面\n〇\n×\n×\n〇\n\n\nアリーナB面\n×\n〇\n〇\n〇\n\n\nアリーナC面\n〇\n〇\n×\n×\n\n\nトレーニング室\n×\n×\n〇\n×\n\n\n会議室\n〇\n〇\n〇\n〇\n\n\nグラウンド\n〇\n〇\n×\n〇\n\n\n\n詳しくは総合体育館(08512-3-0025）までお問い合わせください。
URL:https://zaidan-oki.com/event/%e3%80%90%e4%bd%93%e8%82%b2%e9%a4%a8%e3%80%91%e4%ba%88%e7%b4%84%e7%8a%b6%e6%b3%814-22/
ATTACH;FMTTYPE=:
END:VEVENT
BEGIN:VEVENT
DTSTART;VALUE=DATE:20250423
DTEND;VALUE=DATE:20250424
DTSTAMP:20260422T052705
CREATED:20250321T013024Z
LAST-MODIFIED:20250409T235519Z
UID:3006-1745366400-1745452799@zaidan-oki.com
SUMMARY:【文化会館】予約状況4/23
DESCRIPTION:室名\n午前(8:30～12:00)\n午後(12:00～17:00)\n夜間(17:00～22:00)\n\n\n\n\n大ホール\n〇\n〇\n〇\n\n\n控室\n〇\n〇\n〇\n\n\nホワイエ\n〇\n〇\n〇\n\n\n小会議室\n〇\n×\n×\n\n\n研修室\n〇\n×\n〇\n\n\n娯楽室\n〇\n〇\n×\n\n\n保養室\n〇\n〇\n〇\n\n\n住民相談室\n〇\n〇\n〇\n\n\nコミュニケーション ホール\n〇\n〇\n〇\n\n\n集会室\n〇\n〇\n〇\n\n\n展示ホール\n〇\n〇\n〇\n\n\n調理実習室\n〇\n〇\n〇\n\n\n会議室\n〇\n〇\n〇\n\n\n産業研修室\n〇\n〇\n〇\n\n\n青年研修室\n〇\n〇\n〇\n\n\n\n\n\n詳しくは文化会館（08512-2-0237）までお問い合わせください。
URL:https://zaidan-oki.com/event/%e3%80%90%e6%96%87%e5%8c%96%e4%bc%9a%e9%a4%a8%e3%80%91%e4%ba%88%e7%b4%84%e7%8a%b6%e6%b3%814-23/
ATTACH;FMTTYPE=:
END:VEVENT
BEGIN:VEVENT
DTSTART;VALUE=DATE:20250423
DTEND;VALUE=DATE:20250424
DTSTAMP:20260422T052705
CREATED:20250403T013426Z
LAST-MODIFIED:20250403T013426Z
UID:3471-1745366400-1745452799@zaidan-oki.com
SUMMARY:【体育館】予約状況4/23
DESCRIPTION:部屋名/室名\n8:30～13:00\n13:00～16:00\n16:00～20:00\n20:00～22:00\n\n\n\n\nアリーナA面\n〇\n×\n×\n〇\n\n\nアリーナB面\n〇\n〇\n×\n×\n\n\nアリーナC面\n×\n〇\n〇\n×\n\n\nトレーニング室\n〇\n〇\n〇\n×\n\n\n会議室\n×\n〇\n×\n〇\n\n\nグラウンド\n〇\n〇\n×\n〇\n\n\n\n詳しくは総合体育館(08512-3-0025）までお問い合わせください。
URL:https://zaidan-oki.com/event/%e3%80%90%e4%bd%93%e8%82%b2%e9%a4%a8%e3%80%91%e4%ba%88%e7%b4%84%e7%8a%b6%e6%b3%814-23/
ATTACH;FMTTYPE=:
END:VEVENT
BEGIN:VEVENT
DTSTART;VALUE=DATE:20250424
DTEND;VALUE=DATE:20250425
DTSTAMP:20260422T052705
CREATED:20250424T045413Z
LAST-MODIFIED:20250516T022249Z
UID:4293-1745452800-1745539199@zaidan-oki.com
SUMMARY:【文化会館】予約状況1/3
DESCRIPTION:室名\n午前(8:30～12:00)\n午後(12:00～17:00)\n夜間(17:00～22:00)\n\n\n\n\n大ホール\n×\n×\n×\n\n\n控室\n×\n×\n×\n\n\nホワイエ\n×\n×\n×\n\n\n小会議室\n×\n×\n×\n\n\n研修室\n×\n×\n×\n\n\n娯楽室\n×\n×\n×\n\n\n保養室\n×\n×\n×\n\n\n住民相談室\n×\n×\n×\n\n\nコミュニケーション ホール\n×\n×\n×\n\n\n集会室\n×\n×\n×\n\n\n展示ホール\n×\n×\n×\n\n\n調理実習室\n×\n×\n×\n\n\n会議室\n×\n×\n×\n\n\n産業研修室\n×\n×\n×\n\n\n青年研修室\n×\n×\n×\n\n\n\n\n\n詳しくは文化会館（08512-2-0237）までお問い合わせください。
URL:https://zaidan-oki.com/event/%e3%80%90%e6%96%87%e5%8c%96%e4%bc%9a%e9%a4%a8%e3%80%91%e4%ba%88%e7%b4%84%e7%8a%b6%e6%b3%811-3/
ATTACH;FMTTYPE=:
END:VEVENT
BEGIN:VEVENT
DTSTART;VALUE=DATE:20250424
DTEND;VALUE=DATE:20250425
DTSTAMP:20260422T052705
CREATED:20250321T013124Z
LAST-MODIFIED:20250409T235606Z
UID:3008-1745452800-1745539199@zaidan-oki.com
SUMMARY:【文化会館】予約状況4/24
DESCRIPTION:室名\n午前(8:30～12:00)\n午後(12:00～17:00)\n夜間(17:00～22:00)\n\n\n\n\n大ホール\n〇\n〇\n〇\n\n\n控室\n〇\n〇\n〇\n\n\nホワイエ\n〇\n〇\n〇\n\n\n小会議室\n×\n×\n〇\n\n\n研修室\n〇\n〇\n〇\n\n\n娯楽室\n〇\n〇\n〇\n\n\n保養室\n〇\n〇\n〇\n\n\n住民相談室\n〇\n×\n〇\n\n\nコミュニケーション ホール\n〇\n〇\n〇\n\n\n集会室\n〇\n〇\n〇\n\n\n展示ホール\n〇\n〇\n〇\n\n\n調理実習室\n〇\n〇\n〇\n\n\n会議室\n〇\n〇\n×\n\n\n産業研修室\n〇\n〇\n〇\n\n\n青年研修室\n×\n×\n×\n\n\n\n\n\n詳しくは文化会館（08512-2-0237）までお問い合わせください。
URL:https://zaidan-oki.com/event/%e3%80%90%e6%96%87%e5%8c%96%e4%bc%9a%e9%a4%a8%e3%80%91%e4%ba%88%e7%b4%84%e7%8a%b6%e6%b3%814-24/
ATTACH;FMTTYPE=:
END:VEVENT
BEGIN:VEVENT
DTSTART;VALUE=DATE:20250424
DTEND;VALUE=DATE:20250425
DTSTAMP:20260422T052705
CREATED:20250403T013630Z
LAST-MODIFIED:20250424T002008Z
UID:3473-1745452800-1745539199@zaidan-oki.com
SUMMARY:【体育館】予約状況4/24
DESCRIPTION:部屋名/室名\n8:30～13:00\n13:00～16:00\n16:00～20:00\n20:00～22:00\n\n\n\n\nアリーナA面\n〇\n×\n×\n〇\n\n\nアリーナB面\n〇\n〇\n〇\n×\n\n\nアリーナC面\n×\n〇\n〇\n×\n\n\nトレーニング室\n×\n〇\n〇\n×\n\n\n会議室\n〇\n〇\n〇\n〇\n\n\nグラウンド\n〇\n〇\n×\n〇\n\n\n\n詳しくは総合体育館(08512-3-0025）までお問い合わせください。
URL:https://zaidan-oki.com/event/%e3%80%90%e4%bd%93%e8%82%b2%e9%a4%a8%e3%80%91%e4%ba%88%e7%b4%84%e7%8a%b6%e6%b3%814-24/
ATTACH;FMTTYPE=:
END:VEVENT
BEGIN:VEVENT
DTSTART;VALUE=DATE:20250425
DTEND;VALUE=DATE:20250426
DTSTAMP:20260422T052705
CREATED:20250321T013207Z
LAST-MODIFIED:20250409T235647Z
UID:3010-1745539200-1745625599@zaidan-oki.com
SUMMARY:【文化会館】予約状況4/25
DESCRIPTION:室名\n午前(8:30～12:00)\n午後(12:00～17:00)\n夜間(17:00～22:00)\n\n\n\n\n大ホール\n〇\n×\n×\n\n\n控室\n〇\n〇\n〇\n\n\nホワイエ\n〇\n×\n×\n\n\n小会議室\n〇\n〇\n〇\n\n\n研修室\n〇\n〇\n〇\n\n\n娯楽室\n〇\n〇\n〇\n\n\n保養室\n〇\n〇\n〇\n\n\n住民相談室\n〇\n〇\n×\n\n\nコミュニケーション ホール\n〇\n〇\n〇\n\n\n集会室\n〇\n〇\n〇\n\n\n展示ホール\n〇\n〇\n〇\n\n\n調理実習室\n〇\n〇\n〇\n\n\n会議室\n〇\n〇\n〇\n\n\n産業研修室\n〇\n〇\n〇\n\n\n青年研修室\n〇\n×\n×\n\n\n\n\n\n詳しくは文化会館（08512-2-0237）までお問い合わせください。
URL:https://zaidan-oki.com/event/%e3%80%90%e6%96%87%e5%8c%96%e4%bc%9a%e9%a4%a8%e3%80%91%e4%ba%88%e7%b4%84%e7%8a%b6%e6%b3%814-25/
ATTACH;FMTTYPE=:
END:VEVENT
BEGIN:VEVENT
DTSTART;VALUE=DATE:20250425
DTEND;VALUE=DATE:20250426
DTSTAMP:20260422T052705
CREATED:20250403T013915Z
LAST-MODIFIED:20250407T014220Z
UID:3475-1745539200-1745625599@zaidan-oki.com
SUMMARY:【体育館】予約状況4/25
DESCRIPTION:部屋名/室名\n8:30～13:00\n13:00～16:00\n16:00～20:00\n20:00～22:00\n\n\n\n\nアリーナA面\n〇\n×\n×\n×\n\n\nアリーナB面\n〇\n〇\n〇\n〇\n\n\nアリーナC面\n〇\n×\n〇\n×\n\n\nトレーニング室\n×\n×\n〇\n×\n\n\n会議室\n〇\n〇\n〇\n〇\n\n\nグラウンド\n〇\n〇\n×\n〇\n\n\n\n詳しくは総合体育館(08512-3-0025）までお問い合わせください。
URL:https://zaidan-oki.com/event/%e3%80%90%e4%bd%93%e8%82%b2%e9%a4%a8%e3%80%91%e4%ba%88%e7%b4%84%e7%8a%b6%e6%b3%814-25/
ATTACH;FMTTYPE=:
END:VEVENT
BEGIN:VEVENT
DTSTART;VALUE=DATE:20250426
DTEND;VALUE=DATE:20250427
DTSTAMP:20260422T052705
CREATED:20250321T013305Z
LAST-MODIFIED:20250416T045533Z
UID:3012-1745625600-1745711999@zaidan-oki.com
SUMMARY:【文化会館】予約状況4/26
DESCRIPTION:室名\n午前(8:30～12:00)\n午後(12:00～17:00)\n夜間(17:00～22:00)\n\n\n\n\n大ホール\n〇\n〇\n〇\n\n\n控室\n〇\n×\n〇\n\n\nホワイエ\n〇\n〇\n〇\n\n\n小会議室\n〇\n×\n〇\n\n\n研修室\n〇\n〇\n〇\n\n\n娯楽室\n〇\n〇\n〇\n\n\n保養室\n〇\n〇\n〇\n\n\n住民相談室\n〇\n×\n〇\n\n\nコミュニケーション ホール\n〇\n〇\n〇\n\n\n集会室\n×\n×\n×\n\n\n展示ホール\n〇\n〇\n〇\n\n\n調理実習室\n×\n×\n〇\n\n\n会議室\n〇\n〇\n〇\n\n\n産業研修室\n〇\n×\n〇\n\n\n青年研修室\n〇\n×\n〇\n\n\n\n\n\n詳しくは文化会館（08512-2-0237）までお問い合わせください。
URL:https://zaidan-oki.com/event/%e3%80%90%e6%96%87%e5%8c%96%e4%bc%9a%e9%a4%a8%e3%80%91%e4%ba%88%e7%b4%84%e7%8a%b6%e6%b3%814-26/
ATTACH;FMTTYPE=:
END:VEVENT
BEGIN:VEVENT
DTSTART;VALUE=DATE:20250426
DTEND;VALUE=DATE:20250427
DTSTAMP:20260422T052705
CREATED:20250403T014547Z
LAST-MODIFIED:20250424T002532Z
UID:3477-1745625600-1745711999@zaidan-oki.com
SUMMARY:【体育館】予約状況4/26
DESCRIPTION:部屋名/室名\n8:30～13:00\n13:00～16:00\n16:00～20:00\n20:00～22:00\n\n\n\n\nアリーナA面\n×\n×\n〇\n〇\n\n\nアリーナB面\n×\n〇\n〇\n〇\n\n\nアリーナC面\n×\n〇\n〇\n〇\n\n\nトレーニング室\n×\n×\n〇\n〇\n\n\n会議室\n〇\n〇\n〇\n〇\n\n\nグラウンド\n×\n×\n×\n〇\n\n\n\n詳しくは総合体育館(08512-3-0025）までお問い合わせください。
URL:https://zaidan-oki.com/event/%e3%80%90%e4%bd%93%e8%82%b2%e9%a4%a8%e3%80%91%e4%ba%88%e7%b4%84%e7%8a%b6%e6%b3%814-26/
ATTACH;FMTTYPE=:
END:VEVENT
BEGIN:VEVENT
DTSTART;VALUE=DATE:20250427
DTEND;VALUE=DATE:20250428
DTSTAMP:20260422T052705
CREATED:20250321T013406Z
LAST-MODIFIED:20250409T235847Z
UID:3014-1745712000-1745798399@zaidan-oki.com
SUMMARY:【文化会館】予約状況4/27
DESCRIPTION:室名\n午前(8:30～12:00)\n午後(12:00～17:00)\n夜間(17:00～22:00)\n\n\n\n\n大ホール\n〇\n〇\n〇\n\n\n控室\n〇\n〇\n〇\n\n\nホワイエ\n〇\n〇\n〇\n\n\n小会議室\n〇\n〇\n〇\n\n\n研修室\n〇\n〇\n〇\n\n\n娯楽室\n〇\n×\n〇\n\n\n保養室\n〇\n〇\n〇\n\n\n住民相談室\n×\n×\n〇\n\n\nコミュニケーション ホール\n〇\n〇\n〇\n\n\n集会室\n×\n×\n×\n\n\n展示ホール\n〇\n〇\n〇\n\n\n調理実習室\n〇\n〇\n〇\n\n\n会議室\n〇\n×\n〇\n\n\n産業研修室\n〇\n×\n〇\n\n\n青年研修室\n〇\n〇\n〇\n\n\n\n\n\n詳しくは文化会館（08512-2-0237）までお問い合わせください。
URL:https://zaidan-oki.com/event/%e3%80%90%e6%96%87%e5%8c%96%e4%bc%9a%e9%a4%a8%e3%80%91%e4%ba%88%e7%b4%84%e7%8a%b6%e6%b3%814-27/
ATTACH;FMTTYPE=:
END:VEVENT
BEGIN:VEVENT
DTSTART;VALUE=DATE:20250427
DTEND;VALUE=DATE:20250428
DTSTAMP:20260422T052705
CREATED:20250403T015714Z
LAST-MODIFIED:20250424T002718Z
UID:3480-1745712000-1745798399@zaidan-oki.com
SUMMARY:【体育館】予約状況4/27
DESCRIPTION:部屋名/室名\n8:30～13:00\n13:00～16:00\n16:00～20:00\n20:00～22:00\n\n\n\n\nアリーナA面\n〇\n〇\n〇\n〇\n\n\nアリーナB面\n〇\n×\n〇\n〇\n\n\nアリーナC面\n〇\n×\n〇\n×\n\n\nトレーニング室\n〇\n×\n〇\n×\n\n\n会議室\n〇\n〇\n〇\n〇\n\n\nグラウンド\n×\n×\n×\n〇\n\n\n\n詳しくは総合体育館(08512-3-0025）までお問い合わせください。
URL:https://zaidan-oki.com/event/%e3%80%90%e4%bd%93%e8%82%b2%e9%a4%a8%e3%80%91%e4%ba%88%e7%b4%84%e7%8a%b6%e6%b3%814-27/
ATTACH;FMTTYPE=:
END:VEVENT
BEGIN:VEVENT
DTSTART;VALUE=DATE:20250428
DTEND;VALUE=DATE:20250429
DTSTAMP:20260422T052705
CREATED:20250321T013430Z
LAST-MODIFIED:20250328T060315Z
UID:3016-1745798400-1745884799@zaidan-oki.com
SUMMARY:【文化会館】予約状況4/28
DESCRIPTION:室名\n午前(8:30～12:00)\n午後(12:00～17:00)\n夜間(17:00～22:00)\n\n\n\n\n大ホール\n〇\n〇\n×\n\n\n控室\n〇\n〇\n×\n\n\nホワイエ\n〇\n〇\n×\n\n\n小会議室\n〇\n〇\n×\n\n\n研修室\n〇\n〇\n×\n\n\n娯楽室\n〇\n〇\n×\n\n\n保養室\n〇\n〇\n×\n\n\n住民相談室\n〇\n〇\n×\n\n\nコミュニケーション ホール\n〇\n〇\n×\n\n\n集会室\n〇\n〇\n×\n\n\n展示ホール\n〇\n〇\n×\n\n\n調理実習室\n〇\n〇\n×\n\n\n会議室\n〇\n〇\n×\n\n\n産業研修室\n〇\n〇\n×\n\n\n青年研修室\n〇\n〇\n×\n\n\n\n\n\n詳しくは文化会館（08512-2-0237）までお問い合わせください。
URL:https://zaidan-oki.com/event/%e3%80%90%e6%96%87%e5%8c%96%e4%bc%9a%e9%a4%a8%e3%80%91%e4%ba%88%e7%b4%84%e7%8a%b6%e6%b3%814-28/
ATTACH;FMTTYPE=:
END:VEVENT
BEGIN:VEVENT
DTSTART;VALUE=DATE:20250428
DTEND;VALUE=DATE:20250429
DTSTAMP:20260422T052705
CREATED:20250403T020102Z
LAST-MODIFIED:20250428T025642Z
UID:3482-1745798400-1745884799@zaidan-oki.com
SUMMARY:【体育館】予約状況4/28
DESCRIPTION:部屋名/室名\n8:30～13:00\n13:00～16:00\n16:00～20:00\n20:00～22:00\n\n\n\n\nアリーナA面\n〇\n×\n×\n×\n\n\nアリーナB面\n〇\n×\n×\n×\n\n\nアリーナC面\n〇\n×\n×\n×\n\n\nトレーニング室\n〇\n×\n〇\n×\n\n\n会議室\n〇\n〇\n〇\n×\n\n\nグラウンド\n〇\n〇\n〇\n×\n\n\n\n詳しくは総合体育館(08512-3-0025）までお問い合わせください。
URL:https://zaidan-oki.com/event/%e3%80%90%e4%bd%93%e8%82%b2%e9%a4%a8%e3%80%91%e4%ba%88%e7%b4%84%e7%8a%b6%e6%b3%814-28/
ATTACH;FMTTYPE=:
END:VEVENT
BEGIN:VEVENT
DTSTART;VALUE=DATE:20250429
DTEND;VALUE=DATE:20250430
DTSTAMP:20260422T052705
CREATED:20250321T013456Z
LAST-MODIFIED:20250321T013456Z
UID:3018-1745884800-1745971199@zaidan-oki.com
SUMMARY:【文化会館】予約状況4/29
DESCRIPTION:室名\n午前(8:30～12:00)\n午後(12:00～17:00)\n夜間(17:00～22:00)\n\n\n\n\n大ホール\n〇\n〇\n〇\n\n\n控室\n〇\n〇\n〇\n\n\nホワイエ\n〇\n〇\n〇\n\n\n小会議室\n〇\n〇\n〇\n\n\n研修室\n〇\n〇\n〇\n\n\n娯楽室\n〇\n〇\n〇\n\n\n保養室\n〇\n〇\n〇\n\n\n住民相談室\n〇\n〇\n〇\n\n\nコミュニケーション ホール\n〇\n〇\n〇\n\n\n集会室\n〇\n〇\n〇\n\n\n展示ホール\n〇\n〇\n〇\n\n\n調理実習室\n〇\n〇\n〇\n\n\n会議室\n〇\n〇\n〇\n\n\n産業研修室\n〇\n〇\n〇\n\n\n青年研修室\n〇\n〇\n〇\n\n\n\n\n\n\n詳しくは文化会館（08512-2-0237）までお問い合わせください。
URL:https://zaidan-oki.com/event/%e3%80%90%e6%96%87%e5%8c%96%e4%bc%9a%e9%a4%a8%e3%80%91%e4%ba%88%e7%b4%84%e7%8a%b6%e6%b3%814-29/
ATTACH;FMTTYPE=:
END:VEVENT
BEGIN:VEVENT
DTSTART;VALUE=DATE:20250429
DTEND;VALUE=DATE:20250430
DTSTAMP:20260422T052705
CREATED:20250403T022949Z
LAST-MODIFIED:20250417T004541Z
UID:3485-1745884800-1745971199@zaidan-oki.com
SUMMARY:【体育館】予約状況4/29
DESCRIPTION:部屋名/室名\n8:30～13:00\n13:00～16:00\n16:00～20:00\n20:00～22:00\n\n\n\n\nアリーナA面\n×\n×\n〇\n〇\n\n\nアリーナB面\n×\n×\n〇\n〇\n\n\nアリーナC面\n〇\n〇\n×\n×\n\n\nトレーニング室\n×\n×\n〇\n×\n\n\n会議室\n〇\n〇\n〇\n〇\n\n\nグラウンド\n〇\n〇\n〇\n〇\n\n\n\n詳しくは総合体育館(08512-3-0025）までお問い合わせください。
URL:https://zaidan-oki.com/event/%e3%80%90%e4%bd%93%e8%82%b2%e9%a4%a8%e3%80%91%e4%ba%88%e7%b4%84%e7%8a%b6%e6%b3%814-29/
ATTACH;FMTTYPE=:
END:VEVENT
BEGIN:VEVENT
DTSTART;VALUE=DATE:20250430
DTEND;VALUE=DATE:20250501
DTSTAMP:20260422T052705
CREATED:20250321T013518Z
LAST-MODIFIED:20250321T013518Z
UID:3020-1745971200-1746057599@zaidan-oki.com
SUMMARY:【文化会館】予約状況4/30
DESCRIPTION:室名\n午前(8:30～12:00)\n午後(12:00～17:00)\n夜間(17:00～22:00)\n\n\n\n\n大ホール\n〇\n〇\n〇\n\n\n控室\n〇\n〇\n〇\n\n\nホワイエ\n〇\n〇\n〇\n\n\n小会議室\n〇\n〇\n〇\n\n\n研修室\n〇\n〇\n〇\n\n\n娯楽室\n〇\n〇\n〇\n\n\n保養室\n〇\n〇\n〇\n\n\n住民相談室\n〇\n〇\n〇\n\n\nコミュニケーション ホール\n〇\n〇\n〇\n\n\n集会室\n〇\n〇\n〇\n\n\n展示ホール\n〇\n〇\n〇\n\n\n調理実習室\n〇\n〇\n〇\n\n\n会議室\n〇\n〇\n〇\n\n\n産業研修室\n〇\n〇\n〇\n\n\n青年研修室\n〇\n〇\n〇\n\n\n\n\n\n\n詳しくは文化会館（08512-2-0237）までお問い合わせください。
URL:https://zaidan-oki.com/event/%e3%80%90%e6%96%87%e5%8c%96%e4%bc%9a%e9%a4%a8%e3%80%91%e4%ba%88%e7%b4%84%e7%8a%b6%e6%b3%814-30/
ATTACH;FMTTYPE=:
END:VEVENT
BEGIN:VEVENT
DTSTART;VALUE=DATE:20250430
DTEND;VALUE=DATE:20250501
DTSTAMP:20260422T052705
CREATED:20250403T023223Z
LAST-MODIFIED:20250424T003008Z
UID:3516-1745971200-1746057599@zaidan-oki.com
SUMMARY:【体育館】予約状況4/30
DESCRIPTION:部屋名/室名\n8:30～13:00\n13:00～16:00\n16:00～20:00\n20:00～22:00\n\n\n\n\nアリーナA面\n×\n×\n×\n〇\n\n\nアリーナB面\n〇\n〇\n×\n×\n\n\nアリーナC面\n×\n〇\n〇\n×\n\n\nトレーニング室\n〇\n×\n〇\n×\n\n\n会議室\n〇\n〇\n〇\n〇\n\n\nグラウンド\n〇\n〇\n×\n〇\n\n\n\n詳しくは総合体育館(08512-3-0025）までお問い合わせください。
URL:https://zaidan-oki.com/event/%e3%80%90%e4%bd%93%e8%82%b2%e9%a4%a8%e3%80%91%e4%ba%88%e7%b4%84%e7%8a%b6%e6%b3%814-30/
ATTACH;FMTTYPE=:
END:VEVENT
END:VCALENDAR