BEGIN:VCALENDAR
VERSION:2.0
PRODID:-//隠岐の島町教育文化振興財団 - ECPv6.15.20//NONSGML v1.0//EN
CALSCALE:GREGORIAN
METHOD:PUBLISH
X-WR-CALNAME:隠岐の島町教育文化振興財団
X-ORIGINAL-URL:https://zaidan-oki.com
X-WR-CALDESC:隠岐の島町教育文化振興財団 のイベント
REFRESH-INTERVAL;VALUE=DURATION:PT1H
X-Robots-Tag:noindex
X-PUBLISHED-TTL:PT1H
BEGIN:VTIMEZONE
TZID:Asia/Tokyo
BEGIN:STANDARD
TZOFFSETFROM:+0900
TZOFFSETTO:+0900
TZNAME:JST
DTSTART:20240101T000000
END:STANDARD
END:VTIMEZONE
BEGIN:VEVENT
DTSTART;VALUE=DATE:20250501
DTEND;VALUE=DATE:20250502
DTSTAMP:20260422T035420
CREATED:20250321T013710Z
LAST-MODIFIED:20250424T004819Z
UID:3022-1746057600-1746143999@zaidan-oki.com
SUMMARY:【文化会館】予約状況5/1
DESCRIPTION:室名\n午前(8:30～12:00)\n午後(12:00～17:00)\n夜間(17:00～22:00)\n\n\n\n\n大ホール\n〇\n〇\n〇\n\n\n控室\n〇\n〇\n〇\n\n\nホワイエ\n〇\n〇\n〇\n\n\n小会議室\n×\n〇\n〇\n\n\n研修室\n〇\n〇\n〇\n\n\n娯楽室\n〇\n〇\n〇\n\n\n保養室\n〇\n〇\n〇\n\n\n住民相談室\n〇\n〇\n〇\n\n\nコミュニケーション ホール\n〇\n〇\n〇\n\n\n集会室\n〇\n〇\n〇\n\n\n展示ホール\n〇\n〇\n〇\n\n\n調理実習室\n〇\n〇\n〇\n\n\n会議室\n〇\n〇\n〇\n\n\n産業研修室\n〇\n〇\n〇\n\n\n青年研修室\n〇\n〇\n×\n\n\n\n\n\n詳しくは文化会館（08512-2-0237）までお問い合わせください。
URL:https://zaidan-oki.com/event/%e3%80%90%e6%96%87%e5%8c%96%e4%bc%9a%e9%a4%a8%e3%80%91%e4%ba%88%e7%b4%84%e7%8a%b6%e6%b3%815-1/
ATTACH;FMTTYPE=:
END:VEVENT
BEGIN:VEVENT
DTSTART;VALUE=DATE:20250501
DTEND;VALUE=DATE:20250502
DTSTAMP:20260422T035420
CREATED:20250404T042810Z
LAST-MODIFIED:20250424T003323Z
UID:3549-1746057600-1746143999@zaidan-oki.com
SUMMARY:【体育館】予約状況5/1
DESCRIPTION:部屋名/室名\n8:30～13:00\n13:00～16:00\n16:00～20:00\n20:00～22:00\n\n\n\n\nアリーナA面\n〇\n×\n×\n〇\n\n\nアリーナB面\n〇\n〇\n〇\n×\n\n\nアリーナC面\n×\n〇\n〇\n×\n\n\nトレーニング室\n×\n〇\n〇\n×\n\n\n会議室\n〇\n〇\n〇\n〇\n\n\nグラウンド\n〇\n〇\n×\n〇\n\n\n\n詳しくは総合体育館(08512-3-0025）までお問い合わせください。
URL:https://zaidan-oki.com/event/%e3%80%90%e4%bd%93%e8%82%b2%e9%a4%a8%e3%80%91%e4%ba%88%e7%b4%84%e7%8a%b6%e6%b3%815-1/
ATTACH;FMTTYPE=:
END:VEVENT
BEGIN:VEVENT
DTSTART;VALUE=DATE:20250502
DTEND;VALUE=DATE:20250503
DTSTAMP:20260422T035420
CREATED:20250321T013804Z
LAST-MODIFIED:20250409T235950Z
UID:3024-1746144000-1746230399@zaidan-oki.com
SUMMARY:【文化会館】予約状況5/2
DESCRIPTION:室名\n午前(8:30～12:00)\n午後(12:00～17:00)\n夜間(17:00～22:00)\n\n\n\n\n大ホール\n〇\n〇\n〇\n\n\n控室\n〇\n〇\n〇\n\n\nホワイエ\n〇\n〇\n×\n\n\n小会議室\n〇\n〇\n〇\n\n\n研修室\n〇\n〇\n〇\n\n\n娯楽室\n〇\n〇\n〇\n\n\n保養室\n〇\n〇\n〇\n\n\n住民相談室\n〇\n〇\n〇\n\n\nコミュニケーション ホール\n〇\n〇\n〇\n\n\n集会室\n〇\n〇\n〇\n\n\n展示ホール\n〇\n〇\n〇\n\n\n調理実習室\n〇\n〇\n〇\n\n\n会議室\n〇\n〇\n〇\n\n\n産業研修室\n〇\n〇\n〇\n\n\n青年研修室\n〇\n〇\n〇\n\n\n\n\n\n詳しくは文化会館（08512-2-0237）までお問い合わせください。
URL:https://zaidan-oki.com/event/%e3%80%90%e6%96%87%e5%8c%96%e4%bc%9a%e9%a4%a8%e3%80%91%e4%ba%88%e7%b4%84%e7%8a%b6%e6%b3%815-2/
ATTACH;FMTTYPE=:
END:VEVENT
BEGIN:VEVENT
DTSTART;VALUE=DATE:20250502
DTEND;VALUE=DATE:20250503
DTSTAMP:20260422T035420
CREATED:20250404T043109Z
LAST-MODIFIED:20250501T051822Z
UID:3551-1746144000-1746230399@zaidan-oki.com
SUMMARY:【体育館】予約状況5/2
DESCRIPTION:部屋名/室名\n8:30～13:00\n13:00～16:00\n16:00～20:00\n20:00～22:00\n\n\n\n\nアリーナA面\n〇\n×\n〇\n×\n\n\nアリーナB面\n〇\n〇\n〇\n〇\n\n\nアリーナC面\n〇\n×\n〇\n×\n\n\nトレーニング室\n×\n×\n〇\n×\n\n\n会議室\n〇\n〇\n〇\n〇\n\n\nグラウンド\n〇\n〇\n×\n〇\n\n\n\n詳しくは総合体育館(08512-3-0025）までお問い合わせください。
URL:https://zaidan-oki.com/event/%e3%80%90%e4%bd%93%e8%82%b2%e9%a4%a8%e3%80%91%e5%88%a9%e7%94%a8%e7%8a%b6%e6%b3%815-2/
ATTACH;FMTTYPE=:
END:VEVENT
BEGIN:VEVENT
DTSTART;VALUE=DATE:20250503
DTEND;VALUE=DATE:20250504
DTSTAMP:20260422T035420
CREATED:20250321T013912Z
LAST-MODIFIED:20250321T013912Z
UID:3027-1746230400-1746316799@zaidan-oki.com
SUMMARY:【文化会館】予約状況5/3
DESCRIPTION:室名\n午前(8:30～12:00)\n午後(12:00～17:00)\n夜間(17:00～22:00)\n\n\n\n\n大ホール\n〇\n〇\n〇\n\n\n控室\n〇\n〇\n〇\n\n\nホワイエ\n〇\n〇\n〇\n\n\n小会議室\n〇\n〇\n〇\n\n\n研修室\n〇\n〇\n〇\n\n\n娯楽室\n〇\n〇\n〇\n\n\n保養室\n〇\n〇\n〇\n\n\n住民相談室\n〇\n〇\n〇\n\n\nコミュニケーション ホール\n〇\n〇\n〇\n\n\n集会室\n〇\n〇\n〇\n\n\n展示ホール\n〇\n〇\n〇\n\n\n調理実習室\n〇\n〇\n〇\n\n\n会議室\n〇\n〇\n〇\n\n\n産業研修室\n〇\n〇\n〇\n\n\n青年研修室\n〇\n×\n〇\n\n\n\n\n\n\n詳しくは文化会館（08512-2-0237）までお問い合わせください。
URL:https://zaidan-oki.com/event/%e3%80%90%e6%96%87%e5%8c%96%e4%bc%9a%e9%a4%a8%e3%80%91%e4%ba%88%e7%b4%84%e7%8a%b6%e6%b3%815-3/
ATTACH;FMTTYPE=:
END:VEVENT
BEGIN:VEVENT
DTSTART;VALUE=DATE:20250503
DTEND;VALUE=DATE:20250504
DTSTAMP:20260422T035420
CREATED:20250404T043425Z
LAST-MODIFIED:20250501T022105Z
UID:3553-1746230400-1746316799@zaidan-oki.com
SUMMARY:【体育館】予約状況5/3
DESCRIPTION:部屋名/室名\n8:30～13:00\n13:00～16:00\n16:00～20:00\n20:00～22:00\n\n\n\n\nアリーナA面\n〇\n×\n〇\n〇\n\n\nアリーナB面\n×\n〇\n〇\n〇\n\n\nアリーナC面\n×\n〇\n〇\n〇\n\n\nトレーニング室\n×\n×\n〇\n〇\n\n\n会議室\n〇\n〇\n〇\n〇\n\n\nグラウンド\n×\n×\n〇\n〇\n\n\n\n詳しくは総合体育館(08512-3-0025）までお問い合わせください。
URL:https://zaidan-oki.com/event/%e3%80%90%e4%bd%93%e8%82%b2%e9%a4%a8%e3%80%91%e4%ba%88%e7%b4%84%e7%8a%b6%e6%b3%815-3/
ATTACH;FMTTYPE=:
END:VEVENT
BEGIN:VEVENT
DTSTART;VALUE=DATE:20250504
DTEND;VALUE=DATE:20250505
DTSTAMP:20260422T035420
CREATED:20250324T000131Z
LAST-MODIFIED:20250425T010352Z
UID:3035-1746316800-1746403199@zaidan-oki.com
SUMMARY:【文化会館】予約状況5/4
DESCRIPTION:室名\n午前(8:30～12:00)\n午後(12:00～17:00)\n夜間(17:00～22:00)\n\n\n\n\n大ホール\n〇\n〇\n〇\n\n\n控室\n〇\n〇\n〇\n\n\nホワイエ\n〇\n〇\n〇\n\n\n小会議室\n〇\n〇\n〇\n\n\n研修室\n〇\n〇\n〇\n\n\n娯楽室\n〇\n〇\n〇\n\n\n保養室\n〇\n〇\n〇\n\n\n住民相談室\n〇\n〇\n〇\n\n\nコミュニケーション ホール\n〇\n〇\n〇\n\n\n集会室\n〇\n〇\n〇\n\n\n展示ホール\n〇\n〇\n〇\n\n\n調理実習室\n〇\n〇\n〇\n\n\n会議室\n〇\n×\n〇\n\n\n産業研修室\n〇\n〇\n〇\n\n\n青年研修室\n〇\n〇\n〇\n\n\n\n\n\n詳しくは文化会館（08512-2-0237）までお問い合わせください。
URL:https://zaidan-oki.com/event/%e3%80%90%e6%96%87%e5%8c%96%e4%bc%9a%e9%a4%a8%e3%80%91%e4%ba%88%e7%b4%84%e7%8a%b6%e6%b3%815-4/
ATTACH;FMTTYPE=:
END:VEVENT
BEGIN:VEVENT
DTSTART;VALUE=DATE:20250504
DTEND;VALUE=DATE:20250505
DTSTAMP:20260422T035420
CREATED:20250404T044352Z
LAST-MODIFIED:20250501T052148Z
UID:3555-1746316800-1746403199@zaidan-oki.com
SUMMARY:【体育館】予約状況5/4
DESCRIPTION:部屋名/室名\n8:30～13:00\n13:00～16:00\n16:00～20:00\n20:00～22:00\n\n\n\n\nアリーナA面\n×\n×\n〇\n〇\n\n\nアリーナB面\n×\n×\n〇\n〇\n\n\nアリーナC面\n×\n〇\n〇\n〇\n\n\nトレーニング室\n〇\n×\n〇\n〇\n\n\n会議室\n〇\n〇\n〇\n〇\n\n\nグラウンド\n×\n×\n〇\n〇\n\n\n\n詳しくは総合体育館(08512-3-0025）までお問い合わせください。
URL:https://zaidan-oki.com/event/%e3%80%90%e4%bd%93%e8%82%b2%e9%a4%a8%e3%80%91%e5%88%a9%e7%94%a8%e7%8a%b6%e6%b3%815-4/
ATTACH;FMTTYPE=:
END:VEVENT
BEGIN:VEVENT
DTSTART;VALUE=DATE:20250505
DTEND;VALUE=DATE:20250506
DTSTAMP:20260422T035420
CREATED:20250324T000202Z
LAST-MODIFIED:20250425T010413Z
UID:3037-1746403200-1746489599@zaidan-oki.com
SUMMARY:【文化会館】予約状況5/5
DESCRIPTION:室名\n午前(8:30～12:00)\n午後(12:00～17:00)\n夜間(17:00～22:00)\n\n\n\n\n大ホール\n×\n×\n×\n\n\n控室\n×\n×\n×\n\n\nホワイエ\n×\n×\n×\n\n\n小会議室\n〇\n×\n×\n\n\n研修室\n〇\n〇\n×\n\n\n娯楽室\n〇\n〇\n×\n\n\n保養室\n〇\n〇\n×\n\n\n住民相談室\n〇\n〇\n×\n\n\nコミュニケーション ホール\n〇\n〇\n×\n\n\n集会室\n〇\n〇\n×\n\n\n展示ホール\n〇\n〇\n×\n\n\n調理実習室\n〇\n〇\n×\n\n\n会議室\n〇\n〇\n×\n\n\n産業研修室\n〇\n〇\n×\n\n\n青年研修室\n〇\n〇\n×\n\n\n\n\n\n詳しくは文化会館（08512-2-0237）までお問い合わせください。
URL:https://zaidan-oki.com/event/%e3%80%90%e6%96%87%e5%8c%96%e4%bc%9a%e9%a4%a8%e3%80%91%e4%ba%88%e7%b4%84%e7%8a%b6%e6%b3%815-5/
ATTACH;FMTTYPE=:
END:VEVENT
BEGIN:VEVENT
DTSTART;VALUE=DATE:20250505
DTEND;VALUE=DATE:20250506
DTSTAMP:20260422T035420
CREATED:20250404T044835Z
LAST-MODIFIED:20250424T012303Z
UID:3557-1746403200-1746489599@zaidan-oki.com
SUMMARY:【体育館】予約状況5/5
DESCRIPTION:部屋名/室名\n8:30～13:00\n13:00～16:00\n16:00～20:00\n20:00～22:00\n\n\n\n\nアリーナA面\n〇\n〇\n〇\n×\n\n\nアリーナB面\n〇\n〇\n〇\n×\n\n\nアリーナC面\n〇\n〇\n〇\n×\n\n\nトレーニング室\n〇\n×\n〇\n×\n\n\n会議室\n〇\n〇\n〇\n×\n\n\nグラウンド\n〇\n×\n×\n×\n\n\n\n詳しくは総合体育館(08512-3-0025）までお問い合わせください。
URL:https://zaidan-oki.com/event/%e3%80%90%e4%bd%93%e8%82%b2%e9%a4%a8%e3%80%91%e4%ba%88%e7%b4%84%e7%8a%b6%e6%b3%815-5/
ATTACH;FMTTYPE=:
END:VEVENT
BEGIN:VEVENT
DTSTART;VALUE=DATE:20250506
DTEND;VALUE=DATE:20250507
DTSTAMP:20260422T035420
CREATED:20250324T000245Z
LAST-MODIFIED:20250410T000130Z
UID:3039-1746489600-1746575999@zaidan-oki.com
SUMMARY:【文化会館】予約状況5/6
DESCRIPTION:室名\n午前(8:30～12:00)\n午後(12:00～17:00)\n夜間(17:00～22:00)\n\n\n\n\n大ホール\n×\n×\n〇\n\n\n控室\n×\n×\n〇\n\n\nホワイエ\n×\n×\n〇\n\n\n小会議室\n〇\n〇\n〇\n\n\n研修室\n〇\n〇\n〇\n\n\n娯楽室\n〇\n〇\n〇\n\n\n保養室\n〇\n〇\n〇\n\n\n住民相談室\n〇\n〇\n〇\n\n\nコミュニケーション ホール\n〇\n〇\n〇\n\n\n集会室\n〇\n〇\n〇\n\n\n展示ホール\n〇\n〇\n〇\n\n\n調理実習室\n〇\n〇\n〇\n\n\n会議室\n〇\n〇\n〇\n\n\n産業研修室\n〇\n〇\n〇\n\n\n青年研修室\n〇\n〇\n〇\n\n\n\n\n\n詳しくは文化会館（08512-2-0237）までお問い合わせください。
URL:https://zaidan-oki.com/event/%e3%80%90%e6%96%87%e5%8c%96%e4%bc%9a%e9%a4%a8%e3%80%91%e4%ba%88%e7%b4%84%e7%8a%b6%e6%b3%815-6/
ATTACH;FMTTYPE=:
END:VEVENT
BEGIN:VEVENT
DTSTART;VALUE=DATE:20250506
DTEND;VALUE=DATE:20250507
DTSTAMP:20260422T035420
CREATED:20250404T045400Z
LAST-MODIFIED:20250501T052651Z
UID:3559-1746489600-1746575999@zaidan-oki.com
SUMMARY:【体育館】予約状況5/6
DESCRIPTION:部屋名/室名\n8:30～13:00\n13:00～16:00\n16:00～20:00\n20:00～22:00\n\n\n\n\nアリーナA面\n〇\n〇\n〇\n〇\n\n\nアリーナB面\n〇\n〇\n〇\n〇\n\n\nアリーナC面\n〇\n〇\n〇\n×\n\n\nトレーニング室\n×\n×\n〇\n×\n\n\n会議室\n〇\n〇\n〇\n〇\n\n\nグラウンド\n〇\n×\n〇\n〇\n\n\n\n詳しくは総合体育館(08512-3-0025）までお問い合わせください。
URL:https://zaidan-oki.com/event/%e3%80%90%e4%bd%93%e8%82%b2%e9%a4%a8%e3%80%91%e4%ba%88%e7%b4%84%e7%8a%b6%e6%b3%815-6/
ATTACH;FMTTYPE=:
END:VEVENT
BEGIN:VEVENT
DTSTART;VALUE=DATE:20250507
DTEND;VALUE=DATE:20250508
DTSTAMP:20260422T035420
CREATED:20250324T000325Z
LAST-MODIFIED:20250410T000158Z
UID:3041-1746576000-1746662399@zaidan-oki.com
SUMMARY:【文化会館】予約状況5/7
DESCRIPTION:室名\n午前(8:30～12:00)\n午後(12:00～17:00)\n夜間(17:00～22:00)\n\n\n\n\n大ホール\n〇\n〇\n〇\n\n\n控室\n〇\n〇\n〇\n\n\nホワイエ\n〇\n〇\n〇\n\n\n小会議室\n〇\n〇\n〇\n\n\n研修室\n〇\n〇\n〇\n\n\n娯楽室\n〇\n〇\n×\n\n\n保養室\n〇\n〇\n〇\n\n\n住民相談室\n〇\n×\n〇\n\n\nコミュニケーション ホール\n〇\n〇\n〇\n\n\n集会室\n〇\n〇\n〇\n\n\n展示ホール\n〇\n〇\n〇\n\n\n調理実習室\n〇\n〇\n〇\n\n\n会議室\n〇\n〇\n〇\n\n\n産業研修室\n〇\n〇\n〇\n\n\n青年研修室\n〇\n〇\n〇\n\n\n\n\n\n詳しくは文化会館（08512-2-0237）までお問い合わせください。
URL:https://zaidan-oki.com/event/%e3%80%90%e6%96%87%e5%8c%96%e4%bc%9a%e9%a4%a8%e3%80%91%e4%ba%88%e7%b4%84%e7%8a%b6%e6%b3%815-7/
ATTACH;FMTTYPE=:
END:VEVENT
BEGIN:VEVENT
DTSTART;VALUE=DATE:20250507
DTEND;VALUE=DATE:20250508
DTSTAMP:20260422T035420
CREATED:20250404T055008Z
LAST-MODIFIED:20250501T022439Z
UID:3563-1746576000-1746662399@zaidan-oki.com
SUMMARY:【体育館】予約状況5/7
DESCRIPTION:部屋名/室名\n8:30～13:00\n13:00～16:00\n16:00～20:00\n20:00～22:00\n\n\n\n\nアリーナA面\n×\n×\n×\n〇\n\n\nアリーナB面\n〇\n〇\n×\n×\n\n\nアリーナC面\n×\n〇\n〇\n×\n\n\nトレーニング室\n〇\n×\n〇\n×\n\n\n会議室\n×\n〇\n〇\n〇\n\n\nグラウンド\n〇\n〇\n×\n〇\n\n\n\n詳しくは総合体育館(08512-3-0025）までお問い合わせください。
URL:https://zaidan-oki.com/event/%e3%80%90%e4%bd%93%e8%82%b2%e9%a4%a8%e3%80%91%e4%ba%88%e7%b4%84%e7%8a%b6%e6%b3%815-7/
ATTACH;FMTTYPE=:
END:VEVENT
BEGIN:VEVENT
DTSTART;VALUE=DATE:20250508
DTEND;VALUE=DATE:20250509
DTSTAMP:20260422T035420
CREATED:20250324T000414Z
LAST-MODIFIED:20250410T000240Z
UID:3043-1746662400-1746748799@zaidan-oki.com
SUMMARY:【文化会館】予約状況5/8
DESCRIPTION:室名\n午前(8:30～12:00)\n午後(12:00～17:00)\n夜間(17:00～22:00)\n\n\n\n\n大ホール\n〇\n〇\n〇\n\n\n控室\n〇\n〇\n〇\n\n\nホワイエ\n〇\n〇\n〇\n\n\n小会議室\n〇\n〇\n〇\n\n\n研修室\n〇\n〇\n〇\n\n\n娯楽室\n〇\n〇\n×\n\n\n保養室\n〇\n〇\n〇\n\n\n住民相談室\n〇\n×\n〇\n\n\nコミュニケーション ホール\n〇\n〇\n〇\n\n\n集会室\n〇\n×\n〇\n\n\n展示ホール\n〇\n〇\n〇\n\n\n調理実習室\n〇\n〇\n〇\n\n\n会議室\n〇\n〇\n〇\n\n\n産業研修室\n〇\n〇\n〇\n\n\n青年研修室\n〇\n〇\n×\n\n\n\n\n\n詳しくは文化会館（08512-2-0237）までお問い合わせください。
URL:https://zaidan-oki.com/event/%e3%80%90%e6%96%87%e5%8c%96%e4%bc%9a%e9%a4%a8%e3%80%91%e4%ba%88%e7%b4%84%e7%8a%b6%e6%b3%815-8/
ATTACH;FMTTYPE=:
END:VEVENT
BEGIN:VEVENT
DTSTART;VALUE=DATE:20250508
DTEND;VALUE=DATE:20250509
DTSTAMP:20260422T035420
CREATED:20250404T060410Z
LAST-MODIFIED:20250425T023819Z
UID:3568-1746662400-1746748799@zaidan-oki.com
SUMMARY:【体育館】予約状況5/8
DESCRIPTION:部屋名/室名\n8:30～13:00\n13:00～16:00\n16:00～20:00\n20:00～22:00\n\n\n\n\nアリーナA面\n〇\n×\n×\n〇\n\n\nアリーナB面\n〇\n〇\n〇\n×\n\n\nアリーナC面\n×\n〇\n〇\n×\n\n\nトレーニング室\n×\n〇\n×\n×\n\n\n会議室\n〇\n〇\n〇\n〇\n\n\nグラウンド\n〇\n〇\n×\n〇\n\n\n\n詳しくは総合体育館(08512-3-0025）までお問い合わせください。
URL:https://zaidan-oki.com/event/%e3%80%90%e4%bd%93%e8%82%b2%e9%a4%a8%e3%80%91%e4%ba%88%e7%b4%84%e7%8a%b6%e6%b3%815-8/
ATTACH;FMTTYPE=:
END:VEVENT
BEGIN:VEVENT
DTSTART;VALUE=DATE:20250509
DTEND;VALUE=DATE:20250510
DTSTAMP:20260422T035420
CREATED:20250324T000511Z
LAST-MODIFIED:20250424T000055Z
UID:3045-1746748800-1746835199@zaidan-oki.com
SUMMARY:【文化会館】予約状況5/9
DESCRIPTION:室名\n午前(8:30～12:00)\n午後(12:00～17:00)\n夜間(17:00～22:00)\n\n\n\n\n大ホール\n〇\n〇\n〇\n\n\n控室\n〇\n×\n〇\n\n\nホワイエ\n〇\n〇\n×\n\n\n小会議室\n〇\n〇\n〇\n\n\n研修室\n〇\n〇\n〇\n\n\n娯楽室\n〇\n〇\n〇\n\n\n保養室\n〇\n〇\n〇\n\n\n住民相談室\n〇\n〇\n〇\n\n\nコミュニケーション ホール\n〇\n〇\n〇\n\n\n集会室\n〇\n〇\n〇\n\n\n展示ホール\n〇\n〇\n〇\n\n\n調理実習室\n〇\n〇\n〇\n\n\n会議室\n〇\n〇\n〇\n\n\n産業研修室\n〇\n×\n〇\n\n\n青年研修室\n〇\n〇\n〇\n\n\n\n\n\n詳しくは文化会館（08512-2-0237）までお問い合わせください。
URL:https://zaidan-oki.com/event/%e3%80%90%e6%96%87%e5%8c%96%e4%bc%9a%e9%a4%a8%e3%80%91%e4%ba%88%e7%b4%84%e7%8a%b6%e6%b3%815-9/
ATTACH;FMTTYPE=:
END:VEVENT
BEGIN:VEVENT
DTSTART;VALUE=DATE:20250509
DTEND;VALUE=DATE:20250510
DTSTAMP:20260422T035420
CREATED:20250404T061147Z
LAST-MODIFIED:20250425T023946Z
UID:3570-1746748800-1746835199@zaidan-oki.com
SUMMARY:【体育館】予約状況5/9
DESCRIPTION:部屋名/室名\n8:30～13:00\n13:00～16:00\n16:00～20:00\n20:00～22:00\n\n\n\n\nアリーナA面\n×\n×\n×\n×\n\n\nアリーナB面\n×\n〇\n〇\n〇\n\n\nアリーナC面\n〇\n×\n〇\n×\n\n\nトレーニング室\n×\n×\n〇\n×\n\n\n会議室\n〇\n〇\n×\n〇\n\n\nグラウンド\n〇\n〇\n×\n〇\n\n\n\n詳しくは総合体育館(08512-3-0025）までお問い合わせください。
URL:https://zaidan-oki.com/event/%e3%80%90%e4%bd%93%e8%82%b2%e9%a4%a8%e3%80%91%e4%ba%88%e7%b4%84%e7%8a%b6%e6%b3%815-9/
ATTACH;FMTTYPE=:
END:VEVENT
BEGIN:VEVENT
DTSTART;VALUE=DATE:20250510
DTEND;VALUE=DATE:20250511
DTSTAMP:20260422T035420
CREATED:20250324T000843Z
LAST-MODIFIED:20250509T041842Z
UID:3047-1746835200-1746921599@zaidan-oki.com
SUMMARY:【文化会館】予約状況5/10
DESCRIPTION:室名\n午前(8:30～12:00)\n午後(12:00～17:00)\n夜間(17:00～22:00)\n\n\n\n\n大ホール\n×\n×\n×\n\n\n控室\n〇\n〇\n〇\n\n\nホワイエ\n×\n×\n×\n\n\n小会議室\n×\n×\n×\n\n\n研修室\n〇\n〇\n〇\n\n\n娯楽室\n〇\n×\n×\n\n\n保養室\n〇\n×\n〇\n\n\n住民相談室\n〇\n〇\n〇\n\n\nコミュニケーション ホール\n〇\n〇\n〇\n\n\n集会室\n×\n×\n×\n\n\n展示ホール\n〇\n〇\n〇\n\n\n調理実習室\n〇\n〇\n〇\n\n\n会議室\n〇\n〇\n〇\n\n\n産業研修室\n〇\n×\n〇\n\n\n青年研修室\n〇\n〇\n〇\n\n\n\n\n\n詳しくは文化会館（08512-2-0237）までお問い合わせください。
URL:https://zaidan-oki.com/event/%e3%80%90%e6%96%87%e5%8c%96%e4%bc%9a%e9%a4%a8%e3%80%91%e4%ba%88%e7%b4%84%e7%8a%b6%e6%b3%815-10/
ATTACH;FMTTYPE=:
END:VEVENT
BEGIN:VEVENT
DTSTART;VALUE=DATE:20250510
DTEND;VALUE=DATE:20250511
DTSTAMP:20260422T035420
CREATED:20250404T061459Z
LAST-MODIFIED:20250501T053209Z
UID:3572-1746835200-1746921599@zaidan-oki.com
SUMMARY:【体育館】予約状況5/10
DESCRIPTION:部屋名/室名\n8:30～13:00\n13:00～16:00\n16:00～20:00\n20:00～22:00\n\n\n\n\nアリーナA面\n×\n×\n〇\n〇\n\n\nアリーナB面\n×\n〇\n〇\n〇\n\n\nアリーナC面\n×\n〇\n〇\n〇\n\n\nトレーニング室\n×\n×\n〇\n〇\n\n\n会議室\n〇\n〇\n〇\n〇\n\n\nグラウンド\n〇\n×\n〇\n〇\n\n\n\n詳しくは総合体育館(08512-3-0025）までお問い合わせください。
URL:https://zaidan-oki.com/event/%e3%80%90%e4%bd%93%e8%82%b2%e9%a4%a8%e3%80%91%e4%ba%88%e7%b4%84%e7%8a%b6%e6%b3%815-10/
ATTACH;FMTTYPE=:
END:VEVENT
BEGIN:VEVENT
DTSTART;VALUE=DATE:20250511
DTEND;VALUE=DATE:20250512
DTSTAMP:20260422T035420
CREATED:20250324T001144Z
LAST-MODIFIED:20250428T040948Z
UID:3049-1746921600-1747007999@zaidan-oki.com
SUMMARY:【文化会館】予約状況5/11
DESCRIPTION:室名\n午前(8:30～12:00)\n午後(12:00～17:00)\n夜間(17:00～22:00)\n\n\n\n\n大ホール\n×\n×\n×\n\n\n控室\n×\n×\n×\n\n\nホワイエ\n×\n×\n×\n\n\n小会議室\n×\n×\n×\n\n\n研修室\n×\n×\n×\n\n\n娯楽室\n×\n×\n×\n\n\n保養室\n×\n×\n×\n\n\n住民相談室\n×\n×\n×\n\n\nコミュニケーション ホール\n〇\n〇\n〇\n\n\n集会室\n×\n×\n×\n\n\n展示ホール\n〇\n〇\n〇\n\n\n調理実習室\n〇\n〇\n〇\n\n\n会議室\n×\n×\n×\n\n\n産業研修室\n×\n×\n×\n\n\n青年研修室\n〇\n〇\n〇\n\n\n\n\n\n詳しくは文化会館（08512-2-0237）までお問い合わせください。
URL:https://zaidan-oki.com/event/%e3%80%90%e6%96%87%e5%8c%96%e4%bc%9a%e9%a4%a8%e3%80%91%e4%ba%88%e7%b4%84%e7%8a%b6%e6%b3%815-11/
ATTACH;FMTTYPE=:
END:VEVENT
BEGIN:VEVENT
DTSTART;VALUE=DATE:20250511
DTEND;VALUE=DATE:20250512
DTSTAMP:20260422T035420
CREATED:20250404T061756Z
LAST-MODIFIED:20250404T061756Z
UID:3574-1746921600-1747007999@zaidan-oki.com
SUMMARY:【体育館】予約状況5/11
DESCRIPTION:部屋名/室名\n8:30～13:00\n13:00～16:00\n16:00～20:00\n20:00～22:00\n\n\n\n\nアリーナA面\n×\n×\n〇\n〇\n\n\nアリーナB面\n×\n×\n〇\n〇\n\n\nアリーナC面\n×\n×\n〇\n×\n\n\nトレーニング室\n〇\n×\n〇\n×\n\n\n会議室\n〇\n〇\n〇\n〇\n\n\nグラウンド\n×\n×\n〇\n〇\n\n\n\n詳しくは総合体育館(08512-3-0025）までお問い合わせください。
URL:https://zaidan-oki.com/event/%e3%80%90%e4%bd%93%e8%82%b2%e9%a4%a8%e3%80%91%e4%ba%88%e7%b4%84%e7%8a%b6%e6%b3%815-11/
ATTACH;FMTTYPE=:
END:VEVENT
BEGIN:VEVENT
DTSTART;VALUE=DATE:20250512
DTEND;VALUE=DATE:20250513
DTSTAMP:20260422T035420
CREATED:20250324T023140Z
LAST-MODIFIED:20250410T000424Z
UID:3056-1747008000-1747094399@zaidan-oki.com
SUMMARY:【文化会館】予約状況5/12
DESCRIPTION:室名\n午前(8:30～12:00)\n午後(12:00～17:00)\n夜間(17:00～22:00)\n\n\n\n\n大ホール\n〇\n〇\n×\n\n\n控室\n〇\n〇\n×\n\n\nホワイエ\n〇\n〇\n×\n\n\n小会議室\n〇\n〇\n×\n\n\n研修室\n〇\n×\n×\n\n\n娯楽室\n〇\n×\n×\n\n\n保養室\n〇\n〇\n×\n\n\n住民相談室\n〇\n〇\n×\n\n\nコミュニケーション ホール\n〇\n〇\n×\n\n\n集会室\n〇\n〇\n×\n\n\n展示ホール\n〇\n〇\n×\n\n\n調理実習室\n〇\n〇\n×\n\n\n会議室\n〇\n〇\n×\n\n\n産業研修室\n〇\n〇\n×\n\n\n青年研修室\n〇\n〇\n×\n\n\n\n\n\n詳しくは文化会館（08512-2-0237）までお問い合わせください。
URL:https://zaidan-oki.com/event/%e3%80%90%e6%96%87%e5%8c%96%e4%bc%9a%e9%a4%a8%e3%80%91%e4%ba%88%e7%b4%84%e7%8a%b6%e6%b3%815-12/
ATTACH;FMTTYPE=:
END:VEVENT
BEGIN:VEVENT
DTSTART;VALUE=DATE:20250512
DTEND;VALUE=DATE:20250513
DTSTAMP:20260422T035420
CREATED:20250404T062210Z
LAST-MODIFIED:20250404T062210Z
UID:3576-1747008000-1747094399@zaidan-oki.com
SUMMARY:【体育館】予約状況5/12
DESCRIPTION:部屋名/室名\n8:30～13:00\n13:00～16:00\n16:00～20:00\n20:00～22:00\n\n\n\n\nアリーナA面\n〇\n×\n〇\n×\n\n\nアリーナB面\n〇\n×\n〇\n×\n\n\nアリーナC面\n〇\n×\n〇\n×\n\n\nトレーニング室\n〇\n×\n〇\n×\n\n\n会議室\n〇\n〇\n〇\n×\n\n\nグラウンド\n〇\n〇\n〇\n×\n\n\n\n詳しくは総合体育館(08512-3-0025）までお問い合わせください。
URL:https://zaidan-oki.com/event/%e3%80%90%e4%bd%93%e8%82%b2%e9%a4%a8%e3%80%91%e4%ba%88%e7%b4%84%e7%8a%b6%e6%b3%815-12/
ATTACH;FMTTYPE=:
END:VEVENT
BEGIN:VEVENT
DTSTART;VALUE=DATE:20250513
DTEND;VALUE=DATE:20250514
DTSTAMP:20260422T035420
CREATED:20250324T023156Z
LAST-MODIFIED:20250509T042004Z
UID:3060-1747094400-1747180799@zaidan-oki.com
SUMMARY:【文化会館】予約状況5/13
DESCRIPTION:室名\n午前(8:30～12:00)\n午後(12:00～17:00)\n夜間(17:00～22:00)\n\n\n\n\n大ホール\n〇\n〇\n〇\n\n\n控室\n〇\n〇\n×\n\n\nホワイエ\n〇\n〇\n〇\n\n\n小会議室\n〇\n〇\n〇\n\n\n研修室\n〇\n〇\n〇\n\n\n娯楽室\n〇\n〇\n〇\n\n\n保養室\n〇\n〇\n〇\n\n\n住民相談室\n〇\n〇\n×\n\n\nコミュニケーション ホール\n〇\n〇\n〇\n\n\n集会室\n〇\n〇\n〇\n\n\n展示ホール\n〇\n〇\n〇\n\n\n調理実習室\n〇\n〇\n〇\n\n\n会議室\n〇\n〇\n〇\n\n\n産業研修室\n〇\n×\n〇\n\n\n青年研修室\n〇\n〇\n〇\n\n\n\n\n\n詳しくは文化会館（08512-2-0237）までお問い合わせください。
URL:https://zaidan-oki.com/event/%e3%80%90%e6%96%87%e5%8c%96%e4%bc%9a%e9%a4%a8%e3%80%91%e4%ba%88%e7%b4%84%e7%8a%b6%e6%b3%815-13/
ATTACH;FMTTYPE=:
END:VEVENT
BEGIN:VEVENT
DTSTART;VALUE=DATE:20250513
DTEND;VALUE=DATE:20250514
DTSTAMP:20260422T035420
CREATED:20250404T062452Z
LAST-MODIFIED:20250404T062452Z
UID:3578-1747094400-1747180799@zaidan-oki.com
SUMMARY:【体育館】予約状況5/13
DESCRIPTION:部屋名/室名\n8:30～13:00\n13:00～16:00\n16:00～20:00\n20:00～22:00\n\n\n\n\nアリーナA面\n〇\n×\n×\n〇\n\n\nアリーナB面\n×\n〇\n〇\n×\n\n\nアリーナC面\n〇\n〇\n〇\n×\n\n\nトレーニング室\n×\n×\n〇\n×\n\n\n会議室\n〇\n〇\n〇\n〇\n\n\nグラウンド\n〇\n〇\n×\n〇\n\n\n\n詳しくは総合体育館(08512-3-0025）までお問い合わせください。
URL:https://zaidan-oki.com/event/%e3%80%90%e4%bd%93%e8%82%b2%e9%a4%a8%e3%80%91%e4%ba%88%e7%b4%84%e7%8a%b6%e6%b3%815-13/
ATTACH;FMTTYPE=:
END:VEVENT
BEGIN:VEVENT
DTSTART;VALUE=DATE:20250514
DTEND;VALUE=DATE:20250515
DTSTAMP:20260422T035420
CREATED:20250404T062725Z
LAST-MODIFIED:20250501T054546Z
UID:3580-1747180800-1747267199@zaidan-oki.com
SUMMARY:【体育館】予約状況5/14
DESCRIPTION:部屋名/室名\n8:30～13:00\n13:00～16:00\n16:00～20:00\n20:00～22:00\n\n\n\n\nアリーナA面\n〇\n×\n×\n×\n\n\nアリーナB面\n〇\n〇\n×\n×\n\n\nアリーナC面\n×\n〇\n×\n×\n\n\nトレーニング室\n〇\n×\n〇\n×\n\n\n会議室\n〇\n〇\n×\n×\n\n\nグラウンド\n〇\n〇\n×\n〇\n\n\n\n詳しくは総合体育館(08512-3-0025）までお問い合わせください。
URL:https://zaidan-oki.com/event/%e3%80%90%e4%bd%93%e8%82%b2%e9%a4%a8%e3%80%91%e4%ba%88%e7%b4%84%e7%8a%b6%e6%b3%815-14/
ATTACH;FMTTYPE=:
END:VEVENT
BEGIN:VEVENT
DTSTART;VALUE=DATE:20250514
DTEND;VALUE=DATE:20250515
DTSTAMP:20260422T035420
CREATED:20250324T023234Z
LAST-MODIFIED:20250410T000520Z
UID:3063-1747180800-1747267199@zaidan-oki.com
SUMMARY:【文化会館】予約状況5/14
DESCRIPTION:室名\n午前(8:30～12:00)\n午後(12:00～17:00)\n夜間(17:00～22:00)\n\n\n\n\n大ホール\n〇\n〇\n〇\n\n\n控室\n〇\n〇\n〇\n\n\nホワイエ\n〇\n〇\n〇\n\n\n小会議室\n〇\n〇\n×\n\n\n研修室\n〇\n×\n〇\n\n\n娯楽室\n〇\n〇\n×\n\n\n保養室\n〇\n〇\n〇\n\n\n住民相談室\n〇\n〇\n〇\n\n\nコミュニケーション ホール\n〇\n〇\n〇\n\n\n集会室\n〇\n〇\n〇\n\n\n展示ホール\n〇\n〇\n〇\n\n\n調理実習室\n〇\n〇\n〇\n\n\n会議室\n〇\n〇\n〇\n\n\n産業研修室\n〇\n〇\n〇\n\n\n青年研修室\n〇\n〇\n〇\n\n\n\n\n\n詳しくは文化会館（08512-2-0237）までお問い合わせください。
URL:https://zaidan-oki.com/event/%e3%80%90%e6%96%87%e5%8c%96%e4%bc%9a%e9%a4%a8%e3%80%91%e4%ba%88%e7%b4%84%e7%8a%b6%e6%b3%815-14/
ATTACH;FMTTYPE=:
END:VEVENT
BEGIN:VEVENT
DTSTART;VALUE=DATE:20250515
DTEND;VALUE=DATE:20250516
DTSTAMP:20260422T035420
CREATED:20250327T002527Z
LAST-MODIFIED:20250509T042030Z
UID:3125-1747267200-1747353599@zaidan-oki.com
SUMMARY:【文化会館】予約状況5/15
DESCRIPTION:室名\n午前(8:30～12:00)\n午後(12:00～17:00)\n夜間(17:00～22:00)\n\n\n\n\n大ホール\n〇\n〇\n〇\n\n\n控室\n〇\n〇\n〇\n\n\nホワイエ\n〇\n×\n〇\n\n\n小会議室\n〇\n〇\n〇\n\n\n研修室\n〇\n〇\n〇\n\n\n娯楽室\n×\n〇\n×\n\n\n保養室\n〇\n〇\n〇\n\n\n住民相談室\n×\n〇\n〇\n\n\nコミュニケーション ホール\n〇\n〇\n〇\n\n\n集会室\n×\n〇\n〇\n\n\n展示ホール\n〇\n〇\n〇\n\n\n調理実習室\n〇\n〇\n〇\n\n\n会議室\n〇\n〇\n〇\n\n\n産業研修室\n〇\n×\n〇\n\n\n青年研修室\n〇\n〇\n×\n\n\n\n\n\n詳しくは文化会館（08512-2-0237）までお問い合わせください。
URL:https://zaidan-oki.com/event/%e3%80%90%e6%96%87%e5%8c%96%e4%bc%9a%e9%a4%a8%e3%80%91%e4%ba%88%e7%b4%84%e7%8a%b6%e6%b3%815-15/
ATTACH;FMTTYPE=:
END:VEVENT
BEGIN:VEVENT
DTSTART;VALUE=DATE:20250515
DTEND;VALUE=DATE:20250516
DTSTAMP:20260422T035420
CREATED:20250407T022041Z
LAST-MODIFIED:20250501T055057Z
UID:3594-1747267200-1747353599@zaidan-oki.com
SUMMARY:【体育館】予約状況5/15
DESCRIPTION:部屋名/室名\n8:30～13:00\n13:00～16:00\n16:00～20:00\n20:00～22:00\n\n\n\n\nアリーナA面\n×\n×\n〇\n〇\n\n\nアリーナB面\n×\n×\n〇\n×\n\n\nアリーナC面\n×\n×\n〇\n×\n\n\nトレーニング室\n×\n〇\n〇\n×\n\n\n会議室\n×\n×\n〇\n〇\n\n\nグラウンド\n〇\n〇\n×\n〇\n\n\n\n詳しくは総合体育館(08512-3-0025）までお問い合わせください。
URL:https://zaidan-oki.com/event/%e3%80%90%e4%bd%93%e8%82%b2%e9%a4%a8%e3%80%91%e4%ba%88%e7%b4%84%e7%8a%b6%e6%b3%815-15/
ATTACH;FMTTYPE=:
END:VEVENT
END:VCALENDAR