BEGIN:VCALENDAR
VERSION:2.0
PRODID:-//隠岐の島町教育文化振興財団 - ECPv6.15.20//NONSGML v1.0//EN
CALSCALE:GREGORIAN
METHOD:PUBLISH
X-WR-CALNAME:隠岐の島町教育文化振興財団
X-ORIGINAL-URL:https://zaidan-oki.com
X-WR-CALDESC:隠岐の島町教育文化振興財団 のイベント
REFRESH-INTERVAL;VALUE=DURATION:PT1H
X-Robots-Tag:noindex
X-PUBLISHED-TTL:PT1H
BEGIN:VTIMEZONE
TZID:Asia/Tokyo
BEGIN:STANDARD
TZOFFSETFROM:+0900
TZOFFSETTO:+0900
TZNAME:JST
DTSTART:20240101T000000
END:STANDARD
END:VTIMEZONE
BEGIN:VEVENT
DTSTART;VALUE=DATE:20250601
DTEND;VALUE=DATE:20250602
DTSTAMP:20260422T021739
CREATED:20250328T055241Z
LAST-MODIFIED:20250527T042221Z
UID:3314-1748736000-1748822399@zaidan-oki.com
SUMMARY:【文化会館】予約状況6/1
DESCRIPTION:室名\n午前(8:30～12:00)\n午後(12:00～17:00)\n夜間(17:00～22:00)\n\n\n\n\n大ホール\n〇\n×\n×\n\n\n控室\n〇\n〇\n〇\n\n\nホワイエ\n〇\n〇\n〇\n\n\n小会議室\n〇\n〇\n〇\n\n\n研修室\n〇\n〇\n〇\n\n\n娯楽室\n〇\n〇\n〇\n\n\n保養室\n〇\n〇\n〇\n\n\n住民相談室\n〇\n〇\n〇\n\n\nコミュニケーション ホール\n〇\n〇\n〇\n\n\n集会室\n〇\n×\n×\n\n\n展示ホール\n〇\n〇\n〇\n\n\n調理実習室\n〇\n〇\n〇\n\n\n会議室\n〇\n ×\n〇\n\n\n産業研修室\n〇\n〇\n〇\n\n\n青年研修室\n×\n×\n〇\n\n\n\n\n\n詳しくは文化会館（08512-2-0237）までお問い合わせください。
URL:https://zaidan-oki.com/event/%e3%80%90%e6%96%87%e5%8c%96%e4%bc%9a%e9%a4%a8%e3%80%91%e4%ba%88%e7%b4%84%e7%8a%b6%e6%b3%816-1/
ATTACH;FMTTYPE=:
END:VEVENT
BEGIN:VEVENT
DTSTART;VALUE=DATE:20250601
DTEND;VALUE=DATE:20250602
DTSTAMP:20260422T021739
CREATED:20250408T000218Z
LAST-MODIFIED:20250529T235943Z
UID:3640-1748736000-1748822399@zaidan-oki.com
SUMMARY:【体育館】予約状況6/1
DESCRIPTION:部屋名/室名\n8:30～13:00\n13:00～16:00\n16:00～20:00\n20:00～22:00\n\n\n\n\nアリーナA面\n×\n×\n×\n〇\n\n\nアリーナB面\n×\n×\n〇\n〇\n\n\nアリーナC面\n×\n〇\n〇\n×\n\n\nトレーニング室\n〇\n〇\n〇\n×\n\n\n会議室\n〇\n〇\n〇\n〇\n\n\nグラウンド\n×\n×\n〇\n〇\n\n\n\n詳しくは総合体育館(08512-3-0025）までお問い合わせください。
URL:https://zaidan-oki.com/event/%e3%80%90%e4%bd%93%e8%82%b2%e9%a4%a8%e3%80%91%e4%ba%88%e7%b4%84%e7%8a%b6%e6%b3%816-1/
ATTACH;FMTTYPE=:
END:VEVENT
BEGIN:VEVENT
DTSTART;VALUE=DATE:20250602
DTEND;VALUE=DATE:20250603
DTSTAMP:20260422T021739
CREATED:20250328T055411Z
LAST-MODIFIED:20250328T055411Z
UID:3316-1748822400-1748908799@zaidan-oki.com
SUMMARY:【文化会館】予約状況6/2
DESCRIPTION:室名\n午前(8:30～12:00)\n午後(12:00～17:00)\n夜間(17:00～22:00)\n\n\n\n\n大ホール\n×\n×\n×\n\n\n控室\n×\n×\n×\n\n\nホワイエ\n×\n×\n×\n\n\n小会議室\n×\n×\n×\n\n\n研修室\n×\n×\n×\n\n\n娯楽室\n×\n×\n×\n\n\n保養室\n×\n×\n×\n\n\n住民相談室\n×\n×\n×\n\n\nコミュニケーション ホール\n×\n×\n×\n\n\n集会室\n×\n×\n×\n\n\n展示ホール\n×\n×\n×\n\n\n調理実習室\n×\n×\n×\n\n\n会議室\n×\n×\n×\n\n\n産業研修室\n×\n×\n×\n\n\n青年研修室\n×\n×\n×\n\n\n\n\n\n\n詳しくは文化会館（08512-2-0237）までお問い合わせください。
URL:https://zaidan-oki.com/event/%e3%80%90%e6%96%87%e5%8c%96%e4%bc%9a%e9%a4%a8%e3%80%91%e4%ba%88%e7%b4%84%e7%8a%b6%e6%b3%816-2/
ATTACH;FMTTYPE=:
END:VEVENT
BEGIN:VEVENT
DTSTART;VALUE=DATE:20250602
DTEND;VALUE=DATE:20250603
DTSTAMP:20260422T021739
CREATED:20250408T000615Z
LAST-MODIFIED:20250408T000615Z
UID:3642-1748822400-1748908799@zaidan-oki.com
SUMMARY:【体育館】予約状況6/2
DESCRIPTION:部屋名/室名\n8:30～13:00\n13:00～16:00\n16:00～20:00\n20:00～22:00\n\n\n\n\nアリーナA面\n〇\n×\n〇\n×\n\n\nアリーナB面\n〇\n×\n〇\n×\n\n\nアリーナC面\n〇\n×\n〇\n×\n\n\nトレーニング室\n〇\n×\n〇\n×\n\n\n会議室\n〇\n〇\n〇\n×\n\n\nグラウンド\n〇\n〇\n〇\n×\n\n\n\n詳しくは総合体育館(08512-3-0025）までお問い合わせください。
URL:https://zaidan-oki.com/event/%e3%80%90%e4%bd%93%e8%82%b2%e9%a4%a8%e3%80%91%e4%ba%88%e7%b4%84%e7%8a%b6%e6%b3%816-2/
ATTACH;FMTTYPE=:
END:VEVENT
BEGIN:VEVENT
DTSTART;VALUE=DATE:20250603
DTEND;VALUE=DATE:20250604
DTSTAMP:20260422T021739
CREATED:20250328T063306Z
LAST-MODIFIED:20250328T063306Z
UID:3325-1748908800-1748995199@zaidan-oki.com
SUMMARY:【文化会館】予約状況6/3
DESCRIPTION:室名\n午前(8:30～12:00)\n午後(12:00～17:00)\n夜間(17:00～22:00)\n\n\n\n\n大ホール\n〇\n〇\n〇\n\n\n控室\n〇\n〇\n〇\n\n\nホワイエ\n〇\n〇\n〇\n\n\n小会議室\n〇\n〇\n〇\n\n\n研修室\n〇\n〇\n〇\n\n\n娯楽室\n〇\n〇\n〇\n\n\n保養室\n〇\n〇\n〇\n\n\n住民相談室\n〇\n〇\n〇\n\n\nコミュニケーション ホール\n〇\n〇\n〇\n\n\n集会室\n〇\n〇\n〇\n\n\n展示ホール\n〇\n〇\n〇\n\n\n調理実習室\n〇\n〇\n〇\n\n\n会議室\n〇\n〇\n〇\n\n\n産業研修室\n〇\n〇\n〇\n\n\n青年研修室\n〇\n〇\n〇\n\n\n\n\n\n詳しくは文化会館（08512-2-0237）までお問い合わせください。
URL:https://zaidan-oki.com/event/%e3%80%90%e6%96%87%e5%8c%96%e4%bc%9a%e9%a4%a8%e3%80%91%e4%ba%88%e7%b4%84%e7%8a%b6%e6%b3%816-3/
ATTACH;FMTTYPE=:
END:VEVENT
BEGIN:VEVENT
DTSTART;VALUE=DATE:20250603
DTEND;VALUE=DATE:20250604
DTSTAMP:20260422T021739
CREATED:20250408T000938Z
LAST-MODIFIED:20250408T000938Z
UID:3644-1748908800-1748995199@zaidan-oki.com
SUMMARY:【体育館】予約状況6/3
DESCRIPTION:部屋名/室名\n8:30～13:00\n13:00～16:00\n16:00～20:00\n20:00～22:00\n\n\n\n\nアリーナA面\n〇\n×\n×\n〇\n\n\nアリーナB面\n×\n〇\n〇\n〇\n\n\nアリーナC面\n〇\n〇\n〇\n×\n\n\nトレーニング室\n×\n×\n〇\n×\n\n\n会議室\n〇\n〇\n〇\n〇\n\n\nグラウンド\n〇\n〇\n〇\n〇\n\n\n\n詳しくは総合体育館(08512-3-0025）までお問い合わせください。
URL:https://zaidan-oki.com/event/%e3%80%90%e4%bd%93%e8%82%b2%e9%a4%a8%e3%80%91%e4%ba%88%e7%b4%84%e7%8a%b6%e6%b3%816-3/
ATTACH;FMTTYPE=:
END:VEVENT
BEGIN:VEVENT
DTSTART;VALUE=DATE:20250604
DTEND;VALUE=DATE:20250605
DTSTAMP:20260422T021739
CREATED:20250328T063339Z
LAST-MODIFIED:20250509T043051Z
UID:3330-1748995200-1749081599@zaidan-oki.com
SUMMARY:【文化会館】予約状況6/4
DESCRIPTION:室名\n午前(8:30～12:00)\n午後(12:00～17:00)\n夜間(17:00～22:00)\n\n\n\n\n大ホール\n〇\n〇\n〇\n\n\n控室\n〇\n〇\n〇\n\n\nホワイエ\n〇\n〇\n〇\n\n\n小会議室\n〇\n〇\n〇\n\n\n研修室\n〇\n〇\n〇\n\n\n娯楽室\n〇\n〇\n〇\n\n\n保養室\n〇\n〇\n〇\n\n\n住民相談室\n〇\n〇\n〇\n\n\nコミュニケーション ホール\n〇\n〇\n〇\n\n\n集会室\n〇\n〇\n〇\n\n\n展示ホール\n〇\n〇\n〇\n\n\n調理実習室\n〇\n〇\n〇\n\n\n会議室\n〇\n〇\n〇\n\n\n産業研修室\n×\n〇\n〇\n\n\n青年研修室\n×\n×\n×\n\n\n\n\n\n詳しくは文化会館（08512-2-0237）までお問い合わせください。
URL:https://zaidan-oki.com/event/%e3%80%90%e6%96%87%e5%8c%96%e4%bc%9a%e9%a4%a8%e3%80%91%e4%ba%88%e7%b4%84%e7%8a%b6%e6%b3%816-4/
ATTACH;FMTTYPE=:
END:VEVENT
BEGIN:VEVENT
DTSTART;VALUE=DATE:20250604
DTEND;VALUE=DATE:20250605
DTSTAMP:20260422T021739
CREATED:20250408T001114Z
LAST-MODIFIED:20250602T014939Z
UID:3646-1748995200-1749081599@zaidan-oki.com
SUMMARY:【体育館】予約状況6/4
DESCRIPTION:部屋名/室名\n8:30～13:00\n13:00～16:00\n16:00～20:00\n20:00～22:00\n\n\n\n\nアリーナA面\n〇\n×\n×\n×\n\n\nアリーナB面\n〇\n〇\n×\n×\n\n\nアリーナC面\n×\n×\n〇\n×\n\n\nトレーニング室\n〇\n×\n〇\n×\n\n\n会議室\n〇\n〇\n〇\n〇\n\n\nグラウンド\n〇\n〇\n×\n〇\n\n\n\n詳しくは総合体育館(08512-3-0025）までお問い合わせください。
URL:https://zaidan-oki.com/event/%e3%80%90%e4%bd%93%e8%82%b2%e9%a4%a8%e3%80%91%e4%ba%88%e7%b4%84%e7%8a%b6%e6%b3%816-4/
ATTACH;FMTTYPE=:
END:VEVENT
BEGIN:VEVENT
DTSTART;VALUE=DATE:20250605
DTEND;VALUE=DATE:20250606
DTSTAMP:20260422T021739
CREATED:20250328T063423Z
LAST-MODIFIED:20250328T063423Z
UID:3332-1749081600-1749167999@zaidan-oki.com
SUMMARY:【文化会館】予約状況6/5
DESCRIPTION:室名\n午前(8:30～12:00)\n午後(12:00～17:00)\n夜間(17:00～22:00)\n\n\n\n\n大ホール\n〇\n〇\n〇\n\n\n控室\n〇\n〇\n〇\n\n\nホワイエ\n〇\n〇\n〇\n\n\n小会議室\n〇\n〇\n〇\n\n\n研修室\n〇\n〇\n〇\n\n\n娯楽室\n〇\n〇\n×\n\n\n保養室\n〇\n〇\n〇\n\n\n住民相談室\n〇\n〇\n〇\n\n\nコミュニケーション ホール\n〇\n〇\n〇\n\n\n集会室\n〇\n〇\n〇\n\n\n展示ホール\n〇\n〇\n〇\n\n\n調理実習室\n〇\n〇\n〇\n\n\n会議室\n〇\n〇\n〇\n\n\n産業研修室\n〇\n〇\n〇\n\n\n青年研修室\n〇\n〇\n×\n\n\n\n\n\n\n詳しくは文化会館（08512-2-0237）までお問い合わせください。
URL:https://zaidan-oki.com/event/%e3%80%90%e6%96%87%e5%8c%96%e4%bc%9a%e9%a4%a8%e3%80%91%e4%ba%88%e7%b4%84%e7%8a%b6%e6%b3%816-5/
ATTACH;FMTTYPE=:
END:VEVENT
BEGIN:VEVENT
DTSTART;VALUE=DATE:20250605
DTEND;VALUE=DATE:20250606
DTSTAMP:20260422T021739
CREATED:20250408T001506Z
LAST-MODIFIED:20250605T053007Z
UID:3648-1749081600-1749167999@zaidan-oki.com
SUMMARY:【体育館】予約状況6/5
DESCRIPTION:部屋名/室名\n8:30～13:00\n13:00～16:00\n16:00～20:00\n20:00～22:00\n\n\n\n\nアリーナA面\n〇\n×\n×\n〇\n\n\nアリーナB面\n〇\n〇\n〇\n〇\n\n\nアリーナC面\n×\n〇\n〇\n×\n\n\nトレーニング室\n×\n〇\n〇\n×\n\n\n会議室\n〇\n〇\n〇\n〇\n\n\nグラウンド\n〇\n〇\n〇\n〇\n\n\n\n詳しくは総合体育館(08512-3-0025）までお問い合わせください。
URL:https://zaidan-oki.com/event/%e3%80%90%e4%bd%93%e8%82%b2%e9%a4%a8%e3%80%91%e4%ba%88%e7%b4%84%e7%8a%b6%e6%b3%816-5/
ATTACH;FMTTYPE=:
END:VEVENT
BEGIN:VEVENT
DTSTART;VALUE=DATE:20250606
DTEND;VALUE=DATE:20250607
DTSTAMP:20260422T021739
CREATED:20250328T063512Z
LAST-MODIFIED:20250509T043110Z
UID:3335-1749168000-1749254399@zaidan-oki.com
SUMMARY:【文化会館】予約状況6/6
DESCRIPTION:室名\n午前(8:30～12:00)\n午後(12:00～17:00)\n夜間(17:00～22:00)\n\n\n\n\n大ホール\n〇\n〇\n〇\n\n\n控室\n〇\n〇\n〇\n\n\nホワイエ\n〇\n〇\n×\n\n\n小会議室\n〇\n〇\n〇\n\n\n研修室\n〇\n〇\n〇\n\n\n娯楽室\n〇\n〇\n〇\n\n\n保養室\n〇\n〇\n〇\n\n\n住民相談室\n〇\n×\n〇\n\n\nコミュニケーション ホール\n〇\n〇\n〇\n\n\n集会室\n〇\n〇\n×\n\n\n展示ホール\n〇\n〇\n〇\n\n\n調理実習室\n〇\n〇\n〇\n\n\n会議室\n〇\n〇\n〇\n\n\n産業研修室\n〇\n〇\n〇\n\n\n青年研修室\n〇\n〇\n×\n\n\n\n\n\n詳しくは文化会館（08512-2-0237）までお問い合わせください。
URL:https://zaidan-oki.com/event/%e3%80%90%e6%96%87%e5%8c%96%e4%bc%9a%e9%a4%a8%e3%80%91%e4%ba%88%e7%b4%84%e7%8a%b6%e6%b3%816-6/
ATTACH;FMTTYPE=:
END:VEVENT
BEGIN:VEVENT
DTSTART;VALUE=DATE:20250606
DTEND;VALUE=DATE:20250607
DTSTAMP:20260422T021739
CREATED:20250408T001834Z
LAST-MODIFIED:20250602T015159Z
UID:3650-1749168000-1749254399@zaidan-oki.com
SUMMARY:【体育館】予約状況6/6
DESCRIPTION:部屋名/室名\n8:30～13:00\n13:00～16:00\n16:00～20:00\n20:00～22:00\n\n\n\n\nアリーナA面\n〇\n×\n×\n×\n\n\nアリーナB面\n〇\n×\n×\n×\n\n\nアリーナC面\n〇\n×\n×\n×\n\n\nトレーニング室\n×\n×\n〇\n×\n\n\n会議室\n〇\n〇\n〇\n〇\n\n\nグラウンド\n〇\n〇\n〇\n〇\n\n\n\n詳しくは総合体育館(08512-3-0025）までお問い合わせください。
URL:https://zaidan-oki.com/event/%e3%80%90%e4%bd%93%e8%82%b2%e9%a4%a8%e3%80%91%e4%ba%88%e7%b4%84%e7%8a%b6%e6%b3%816-6/
ATTACH;FMTTYPE=:
END:VEVENT
BEGIN:VEVENT
DTSTART;VALUE=DATE:20250607
DTEND;VALUE=DATE:20250608
DTSTAMP:20260422T021739
CREATED:20250328T063700Z
LAST-MODIFIED:20250606T005953Z
UID:3337-1749254400-1749340799@zaidan-oki.com
SUMMARY:【文化会館】予約状況6/7
DESCRIPTION:室名\n午前(8:30～12:00)\n午後(12:00～17:00)\n夜間(17:00～22:00)\n\n\n\n\n大ホール\n〇\n〇\n〇\n\n\n控室\n×\n×\n〇\n\n\nホワイエ\n〇\n〇\n〇\n\n\n小会議室\n〇\n×\n〇\n\n\n研修室\n〇\n〇\n〇\n\n\n娯楽室\n〇\n〇\n〇\n\n\n保養室\n〇\n〇\n〇\n\n\n住民相談室\n〇\n〇\n〇\n\n\nコミュニケーション ホール\n〇\n〇\n〇\n\n\n集会室\n〇\n〇\n×\n\n\n展示ホール\n〇\n〇\n〇\n\n\n調理実習室\n〇\n〇\n〇\n\n\n会議室\n〇\n〇\n〇\n\n\n産業研修室\n〇\n×\n〇\n\n\n青年研修室\n〇\n×\n〇\n\n\n\n\n\n詳しくは文化会館（08512-2-0237）までお問い合わせください。
URL:https://zaidan-oki.com/event/%e3%80%90%e6%96%87%e5%8c%96%e4%bc%9a%e9%a4%a8%e3%80%91%e4%ba%88%e7%b4%84%e7%8a%b6%e6%b3%816-7/
ATTACH;FMTTYPE=:
END:VEVENT
BEGIN:VEVENT
DTSTART;VALUE=DATE:20250607
DTEND;VALUE=DATE:20250608
DTSTAMP:20260422T021739
CREATED:20250408T002158Z
LAST-MODIFIED:20250606T001522Z
UID:3652-1749254400-1749340799@zaidan-oki.com
SUMMARY:【体育館】予約状況6/7
DESCRIPTION:部屋名/室名\n8:30～13:00\n13:00～16:00\n16:00～20:00\n20:00～22:00\n\n\n\n\nアリーナA面\n×\n×\n〇\n〇\n\n\nアリーナB面\n×\n×\n〇\n〇\n\n\nアリーナC面\n×\n×\n〇\n〇\n\n\nトレーニング室\n×\n×\n〇\n〇\n\n\n会議室\n×\n×\n〇\n〇\n\n\nグラウンド\n〇\n×\n〇\n〇\n\n\n\n詳しくは総合体育館(08512-3-0025）までお問い合わせください。
URL:https://zaidan-oki.com/event/%e3%80%90%e4%bd%93%e8%82%b2%e9%a4%a8%e3%80%91%e4%ba%88%e7%b4%84%e7%8a%b6%e6%b3%816-7/
ATTACH;FMTTYPE=:
END:VEVENT
BEGIN:VEVENT
DTSTART;VALUE=DATE:20250608
DTEND;VALUE=DATE:20250609
DTSTAMP:20260422T021739
CREATED:20250328T063847Z
LAST-MODIFIED:20250606T010131Z
UID:3339-1749340800-1749427199@zaidan-oki.com
SUMMARY:【文化会館】予約状況6/8
DESCRIPTION:室名\n午前(8:30～12:00)\n午後(12:00～17:00)\n夜間(17:00～22:00)\n\n\n\n\n大ホール\n〇\n〇\n〇\n\n\n控室\n〇\n〇\n〇\n\n\nホワイエ\n〇\n〇\n〇\n\n\n小会議室\n ×\n〇\n〇\n\n\n研修室\n〇\n〇\n〇\n\n\n娯楽室\n〇\n〇\n〇\n\n\n保養室\n〇\n〇\n〇\n\n\n住民相談室\n×\n×\n〇\n\n\nコミュニケーション ホール\n〇\n〇\n〇\n\n\n集会室\n×\n×\n〇\n\n\n展示ホール\n〇\n〇\n〇\n\n\n調理実習室\n〇\n〇\n〇\n\n\n会議室\n〇\n ×\n〇\n\n\n産業研修室\n〇\n〇\n〇\n\n\n青年研修室\n×\n×\n〇\n\n\n\n\n\n詳しくは文化会館（08512-2-0237）までお問い合わせください。
URL:https://zaidan-oki.com/event/%e3%80%90%e6%96%87%e5%8c%96%e4%bc%9a%e9%a4%a8%e3%80%91%e4%ba%88%e7%b4%84%e7%8a%b6%e6%b3%816-8/
ATTACH;FMTTYPE=:
END:VEVENT
BEGIN:VEVENT
DTSTART;VALUE=DATE:20250608
DTEND;VALUE=DATE:20250609
DTSTAMP:20260422T021739
CREATED:20250408T002434Z
LAST-MODIFIED:20250606T001637Z
UID:3654-1749340800-1749427199@zaidan-oki.com
SUMMARY:【体育館】予約状況6/8
DESCRIPTION:部屋名/室名\n8:30～13:00\n13:00～16:00\n16:00～20:00\n20:00～22:00\n\n\n\n\nアリーナA面\n×\n×\n〇\n〇\n\n\nアリーナB面\n×\n×\n〇\n〇\n\n\nアリーナC面\n×\n×\n〇\n×\n\n\nトレーニング室\n〇\n〇\n〇\n×\n\n\n会議室\n〇\n〇\n〇\n〇\n\n\nグラウンド\n〇\n×\n〇\n〇\n\n\n\n詳しくは総合体育館(08512-3-0025）までお問い合わせください。
URL:https://zaidan-oki.com/event/%e3%80%90%e4%bd%93%e8%82%b2%e9%a4%a8%e3%80%91%e4%ba%88%e7%b4%84%e7%8a%b6%e6%b3%816-8/
ATTACH;FMTTYPE=:
END:VEVENT
BEGIN:VEVENT
DTSTART;VALUE=DATE:20250609
DTEND;VALUE=DATE:20250610
DTSTAMP:20260422T021739
CREATED:20250328T064022Z
LAST-MODIFIED:20250606T010209Z
UID:3341-1749427200-1749513599@zaidan-oki.com
SUMMARY:【文化会館】予約状況6/9
DESCRIPTION:室名\n午前(8:30～12:00)\n午後(12:00～17:00)\n夜間(17:00～22:00)\n\n\n\n\n大ホール\n〇\n〇\n×\n\n\n控室\n〇\n〇\n×\n\n\nホワイエ\n〇\n〇\n×\n\n\n小会議室\n〇\n〇\n×\n\n\n研修室\n〇\n〇\n×\n\n\n娯楽室\n〇\n〇\n×\n\n\n保養室\n〇\n〇\n×\n\n\n住民相談室\n〇\n〇\n×\n\n\nコミュニケーション ホール\n〇\n〇\n×\n\n\n集会室\n〇\n〇\n×\n\n\n展示ホール\n〇\n〇\n×\n\n\n調理実習室\n〇\n〇\n×\n\n\n会議室\n〇\n〇\n×\n\n\n産業研修室\n〇\n ×\n×\n\n\n青年研修室\n〇\n〇\n×\n\n\n\n\n\n詳しくは文化会館（08512-2-0237）までお問い合わせください。
URL:https://zaidan-oki.com/event/%e3%80%90%e6%96%87%e5%8c%96%e4%bc%9a%e9%a4%a8%e3%80%91%e4%ba%88%e7%b4%84%e7%8a%b6%e6%b3%816-9/
ATTACH;FMTTYPE=:
END:VEVENT
BEGIN:VEVENT
DTSTART;VALUE=DATE:20250609
DTEND;VALUE=DATE:20250610
DTSTAMP:20260422T021739
CREATED:20250408T002741Z
LAST-MODIFIED:20250408T002741Z
UID:3656-1749427200-1749513599@zaidan-oki.com
SUMMARY:【体育館】予約状況6/9
DESCRIPTION:部屋名/室名\n8:30～13:00\n13:00～16:00\n16:00～20:00\n20:00～22:00\n\n\n\n\nアリーナA面\n〇\n×\n〇\n×\n\n\nアリーナB面\n〇\n×\n〇\n×\n\n\nアリーナC面\n〇\n×\n〇\n×\n\n\nトレーニング室\n〇\n×\n〇\n×\n\n\n会議室\n〇\n〇\n〇\n×\n\n\nグラウンド\n〇\n〇\n〇\n×\n\n\n\n詳しくは総合体育館(08512-3-0025）までお問い合わせください。
URL:https://zaidan-oki.com/event/%e3%80%90%e4%bd%93%e8%82%b2%e9%a4%a8%e3%80%91%e4%ba%88%e7%b4%84%e7%8a%b6%e6%b3%816-9/
ATTACH;FMTTYPE=:
END:VEVENT
BEGIN:VEVENT
DTSTART;VALUE=DATE:20250610
DTEND;VALUE=DATE:20250611
DTSTAMP:20260422T021739
CREATED:20250328T064049Z
LAST-MODIFIED:20250606T010247Z
UID:3343-1749513600-1749599999@zaidan-oki.com
SUMMARY:【文化会館】予約状況6/10
DESCRIPTION:室名\n午前(8:30～12:00)\n午後(12:00～17:00)\n夜間(17:00～22:00)\n\n\n\n\n大ホール\n〇\n〇\n〇\n\n\n控室\n〇\n〇\n×\n\n\nホワイエ\n〇\n〇\n〇\n\n\n小会議室\n〇\n〇\n〇\n\n\n研修室\n〇\n〇\n〇\n\n\n娯楽室\n〇\n〇\n〇\n\n\n保養室\n〇\n〇\n〇\n\n\n住民相談室\n〇\n×\n〇\n\n\nコミュニケーション ホール\n〇\n〇\n〇\n\n\n集会室\n〇\n〇\n〇\n\n\n展示ホール\n〇\n〇\n〇\n\n\n調理実習室\n〇\n〇\n〇\n\n\n会議室\n〇\n〇\n〇\n\n\n産業研修室\n〇\n×\n〇\n\n\n青年研修室\n〇\n〇\n〇\n\n\n\n\n\n詳しくは文化会館（08512-2-0237）までお問い合わせください。
URL:https://zaidan-oki.com/event/%e3%80%90%e6%96%87%e5%8c%96%e4%bc%9a%e9%a4%a8%e3%80%91%e4%ba%88%e7%b4%84%e7%8a%b6%e6%b3%816-10/
ATTACH;FMTTYPE=:
END:VEVENT
BEGIN:VEVENT
DTSTART;VALUE=DATE:20250610
DTEND;VALUE=DATE:20250611
DTSTAMP:20260422T021739
CREATED:20250408T003314Z
LAST-MODIFIED:20250408T003314Z
UID:3658-1749513600-1749599999@zaidan-oki.com
SUMMARY:【体育館】予約状況6/10
DESCRIPTION:部屋名/室名\n8:30～13:00\n13:00～16:00\n16:00～20:00\n20:00～22:00\n\n\n\n\nアリーナA面\n〇\n×\n×\n〇\n\n\nアリーナB面\n×\n〇\n〇\n〇\n\n\nアリーナC面\n〇\n〇\n〇\n×\n\n\nトレーニング室\n×\n×\n〇\n×\n\n\n会議室\n〇\n〇\n〇\n〇\n\n\nグラウンド\n〇\n〇\n〇\n〇\n\n\n\n詳しくは総合体育館(08512-3-0025）までお問い合わせください。
URL:https://zaidan-oki.com/event/%e3%80%90%e4%bd%93%e8%82%b2%e9%a4%a8%e3%80%91%e4%ba%88%e7%b4%84%e7%8a%b6%e6%b3%816-10/
ATTACH;FMTTYPE=:
END:VEVENT
BEGIN:VEVENT
DTSTART;VALUE=DATE:20250611
DTEND;VALUE=DATE:20250612
DTSTAMP:20260422T021739
CREATED:20250328T064205Z
LAST-MODIFIED:20250606T010450Z
UID:3345-1749600000-1749686399@zaidan-oki.com
SUMMARY:【文化会館】予約状況6/11
DESCRIPTION:室名\n午前(8:30～12:00)\n午後(12:00～17:00)\n夜間(17:00～22:00)\n\n\n\n\n大ホール\n〇\n〇\n×\n\n\n控室\n〇\n〇\n〇\n\n\nホワイエ\n〇\n〇\n〇\n\n\n小会議室\n〇\n〇\n〇\n\n\n研修室\n〇\n×\n〇\n\n\n娯楽室\n〇\n〇\n×\n\n\n保養室\n〇\n〇\n〇\n\n\n住民相談室\n〇\n〇\n〇\n\n\nコミュニケーション ホール\n〇\n〇\n〇\n\n\n集会室\n〇\n〇\n〇\n\n\n展示ホール\n〇\n〇\n〇\n\n\n調理実習室\n×\n×\n〇\n\n\n会議室\n〇\n〇\n〇\n\n\n産業研修室\n〇\n〇\n〇\n\n\n青年研修室\n×\n×\n〇\n\n\n\n\n\n詳しくは文化会館（08512-2-0237）までお問い合わせください。
URL:https://zaidan-oki.com/event/%e3%80%90%e6%96%87%e5%8c%96%e4%bc%9a%e9%a4%a8%e3%80%91%e4%ba%88%e7%b4%84%e7%8a%b6%e6%b3%816-11/
ATTACH;FMTTYPE=:
END:VEVENT
BEGIN:VEVENT
DTSTART;VALUE=DATE:20250611
DTEND;VALUE=DATE:20250612
DTSTAMP:20260422T021739
CREATED:20250408T003551Z
LAST-MODIFIED:20250609T015513Z
UID:3660-1749600000-1749686399@zaidan-oki.com
SUMMARY:【体育館】予約状況6/11
DESCRIPTION:部屋名/室名\n8:30～13:00\n13:00～16:00\n16:00～20:00\n20:00～22:00\n\n\n\n\nアリーナA面\n〇\n×\n〇\n〇\n\n\nアリーナB面\n〇\n〇\n〇\n×\n\n\nアリーナC面\n×\n〇\n〇\n〇\n\n\nトレーニング室\n〇\n×\n〇\n×\n\n\n会議室\n×\n〇\n〇\n〇\n\n\nグラウンド\n〇\n〇\n〇\n〇\n\n\n\n詳しくは総合体育館(08512-3-0025）までお問い合わせください。
URL:https://zaidan-oki.com/event/%e3%80%90%e4%bd%93%e8%82%b2%e9%a4%a8%e3%80%91%e4%ba%88%e7%b4%84%e7%8a%b6%e6%b3%816-11/
ATTACH;FMTTYPE=:
END:VEVENT
BEGIN:VEVENT
DTSTART;VALUE=DATE:20250612
DTEND;VALUE=DATE:20250613
DTSTAMP:20260422T021739
CREATED:20250328T064338Z
LAST-MODIFIED:20250606T010635Z
UID:3347-1749686400-1749772799@zaidan-oki.com
SUMMARY:【文化会館】予約状況6/12
DESCRIPTION:室名\n午前(8:30～12:00)\n午後(12:00～17:00)\n夜間(17:00～22:00)\n\n\n\n\n大ホール\n〇\n〇\n×\n\n\n控室\n〇\n〇\n〇\n\n\nホワイエ\n〇\n〇\n〇\n\n\n小会議室\n〇\n×\n〇\n\n\n研修室\n〇\n〇\n〇\n\n\n娯楽室\n×\n×\n×\n\n\n保養室\n×\n×\n〇\n\n\n住民相談室\n〇\n〇\n〇\n\n\nコミュニケーション ホール\n〇\n〇\n〇\n\n\n集会室\n×\n×\n〇\n\n\n展示ホール\n〇\n〇\n〇\n\n\n調理実習室\n〇\n〇\n〇\n\n\n会議室\n×\n〇\n〇\n\n\n産業研修室\n〇\n〇\n〇\n\n\n青年研修室\n×\n×\n×\n\n\n\n\n\n詳しくは文化会館（08512-2-0237）までお問い合わせください。
URL:https://zaidan-oki.com/event/%e3%80%90%e6%96%87%e5%8c%96%e4%bc%9a%e9%a4%a8%e3%80%91%e4%ba%88%e7%b4%84%e7%8a%b6%e6%b3%816-12/
ATTACH;FMTTYPE=:
END:VEVENT
BEGIN:VEVENT
DTSTART;VALUE=DATE:20250612
DTEND;VALUE=DATE:20250613
DTSTAMP:20260422T021739
CREATED:20250408T003907Z
LAST-MODIFIED:20250408T003959Z
UID:3662-1749686400-1749772799@zaidan-oki.com
SUMMARY:【体育館】予約状況6/12
DESCRIPTION:部屋名/室名\n8:30～13:00\n13:00～16:00\n16:00～20:00\n20:00～22:00\n\n\n\n\nアリーナA面\n×\n×\n×\n×\n\n\nアリーナB面\n×\n×\n×\n×\n\n\nアリーナC面\n×\n×\n×\n×\n\n\nトレーニング室\n×\n×\n×\n×\n\n\n会議室\n×\n×\n×\n×\n\n\nグラウンド\n〇\n〇\n〇\n〇\n\n\n\n詳しくは総合体育館(08512-3-0025）までお問い合わせください。
URL:https://zaidan-oki.com/event/%e3%80%90%e4%bd%93%e8%82%b2%e9%a4%a8%e3%80%91%e4%ba%88%e7%b4%84%e7%8a%b6%e6%b3%816-12/
ATTACH;FMTTYPE=:
END:VEVENT
BEGIN:VEVENT
DTSTART;VALUE=DATE:20250613
DTEND;VALUE=DATE:20250614
DTSTAMP:20260422T021739
CREATED:20250328T064423Z
LAST-MODIFIED:20250527T043347Z
UID:3349-1749772800-1749859199@zaidan-oki.com
SUMMARY:【文化会館】予約状況6/13
DESCRIPTION:室名\n午前(8:30～12:00)\n午後(12:00～17:00)\n夜間(17:00～22:00)\n\n\n\n\n大ホール\n〇\n〇\n〇\n\n\n控室\n〇\n×\n〇\n\n\nホワイエ\n〇\n〇\n×\n\n\n小会議室\n〇\n〇\n〇\n\n\n研修室\n〇\n〇\n〇\n\n\n娯楽室\n〇\n〇\n〇\n\n\n保養室\n〇\n〇\n〇\n\n\n住民相談室\n〇\n〇\n〇\n\n\nコミュニケーション ホール\n〇\n〇\n〇\n\n\n集会室\n〇\n〇\n〇\n\n\n展示ホール\n〇\n〇\n〇\n\n\n調理実習室\n〇\n〇\n〇\n\n\n会議室\n〇\n〇\n〇\n\n\n産業研修室\n〇\n×\n〇\n\n\n青年研修室\n〇\n〇\n〇\n\n\n\n\n\n詳しくは文化会館（08512-2-0237）までお問い合わせください。
URL:https://zaidan-oki.com/event/%e3%80%90%e6%96%87%e5%8c%96%e4%bc%9a%e9%a4%a8%e3%80%91%e4%ba%88%e7%b4%84%e7%8a%b6%e6%b3%816-13/
ATTACH;FMTTYPE=:
END:VEVENT
BEGIN:VEVENT
DTSTART;VALUE=DATE:20250613
DTEND;VALUE=DATE:20250614
DTSTAMP:20260422T021739
CREATED:20250408T004255Z
LAST-MODIFIED:20250408T004255Z
UID:3664-1749772800-1749859199@zaidan-oki.com
SUMMARY:【体育館】予約状況6/13
DESCRIPTION:部屋名/室名\n8:30～13:00\n13:00～16:00\n16:00～20:00\n20:00～22:00\n\n\n\n\nアリーナA面\n×\n×\n×\n×\n\n\nアリーナB面\n×\n×\n×\n×\n\n\nアリーナC面\n×\n×\n×\n×\n\n\nトレーニング室\n×\n×\n×\n×\n\n\n会議室\n×\n×\n×\n×\n\n\nグラウンド\n〇\n〇\n〇\n〇\n\n\n\n詳しくは総合体育館(08512-3-0025）までお問い合わせください。
URL:https://zaidan-oki.com/event/%e3%80%90%e4%bd%93%e8%82%b2%e9%a4%a8%e3%80%91%e4%ba%88%e7%b4%84%e7%8a%b6%e6%b3%816-13/
ATTACH;FMTTYPE=:
END:VEVENT
BEGIN:VEVENT
DTSTART;VALUE=DATE:20250614
DTEND;VALUE=DATE:20250615
DTSTAMP:20260422T021739
CREATED:20250328T064515Z
LAST-MODIFIED:20250606T010747Z
UID:3351-1749859200-1749945599@zaidan-oki.com
SUMMARY:【文化会館】予約状況6/14
DESCRIPTION:室名\n午前(8:30～12:00)\n午後(12:00～17:00)\n夜間(17:00～22:00)\n\n\n\n\n大ホール\n〇\n〇\n〇\n\n\n控室\n〇\n〇\n〇\n\n\nホワイエ\n〇\n〇\n〇\n\n\n小会議室\n×\n〇\n〇\n\n\n研修室\n〇\n〇\n〇\n\n\n娯楽室\n〇\n〇\n〇\n\n\n保養室\n〇\n〇\n〇\n\n\n住民相談室\n〇\n〇\n〇\n\n\nコミュニケーション ホール\n〇\n〇\n〇\n\n\n集会室\n〇\n〇\n〇\n\n\n展示ホール\n〇\n〇\n〇\n\n\n調理実習室\n〇\n〇\n〇\n\n\n会議室\n〇\n〇\n〇\n\n\n産業研修室\n〇\n×\n〇\n\n\n青年研修室\n×\n×\n〇\n\n\n\n\n\n詳しくは文化会館（08512-2-0237）までお問い合わせください。
URL:https://zaidan-oki.com/event/%e3%80%90%e6%96%87%e5%8c%96%e4%bc%9a%e9%a4%a8%e3%80%91%e4%ba%88%e7%b4%84%e7%8a%b6%e6%b3%816-14/
ATTACH;FMTTYPE=:
END:VEVENT
BEGIN:VEVENT
DTSTART;VALUE=DATE:20250614
DTEND;VALUE=DATE:20250615
DTSTAMP:20260422T021739
CREATED:20250408T004538Z
LAST-MODIFIED:20250408T004538Z
UID:3666-1749859200-1749945599@zaidan-oki.com
SUMMARY:【体育館】予約状況6/14
DESCRIPTION:部屋名/室名\n8:30～13:00\n13:00～16:00\n16:00～20:00\n20:00～22:00\n\n\n\n\nアリーナA面\n×\n×\n×\n×\n\n\nアリーナB面\n×\n×\n×\n×\n\n\nアリーナC面\n×\n×\n×\n×\n\n\nトレーニング室\n×\n×\n×\n×\n\n\n会議室\n×\n×\n×\n×\n\n\nグラウンド\n×\n×\n×\n×\n\n\n\n詳しくは総合体育館(08512-3-0025）までお問い合わせください。
URL:https://zaidan-oki.com/event/%e3%80%90%e4%bd%93%e8%82%b2%e9%a4%a8%e3%80%91%e4%ba%88%e7%b4%84%e7%8a%b6%e6%b3%816-14/
ATTACH;FMTTYPE=:
END:VEVENT
BEGIN:VEVENT
DTSTART;VALUE=DATE:20250615
DTEND;VALUE=DATE:20250616
DTSTAMP:20260422T021739
CREATED:20250328T064646Z
LAST-MODIFIED:20250606T010845Z
UID:3353-1749945600-1750031999@zaidan-oki.com
SUMMARY:【文化会館】予約状況6/15
DESCRIPTION:室名\n午前(8:30～12:00)\n午後(12:00～17:00)\n夜間(17:00～22:00)\n\n\n\n\n大ホール\n〇\n〇\n〇\n\n\n控室\n〇\n〇\n〇\n\n\nホワイエ\n〇\n〇\n〇\n\n\n小会議室\n〇\n〇\n〇\n\n\n研修室\n〇\n〇\n〇\n\n\n娯楽室\n〇\n〇\n〇\n\n\n保養室\n〇\n〇\n〇\n\n\n住民相談室\n〇\n〇\n〇\n\n\nコミュニケーション ホール\n〇\n〇\n〇\n\n\n集会室\n〇\n〇\n〇\n\n\n展示ホール\n〇\n〇\n〇\n\n\n調理実習室\n〇\n〇\n〇\n\n\n会議室\n〇\n〇\n〇\n\n\n産業研修室\n〇\n〇\n〇\n\n\n青年研修室\n〇\n〇\n〇\n\n\n\n\n\n詳しくは文化会館（08512-2-0237）までお問い合わせください。
URL:https://zaidan-oki.com/event/%e3%80%90%e6%96%87%e5%8c%96%e4%bc%9a%e9%a4%a8%e3%80%91%e4%ba%88%e7%b4%84%e7%8a%b6%e6%b3%816-15/
ATTACH;FMTTYPE=:
END:VEVENT
BEGIN:VEVENT
DTSTART;VALUE=DATE:20250615
DTEND;VALUE=DATE:20250616
DTSTAMP:20260422T021739
CREATED:20250408T014012Z
LAST-MODIFIED:20250408T014012Z
UID:3668-1749945600-1750031999@zaidan-oki.com
SUMMARY:【体育館】予約状況6/15
DESCRIPTION:部屋名/室名\n8:30～13:00\n13:00～16:00\n16:00～20:00\n20:00～22:00\n\n\n\n\nアリーナA面\n×\n×\n×\n×\n\n\nアリーナB面\n×\n×\n×\n×\n\n\nアリーナC面\n×\n×\n×\n×\n\n\nトレーニング室\n×\n×\n×\n×\n\n\n会議室\n×\n×\n×\n×\n\n\nグラウンド\n×\n×\n×\n×\n\n\n\n詳しくは総合体育館(08512-3-0025）までお問い合わせください。
URL:https://zaidan-oki.com/event/%e3%80%90%e4%bd%93%e8%82%b2%e9%a4%a8%e3%80%91%e4%ba%88%e7%b4%84%e7%8a%b6%e6%b3%816-15/
ATTACH;FMTTYPE=:
END:VEVENT
END:VCALENDAR