BEGIN:VCALENDAR
VERSION:2.0
PRODID:-//隠岐の島町教育文化振興財団 - ECPv6.15.20//NONSGML v1.0//EN
CALSCALE:GREGORIAN
METHOD:PUBLISH
X-WR-CALNAME:隠岐の島町教育文化振興財団
X-ORIGINAL-URL:https://zaidan-oki.com
X-WR-CALDESC:隠岐の島町教育文化振興財団 のイベント
REFRESH-INTERVAL;VALUE=DURATION:PT1H
X-Robots-Tag:noindex
X-PUBLISHED-TTL:PT1H
BEGIN:VTIMEZONE
TZID:Asia/Tokyo
BEGIN:STANDARD
TZOFFSETFROM:+0900
TZOFFSETTO:+0900
TZNAME:JST
DTSTART:20240101T000000
END:STANDARD
END:VTIMEZONE
BEGIN:VEVENT
DTSTART;VALUE=DATE:20250801
DTEND;VALUE=DATE:20250802
DTSTAMP:20260421T224957
CREATED:20250410T015128Z
LAST-MODIFIED:20250729T012815Z
UID:3840-1754006400-1754092799@zaidan-oki.com
SUMMARY:【文化会館】予約状況8/1
DESCRIPTION:室名\n午前(8:30～12:00)\n午後(12:00～17:00)\n夜間(17:00～22:00)\n\n\n\n\n大ホール\n×\n×\n×\n\n\n控室\n〇\n〇\n〇\n\n\nホワイエ\n〇\n〇\n〇\n\n\n小会議室\n〇\n〇\n〇\n\n\n研修室\n〇\n〇\n〇\n\n\n娯楽室\n〇\n〇\n〇\n\n\n保養室\n〇\n〇\n〇\n\n\n住民相談室\n〇\n〇\n〇\n\n\nコミュニケーション ホール\n〇\n〇\n〇\n\n\n集会室\n〇\n〇\n〇\n\n\n展示ホール\n〇\n〇\n〇\n\n\n調理実習室\n〇\n〇\n〇\n\n\n会議室\n〇\n〇\n〇\n\n\n産業研修室\n〇\n〇\n〇\n\n\n青年研修室\n×\n〇\n×\n\n\n\n\n\n\n詳しくは文化会館（08512-2-0237）までお問い合わせください。
URL:https://zaidan-oki.com/event/%e3%80%90%e6%96%87%e5%8c%96%e4%bc%9a%e9%a4%a8%e3%80%91%e4%ba%88%e7%b4%84%e7%8a%b6%e6%b3%818-1/
ATTACH;FMTTYPE=:
END:VEVENT
BEGIN:VEVENT
DTSTART;VALUE=DATE:20250801
DTEND;VALUE=DATE:20250802
DTSTAMP:20260421T224957
CREATED:20250530T001808Z
LAST-MODIFIED:20250714T025117Z
UID:4777-1754006400-1754092799@zaidan-oki.com
SUMMARY:【体育館】予約状況8/1
DESCRIPTION:部屋名/室名\n8:30～13:00\n13:00～16:00\n16:00～20:00\n20:00～22:00\n\n\n\n\nアリーナA面\n×\n×\n×\n×\n\n\nアリーナB面\n×\n〇\n〇\n〇\n\n\nアリーナC面\n×\n×\n〇\n×\n\n\nトレーニング室\n×\n×\n〇\n×\n\n\n会議室\n〇\n〇\n〇\n〇\n\n\nグラウンド\n〇\n〇\n×\n〇\n\n\n\n詳しくは総合体育館(08512-3-0025）までお問い合わせください。
URL:https://zaidan-oki.com/event/%e3%80%90%e4%bd%93%e8%82%b2%e9%a4%a8%e3%80%91%e4%ba%88%e7%b4%84%e7%8a%b6%e6%b3%818-1/
ATTACH;FMTTYPE=:
END:VEVENT
BEGIN:VEVENT
DTSTART;VALUE=DATE:20250802
DTEND;VALUE=DATE:20250803
DTSTAMP:20260421T224957
CREATED:20250410T015215Z
LAST-MODIFIED:20250702T000844Z
UID:3842-1754092800-1754179199@zaidan-oki.com
SUMMARY:【文化会館】予約状況8/2
DESCRIPTION:室名\n午前(8:30～12:00)\n午後(12:00～17:00)\n夜間(17:00～22:00)\n\n\n\n\n大ホール\n×\n×\n×\n\n\n控室\n〇\n〇\n〇\n\n\nホワイエ\n〇\n〇\n〇\n\n\n小会議室\n〇\n〇\n〇\n\n\n研修室\n〇\n〇\n〇\n\n\n娯楽室\n〇\n〇\n〇\n\n\n保養室\n〇\n〇\n〇\n\n\n住民相談室\n〇\n〇\n〇\n\n\nコミュニケーション ホール\n〇\n〇\n〇\n\n\n集会室\n×\n×\n〇\n\n\n展示ホール\n〇\n〇\n〇\n\n\n調理実習室\n〇\n〇\n〇\n\n\n会議室\n〇\n〇\n〇\n\n\n産業研修室\n×\n×\n〇\n\n\n青年研修室\n〇\n×\n〇\n\n\n\n\n\n\n詳しくは文化会館（08512-2-0237）までお問い合わせください。
URL:https://zaidan-oki.com/event/%e3%80%90%e6%96%87%e5%8c%96%e4%bc%9a%e9%a4%a8%e3%80%91%e4%ba%88%e7%b4%84%e7%8a%b6%e6%b3%818-2/
ATTACH;FMTTYPE=:
END:VEVENT
BEGIN:VEVENT
DTSTART;VALUE=DATE:20250802
DTEND;VALUE=DATE:20250803
DTSTAMP:20260421T224957
CREATED:20250530T002254Z
LAST-MODIFIED:20250714T030100Z
UID:4779-1754092800-1754179199@zaidan-oki.com
SUMMARY:【体育館】予約状況8/2
DESCRIPTION:部屋名/室名\n8:30～13:00\n13:00～16:00\n16:00～20:00\n20:00～22:00\n\n\n\n\nアリーナA面\n×\n×\n〇\n〇\n\n\nアリーナB面\n×\n×\n〇\n〇\n\n\nアリーナC面\n×\n×\n〇\n〇\n\n\nトレーニング室\n×\n×\n〇\n〇\n\n\n会議室\n〇\n〇\n〇\n〇\n\n\nグラウンド\n×\n×\n〇\n〇\n\n\n\n詳しくは総合体育館(08512-3-0025）までお問い合わせください。
URL:https://zaidan-oki.com/event/%e3%80%90%e4%bd%93%e8%82%b2%e9%a4%a8%e3%80%91%e4%ba%88%e7%b4%84%e7%8a%b6%e6%b3%818-2/
ATTACH;FMTTYPE=:
END:VEVENT
BEGIN:VEVENT
DTSTART;VALUE=DATE:20250803
DTEND;VALUE=DATE:20250804
DTSTAMP:20260421T224957
CREATED:20250410T015309Z
LAST-MODIFIED:20250729T012934Z
UID:3844-1754179200-1754265599@zaidan-oki.com
SUMMARY:【文化会館】予約状況8/3
DESCRIPTION:室名\n午前(8:30～12:00)\n午後(12:00～17:00)\n夜間(17:00～22:00)\n\n\n\n\n大ホール\n×\n〇\n〇\n\n\n控室\n〇\n〇\n〇\n\n\nホワイエ\n〇\n〇\n〇\n\n\n小会議室\n〇\n〇\n〇\n\n\n研修室\n〇\n〇\n〇\n\n\n娯楽室\n〇\n〇\n〇\n\n\n保養室\n〇\n〇\n〇\n\n\n住民相談室\n〇\n〇\n〇\n\n\nコミュニケーション ホール\n〇\n〇\n〇\n\n\n集会室\n〇\n×\n〇\n\n\n展示ホール\n〇\n〇\n〇\n\n\n調理実習室\n〇\n〇\n〇\n\n\n会議室\n〇\n×\n〇\n\n\n産業研修室\n×\n〇\n〇\n\n\n青年研修室\n〇\n〇\n〇\n\n\n\n\n\n\n詳しくは文化会館（08512-2-0237）までお問い合わせください。
URL:https://zaidan-oki.com/event/%e3%80%90%e6%96%87%e5%8c%96%e4%bc%9a%e9%a4%a8%e3%80%91%e4%ba%88%e7%b4%84%e7%8a%b6%e6%b3%818-3/
ATTACH;FMTTYPE=:
END:VEVENT
BEGIN:VEVENT
DTSTART;VALUE=DATE:20250803
DTEND;VALUE=DATE:20250804
DTSTAMP:20260421T224957
CREATED:20250530T003805Z
LAST-MODIFIED:20250714T030158Z
UID:4781-1754179200-1754265599@zaidan-oki.com
SUMMARY:【体育館】予約状況8/3
DESCRIPTION:部屋名/室名\n8:30～13:00\n13:00～16:00\n16:00～20:00\n20:00～22:00\n\n\n\n\nアリーナA面\n×\n×\n〇\n〇\n\n\nアリーナB面\n×\n×\n〇\n〇\n\n\nアリーナC面\n×\n×\n〇\n×\n\n\nトレーニング室\n×\n〇\n〇\n×\n\n\n会議室\n〇\n〇\n〇\n〇\n\n\nグラウンド\n×\n×\n〇\n〇\n\n\n\n詳しくは総合体育館(08512-3-0025）までお問い合わせください。
URL:https://zaidan-oki.com/event/%e3%80%90%e4%bd%93%e8%82%b2%e9%a4%a8%e3%80%91%e4%ba%88%e7%b4%84%e7%8a%b6%e6%b3%818-3/
ATTACH;FMTTYPE=:
END:VEVENT
BEGIN:VEVENT
DTSTART;VALUE=DATE:20250804
DTEND;VALUE=DATE:20250805
DTSTAMP:20260421T224957
CREATED:20250410T015534Z
LAST-MODIFIED:20250410T015651Z
UID:3846-1754265600-1754351999@zaidan-oki.com
SUMMARY:【文化会館】予約状況8/4
DESCRIPTION:室名\n午前(8:30～12:00)\n午後(12:00～17:00)\n夜間(17:00～22:00)\n\n\n\n\n大ホール\n〇\n〇\n×\n\n\n控室\n〇\n〇\n×\n\n\nホワイエ\n〇\n〇\n×\n\n\n小会議室\n〇\n〇\n×\n\n\n研修室\n〇\n〇\n×\n\n\n娯楽室\n〇\n〇\n×\n\n\n保養室\n〇\n〇\n×\n\n\n住民相談室\n〇\n〇\n×\n\n\nコミュニケーション ホール\n〇\n〇\n×\n\n\n集会室\n×\n×\n×\n\n\n展示ホール\n〇\n〇\n×\n\n\n調理実習室\n〇\n〇\n×\n\n\n会議室\n〇\n〇\n×\n\n\n産業研修室\n×\n×\n×\n\n\n青年研修室\n〇\n〇\n×\n\n\n\n\n\n\n詳しくは文化会館（08512-2-0237）までお問い合わせください。
URL:https://zaidan-oki.com/event/3846/
ATTACH;FMTTYPE=:
END:VEVENT
BEGIN:VEVENT
DTSTART;VALUE=DATE:20250804
DTEND;VALUE=DATE:20250805
DTSTAMP:20260421T224957
CREATED:20250530T004335Z
LAST-MODIFIED:20250530T004335Z
UID:4783-1754265600-1754351999@zaidan-oki.com
SUMMARY:【体育館】予約状況8/4
DESCRIPTION:部屋名/室名\n8:30～13:00\n13:00～16:00\n16:00～20:00\n20:00～22:00\n\n\n\n\nアリーナA面\n〇\n×\n〇\n×\n\n\nアリーナB面\n〇\n×\n〇\n×\n\n\nアリーナC面\n〇\n×\n〇\n×\n\n\nトレーニング室\n〇\n×\n〇\n×\n\n\n会議室\n〇\n〇\n〇\n×\n\n\nグラウンド\n〇\n〇\n×\n×\n\n\n\n詳しくは総合体育館(08512-3-0025）までお問い合わせください。
URL:https://zaidan-oki.com/event/%e3%80%90%e4%bd%93%e8%82%b2%e9%a4%a8%e3%80%91%e4%ba%88%e7%b4%84%e7%8a%b6%e6%b3%818-4/
ATTACH;FMTTYPE=:
END:VEVENT
BEGIN:VEVENT
DTSTART;VALUE=DATE:20250805
DTEND;VALUE=DATE:20250806
DTSTAMP:20260421T224957
CREATED:20250410T020343Z
LAST-MODIFIED:20250702T001003Z
UID:3852-1754352000-1754438399@zaidan-oki.com
SUMMARY:【文化会館】予約状況8/5
DESCRIPTION:室名\n午前(8:30～12:00)\n午後(12:00～17:00)\n夜間(17:00～22:00)\n\n\n\n\n大ホール\n〇\n〇\n〇\n\n\n控室\n〇\n〇\n〇\n\n\nホワイエ\n〇\n〇\n〇\n\n\n小会議室\n〇\n〇\n〇\n\n\n研修室\n〇\n〇\n〇\n\n\n娯楽室\n〇\n〇\n〇\n\n\n保養室\n×\n×\n×\n\n\n住民相談室\n〇\n〇\n〇\n\n\nコミュニケーション ホール\n〇\n〇\n〇\n\n\n集会室\n〇\n〇\n〇\n\n\n展示ホール\n〇\n〇\n〇\n\n\n調理実習室\n〇\n〇\n〇\n\n\n会議室\n〇\n〇\n〇\n\n\n産業研修室\n〇\n〇\n〇\n\n\n青年研修室\n〇\n〇\n〇\n\n\n\n\n\n\n詳しくは文化会館（08512-2-0237）までお問い合わせください。
URL:https://zaidan-oki.com/event/%e3%80%90%e6%96%87%e5%8c%96%e4%bc%9a%e9%a4%a8%e3%80%91%e4%ba%88%e7%b4%84%e7%8a%b6%e6%b3%818-5-2/
ATTACH;FMTTYPE=:
END:VEVENT
BEGIN:VEVENT
DTSTART;VALUE=DATE:20250805
DTEND;VALUE=DATE:20250806
DTSTAMP:20260421T224957
CREATED:20250530T005624Z
LAST-MODIFIED:20250530T005624Z
UID:4785-1754352000-1754438399@zaidan-oki.com
SUMMARY:【体育館】予約状況8/5
DESCRIPTION:部屋名/室名\n8:30～13:00\n13:00～16:00\n16:00～20:00\n20:00～22:00\n\n\n\n\nアリーナA面\n×\n×\n×\n〇\n\n\nアリーナB面\n×\n×\n〇\n〇\n\n\nアリーナC面\n×\n×\n×\n×\n\n\nトレーニング室\n×\n×\n〇\n×\n\n\n会議室\n〇\n〇\n〇\n〇\n\n\nグラウンド\n〇\n〇\n×\n〇\n\n\n\n詳しくは総合体育館(08512-3-0025）までお問い合わせください。
URL:https://zaidan-oki.com/event/%e3%80%90%e4%bd%93%e8%82%b2%e9%a4%a8%e3%80%91%e4%ba%88%e7%b4%84%e7%8a%b6%e6%b3%818-5/
ATTACH;FMTTYPE=:
END:VEVENT
BEGIN:VEVENT
DTSTART;VALUE=DATE:20250806
DTEND;VALUE=DATE:20250807
DTSTAMP:20260421T224957
CREATED:20250410T020437Z
LAST-MODIFIED:20250729T013013Z
UID:3854-1754438400-1754524799@zaidan-oki.com
SUMMARY:【文化会館】予約状況8/6
DESCRIPTION:室名\n午前(8:30～12:00)\n午後(12:00～17:00)\n夜間(17:00～22:00)\n\n\n\n\n大ホール\n〇\n〇\n〇\n\n\n控室\n〇\n〇\n×\n\n\nホワイエ\n〇\n〇\n〇\n\n\n小会議室\n〇\n〇\n×\n\n\n研修室\n〇\n〇\n〇\n\n\n娯楽室\n〇\n〇\n×\n\n\n保養室\n×\n×\n×\n\n\n住民相談室\n〇\n〇\n〇\n\n\nコミュニケーション ホール\n〇\n〇\n〇\n\n\n集会室\n〇\n〇\n〇\n\n\n展示ホール\n〇\n〇\n〇\n\n\n調理実習室\n〇\n〇\n〇\n\n\n会議室\n〇\n〇\n〇\n\n\n産業研修室\n〇\n〇\n〇\n\n\n青年研修室\n〇\n〇\n〇\n\n\n\n\n\n\n詳しくは文化会館（08512-2-0237）までお問い合わせください。
URL:https://zaidan-oki.com/event/%e3%80%90%e6%96%87%e5%8c%96%e4%bc%9a%e9%a4%a8%e3%80%91%e4%ba%88%e7%b4%84%e7%8a%b6%e6%b3%818-6/
ATTACH;FMTTYPE=:
END:VEVENT
BEGIN:VEVENT
DTSTART;VALUE=DATE:20250806
DTEND;VALUE=DATE:20250807
DTSTAMP:20260421T224957
CREATED:20250530T012822Z
LAST-MODIFIED:20250530T012822Z
UID:4787-1754438400-1754524799@zaidan-oki.com
SUMMARY:【体育館】予約状況8/6
DESCRIPTION:部屋名/室名\n8:30～13:00\n13:00～16:00\n16:00～20:00\n20:00～22:00\n\n\n\n\nアリーナA面\n×\n×\n〇\n〇\n\n\nアリーナB面\n×\n〇\n〇\n×\n\n\nアリーナC面\n×\n〇\n〇\n×\n\n\nトレーニング室\n〇\n×\n〇\n×\n\n\n会議室\n〇\n〇\n〇\n〇\n\n\nグラウンド\n〇\n〇\n×\n〇\n\n\n\n詳しくは総合体育館(08512-3-0025）までお問い合わせください。
URL:https://zaidan-oki.com/event/%e3%80%90%e4%bd%93%e8%82%b2%e9%a4%a8%e3%80%91%e4%ba%88%e7%b4%84%e7%8a%b6%e6%b3%818-6/
ATTACH;FMTTYPE=:
END:VEVENT
BEGIN:VEVENT
DTSTART;VALUE=DATE:20250807
DTEND;VALUE=DATE:20250808
DTSTAMP:20260421T224957
CREATED:20250410T020529Z
LAST-MODIFIED:20250702T001133Z
UID:3856-1754524800-1754611199@zaidan-oki.com
SUMMARY:【文化会館】予約状況8/7
DESCRIPTION:室名\n午前(8:30～12:00)\n午後(12:00～17:00)\n夜間(17:00～22:00)\n\n\n\n\n大ホール\n〇\n〇\n〇\n\n\n控室\n〇\n〇\n〇\n\n\nホワイエ\n〇\n〇\n〇\n\n\n小会議室\n〇\n〇\n〇\n\n\n研修室\n〇\n〇\n〇\n\n\n娯楽室\n〇\n〇\n〇\n\n\n保養室\n×\n×\n×\n\n\n住民相談室\n〇\n×\n〇\n\n\nコミュニケーション ホール\n〇\n〇\n〇\n\n\n集会室\n〇\n×\n〇\n\n\n展示ホール\n〇\n〇\n〇\n\n\n調理実習室\n〇\n〇\n〇\n\n\n会議室\n〇\n〇\n〇\n\n\n産業研修室\n〇\n×\n〇\n\n\n青年研修室\n〇\n〇\n×\n\n\n\n\n\n\n詳しくは文化会館（08512-2-0237）までお問い合わせください。
URL:https://zaidan-oki.com/event/%e3%80%90%e6%96%87%e5%8c%96%e4%bc%9a%e9%a4%a8%e3%80%91%e4%ba%88%e7%b4%84%e7%8a%b6%e6%b3%818-7/
ATTACH;FMTTYPE=:
END:VEVENT
BEGIN:VEVENT
DTSTART;VALUE=DATE:20250807
DTEND;VALUE=DATE:20250808
DTSTAMP:20260421T224957
CREATED:20250530T014426Z
LAST-MODIFIED:20250530T014426Z
UID:4789-1754524800-1754611199@zaidan-oki.com
SUMMARY:【体育館】予約状況8/7
DESCRIPTION:部屋名/室名\n8:30～13:00\n13:00～16:00\n16:00～20:00\n20:00～22:00\n\n\n\n\nアリーナA面\n〇\n×\n×\n〇\n\n\nアリーナB面\n〇\n〇\n〇\n×\n\n\nアリーナC面\n×\n〇\n〇\n×\n\n\nトレーニング室\n×\n〇\n〇\n×\n\n\n会議室\n〇\n〇\n〇\n〇\n\n\nグラウンド\n〇\n〇\n×\n〇\n\n\n\n詳しくは総合体育館(08512-3-0025）までお問い合わせください。
URL:https://zaidan-oki.com/event/%e3%80%90%e4%bd%93%e8%82%b2%e9%a4%a8%e3%80%91%e4%ba%88%e7%b4%84%e7%8a%b6%e6%b3%818-7/
ATTACH;FMTTYPE=:
END:VEVENT
BEGIN:VEVENT
DTSTART;VALUE=DATE:20250808
DTEND;VALUE=DATE:20250809
DTSTAMP:20260421T224957
CREATED:20250410T020626Z
LAST-MODIFIED:20250729T013115Z
UID:3858-1754611200-1754697599@zaidan-oki.com
SUMMARY:【文化会館】予約状況8/8
DESCRIPTION:室名\n午前(8:30～12:00)\n午後(12:00～17:00)\n夜間(17:00～22:00)\n\n\n\n\n大ホール\n〇\n〇\n〇\n\n\n控室\n〇\n〇\n〇\n\n\nホワイエ\n〇\n〇\n×\n\n\n小会議室\n〇\n〇\n〇\n\n\n研修室\n〇\n〇\n〇\n\n\n娯楽室\n〇\n〇\n〇\n\n\n保養室\n×\n×\n×\n\n\n住民相談室\n〇\n〇\n〇\n\n\nコミュニケーション ホール\n〇\n〇\n〇\n\n\n集会室\n〇\n〇\n〇\n\n\n展示ホール\n〇\n〇\n〇\n\n\n調理実習室\n〇\n〇\n〇\n\n\n会議室\n〇\n〇\n〇\n\n\n産業研修室\n〇\n〇\n〇\n\n\n青年研修室\n〇\n×\n×\n\n\n\n\n\n\n詳しくは文化会館（08512-2-0237）までお問い合わせください。
URL:https://zaidan-oki.com/event/%e3%80%90%e6%96%87%e5%8c%96%e4%bc%9a%e9%a4%a8%e3%80%91%e4%ba%88%e7%b4%84%e7%8a%b6%e6%b3%818-8/
ATTACH;FMTTYPE=:
END:VEVENT
BEGIN:VEVENT
DTSTART;VALUE=DATE:20250808
DTEND;VALUE=DATE:20250809
DTSTAMP:20260421T224957
CREATED:20250530T023608Z
LAST-MODIFIED:20250530T023608Z
UID:4791-1754611200-1754697599@zaidan-oki.com
SUMMARY:【体育館】予約状況8/8
DESCRIPTION:部屋名/室名\n8:30～13:00\n13:00～16:00\n16:00～20:00\n20:00～22:00\n\n\n\n\nアリーナA面\n×\n×\n×\n×\n\n\nアリーナB面\n×\n〇\n〇\n〇\n\n\nアリーナC面\n×\n×\n〇\n×\n\n\nトレーニング室\n×\n×\n〇\n×\n\n\n会議室\n〇\n〇\n〇\n〇\n\n\nグラウンド\n〇\n〇\n×\n〇\n\n\n\n詳しくは総合体育館(08512-3-0025）までお問い合わせください。
URL:https://zaidan-oki.com/event/%e3%80%90%e4%bd%93%e8%82%b2%e9%a4%a8%e3%80%91%e4%ba%88%e7%b4%84%e7%8a%b6%e6%b3%818-8/
ATTACH;FMTTYPE=:
END:VEVENT
BEGIN:VEVENT
DTSTART;VALUE=DATE:20250809
DTEND;VALUE=DATE:20250810
DTSTAMP:20260421T224957
CREATED:20250410T020706Z
LAST-MODIFIED:20250702T001226Z
UID:3860-1754697600-1754783999@zaidan-oki.com
SUMMARY:【文化会館】予約状況8/9
DESCRIPTION:室名\n午前(8:30～12:00)\n午後(12:00～17:00)\n夜間(17:00～22:00)\n\n\n\n\n大ホール\n〇\n〇\n〇\n\n\n控室\n〇\n〇\n〇\n\n\nホワイエ\n〇\n〇\n〇\n\n\n小会議室\n〇\n×\n〇\n\n\n研修室\n〇\n〇\n〇\n\n\n娯楽室\n〇\n〇\n〇\n\n\n保養室\n〇\n〇\n〇\n\n\n住民相談室\n〇\n〇\n〇\n\n\nコミュニケーション ホール\n〇\n〇\n〇\n\n\n集会室\n〇\n〇\n〇\n\n\n展示ホール\n〇\n〇\n〇\n\n\n調理実習室\n〇\n〇\n〇\n\n\n会議室\n〇\n〇\n〇\n\n\n産業研修室\n〇\n〇\n〇\n\n\n青年研修室\n〇\n〇\n〇\n\n\n\n\n\n\n詳しくは文化会館（08512-2-0237）までお問い合わせください。
URL:https://zaidan-oki.com/event/%e3%80%90%e6%96%87%e5%8c%96%e4%bc%9a%e9%a4%a8%e3%80%91%e4%ba%88%e7%b4%84%e7%8a%b6%e6%b3%818-9/
ATTACH;FMTTYPE=:
END:VEVENT
BEGIN:VEVENT
DTSTART;VALUE=DATE:20250809
DTEND;VALUE=DATE:20250810
DTSTAMP:20260421T224957
CREATED:20250602T015936Z
LAST-MODIFIED:20250602T015936Z
UID:4798-1754697600-1754783999@zaidan-oki.com
SUMMARY:【体育館】予約状況8/9
DESCRIPTION:部屋名/室名\n8:30～13:00\n13:00～16:00\n16:00～20:00\n20:00～22:00\n\n\n\n\nアリーナA面\n×\n×\n〇\n〇\n\n\nアリーナB面\n×\n〇\n〇\n〇\n\n\nアリーナC面\n×\n〇\n〇\n〇\n\n\nトレーニング室\n×\n×\n〇\n〇\n\n\n会議室\n〇\n〇\n〇\n〇\n\n\nグラウンド\n×\n〇\n〇\n〇\n\n\n\n詳しくは総合体育館(08512-3-0025）までお問い合わせください。
URL:https://zaidan-oki.com/event/%e3%80%90%e4%bd%93%e8%82%b2%e9%a4%a8%e3%80%91%e4%ba%88%e7%b4%84%e7%8a%b6%e6%b3%818-9/
ATTACH;FMTTYPE=:
END:VEVENT
BEGIN:VEVENT
DTSTART;VALUE=DATE:20250810
DTEND;VALUE=DATE:20250811
DTSTAMP:20260421T224957
CREATED:20250410T020748Z
LAST-MODIFIED:20250410T020748Z
UID:3862-1754784000-1754870399@zaidan-oki.com
SUMMARY:【文化会館】予約状況8/10
DESCRIPTION:室名\n午前(8:30～12:00)\n午後(12:00～17:00)\n夜間(17:00～22:00)\n\n\n\n\n大ホール\n〇\n〇\n〇\n\n\n控室\n〇\n〇\n〇\n\n\nホワイエ\n〇\n〇\n〇\n\n\n小会議室\n〇\n〇\n〇\n\n\n研修室\n〇\n〇\n〇\n\n\n娯楽室\n〇\n〇\n〇\n\n\n保養室\n〇\n〇\n〇\n\n\n住民相談室\n〇\n〇\n〇\n\n\nコミュニケーション ホール\n〇\n〇\n〇\n\n\n集会室\n〇\n〇\n〇\n\n\n展示ホール\n〇\n〇\n〇\n\n\n調理実習室\n〇\n〇\n〇\n\n\n会議室\n〇\n〇\n〇\n\n\n産業研修室\n〇\n〇\n〇\n\n\n青年研修室\n〇\n〇\n〇\n\n\n\n\n\n\n詳しくは文化会館（08512-2-0237）までお問い合わせください。
URL:https://zaidan-oki.com/event/%e3%80%90%e6%96%87%e5%8c%96%e4%bc%9a%e9%a4%a8%e3%80%91%e4%ba%88%e7%b4%84%e7%8a%b6%e6%b3%818-10/
ATTACH;FMTTYPE=:
END:VEVENT
BEGIN:VEVENT
DTSTART;VALUE=DATE:20250810
DTEND;VALUE=DATE:20250811
DTSTAMP:20260421T224957
CREATED:20250602T020402Z
LAST-MODIFIED:20250602T063414Z
UID:4800-1754784000-1754870399@zaidan-oki.com
SUMMARY:【体育館】予約状況8/10
DESCRIPTION:部屋名/室名\n8:30～13:00\n13:00～16:00\n16:00～20:00\n20:00～22:00\n\n\n\n\nアリーナA面\n〇\n〇\n〇\n〇\n\n\nアリーナB面\n〇\n〇\n〇\n〇\n\n\nアリーナC面\n〇\n〇\n〇\n×\n\n\nトレーニング室\n〇\n〇\n〇\n×\n\n\n会議室\n〇\n〇\n〇\n〇\n\n\nグラウンド\n×\n〇\n〇\n〇\n\n\n\n詳しくは総合体育館(08512-3-0025）までお問い合わせください。
URL:https://zaidan-oki.com/event/%e3%80%90%e4%bd%93%e8%82%b2%e9%a4%a8%e3%80%91%e4%ba%88%e7%b4%84%e7%8a%b6%e6%b3%818-10/
ATTACH;FMTTYPE=:
END:VEVENT
BEGIN:VEVENT
DTSTART;VALUE=DATE:20250811
DTEND;VALUE=DATE:20250812
DTSTAMP:20260421T224957
CREATED:20250410T020927Z
LAST-MODIFIED:20250410T020927Z
UID:3864-1754870400-1754956799@zaidan-oki.com
SUMMARY:【文化会館】予約状況8/11
DESCRIPTION:室名\n午前(8:30～12:00)\n午後(12:00～17:00)\n夜間(17:00～22:00)\n\n\n\n\n大ホール\n〇\n〇\n×\n\n\n控室\n〇\n〇\n×\n\n\nホワイエ\n〇\n〇\n×\n\n\n小会議室\n〇\n〇\n×\n\n\n研修室\n〇\n〇\n×\n\n\n娯楽室\n〇\n〇\n×\n\n\n保養室\n〇\n〇\n×\n\n\n住民相談室\n〇\n〇\n×\n\n\nコミュニケーション ホール\n〇\n〇\n×\n\n\n集会室\n〇\n〇\n×\n\n\n展示ホール\n〇\n〇\n×\n\n\n調理実習室\n〇\n〇\n×\n\n\n会議室\n〇\n〇\n×\n\n\n産業研修室\n〇\n〇\n×\n\n\n青年研修室\n〇\n〇\n×\n\n\n\n\n\n\n詳しくは文化会館（08512-2-0237）までお問い合わせください。
URL:https://zaidan-oki.com/event/%e3%80%90%e6%96%87%e5%8c%96%e4%bc%9a%e9%a4%a8%e3%80%91%e4%ba%88%e7%b4%84%e7%8a%b6%e6%b3%818-11/
ATTACH;FMTTYPE=:
END:VEVENT
BEGIN:VEVENT
DTSTART;VALUE=DATE:20250811
DTEND;VALUE=DATE:20250812
DTSTAMP:20260421T224957
CREATED:20250605T003634Z
LAST-MODIFIED:20250605T003634Z
UID:4804-1754870400-1754956799@zaidan-oki.com
SUMMARY:【体育館】予約状況8/11
DESCRIPTION:部屋名/室名\n8:30～13:00\n13:00～16:00\n16:00～20:00\n20:00～22:00\n\n\n\n\nアリーナA面\n〇\n×\n〇\n×\n\n\nアリーナB面\n〇\n×\n〇\n×\n\n\nアリーナC面\n〇\n×\n〇\n×\n\n\nトレーニング室\n〇\n×\n〇\n×\n\n\n会議室\n〇\n〇\n〇\n×\n\n\nグラウンド\n×\n〇\n〇\n×\n\n\n\n詳しくは総合体育館(08512-3-0025）までお問い合わせください。
URL:https://zaidan-oki.com/event/%e3%80%90%e4%bd%93%e8%82%b2%e9%a4%a8%e3%80%91%e4%ba%88%e7%b4%84%e7%8a%b6%e6%b3%818-11/
ATTACH;FMTTYPE=:
END:VEVENT
BEGIN:VEVENT
DTSTART;VALUE=DATE:20250812
DTEND;VALUE=DATE:20250813
DTSTAMP:20260421T224957
CREATED:20250410T021041Z
LAST-MODIFIED:20250729T013147Z
UID:3866-1754956800-1755043199@zaidan-oki.com
SUMMARY:【文化会館】予約状況8/12
DESCRIPTION:室名\n午前(8:30～12:00)\n午後(12:00～17:00)\n夜間(17:00～22:00)\n\n\n\n\n大ホール\n〇\n〇\n〇\n\n\n控室\n〇\n〇\n〇\n\n\nホワイエ\n〇\n〇\n〇\n\n\n小会議室\n〇\n×\n×\n\n\n研修室\n〇\n〇\n〇\n\n\n娯楽室\n〇\n〇\n〇\n\n\n保養室\n〇\n〇\n〇\n\n\n住民相談室\n〇\n〇\n〇\n\n\nコミュニケーション ホール\n〇\n〇\n〇\n\n\n集会室\n〇\n〇\n〇\n\n\n展示ホール\n〇\n〇\n〇\n\n\n調理実習室\n〇\n〇\n〇\n\n\n会議室\n〇\n〇\n〇\n\n\n産業研修室\n〇\n〇\n〇\n\n\n青年研修室\n〇\n〇\n〇\n\n\n\n\n\n\n詳しくは文化会館（08512-2-0237）までお問い合わせください。
URL:https://zaidan-oki.com/event/%e3%80%90%e6%96%87%e5%8c%96%e4%bc%9a%e9%a4%a8%e3%80%91%e4%ba%88%e7%b4%84%e7%8a%b6%e6%b3%818-12/
ATTACH;FMTTYPE=:
END:VEVENT
BEGIN:VEVENT
DTSTART;VALUE=DATE:20250812
DTEND;VALUE=DATE:20250813
DTSTAMP:20260421T224957
CREATED:20250605T010951Z
LAST-MODIFIED:20250605T010951Z
UID:4806-1754956800-1755043199@zaidan-oki.com
SUMMARY:【体育館】予約状況8/12
DESCRIPTION:部屋名/室名\n8:30～13:00\n13:00～16:00\n16:00～20:00\n20:00～22:00\n\n\n\n\nアリーナA面\n〇\n×\n×\n〇\n\n\nアリーナB面\n×\n〇\n〇\n〇\n\n\nアリーナC面\n〇\n〇\n×\n×\n\n\nトレーニング室\n×\n×\n〇\n×\n\n\n会議室\n〇\n〇\n〇\n〇\n\n\nグラウンド\n〇\n〇\n×\n〇\n\n\n\n詳しくは総合体育館(08512-3-0025）までお問い合わせください。
URL:https://zaidan-oki.com/event/%e3%80%90%e4%bd%93%e8%82%b2%e9%a4%a8%e3%80%91%e4%ba%88%e7%b4%84%e7%8a%b6%e6%b3%818-12/
ATTACH;FMTTYPE=:
END:VEVENT
BEGIN:VEVENT
DTSTART;VALUE=DATE:20250813
DTEND;VALUE=DATE:20250814
DTSTAMP:20260421T224957
CREATED:20250410T021133Z
LAST-MODIFIED:20250410T021133Z
UID:3868-1755043200-1755129599@zaidan-oki.com
SUMMARY:【文化会館】予約状況8/13
DESCRIPTION:室名\n午前(8:30～12:00)\n午後(12:00～17:00)\n夜間(17:00～22:00)\n\n\n\n\n大ホール\n〇\n〇\n〇\n\n\n控室\n〇\n〇\n〇\n\n\nホワイエ\n〇\n〇\n〇\n\n\n小会議室\n〇\n〇\n〇\n\n\n研修室\n〇\n〇\n〇\n\n\n娯楽室\n〇\n〇\n〇\n\n\n保養室\n〇\n〇\n〇\n\n\n住民相談室\n〇\n〇\n〇\n\n\nコミュニケーション ホール\n〇\n〇\n〇\n\n\n集会室\n〇\n〇\n〇\n\n\n展示ホール\n〇\n〇\n〇\n\n\n調理実習室\n〇\n〇\n〇\n\n\n会議室\n〇\n〇\n〇\n\n\n産業研修室\n〇\n〇\n〇\n\n\n青年研修室\n〇\n〇\n〇\n\n\n\n\n\n\n詳しくは文化会館（08512-2-0237）までお問い合わせください。
URL:https://zaidan-oki.com/event/%e3%80%90%e6%96%87%e5%8c%96%e4%bc%9a%e9%a4%a8%e3%80%91%e4%ba%88%e7%b4%84%e7%8a%b6%e6%b3%818-13/
ATTACH;FMTTYPE=:
END:VEVENT
BEGIN:VEVENT
DTSTART;VALUE=DATE:20250813
DTEND;VALUE=DATE:20250814
DTSTAMP:20260421T224957
CREATED:20250605T015559Z
LAST-MODIFIED:20250605T015559Z
UID:4808-1755043200-1755129599@zaidan-oki.com
SUMMARY:【体育館】予約状況8/13
DESCRIPTION:部屋名/室名\n8:30～13:00\n13:00～16:00\n16:00～20:00\n20:00～22:00\n\n\n\n\nアリーナA面\n〇\n×\n〇\n〇\n\n\nアリーナB面\n〇\n〇\n〇\n×\n\n\nアリーナC面\n×\n〇\n〇\n×\n\n\nトレーニング室\n〇\n×\n〇\n×\n\n\n会議室\n×\n〇\n〇\n〇\n\n\nグラウンド\n〇\n〇\n×\n〇\n\n\n\n詳しくは総合体育館(08512-3-0025）までお問い合わせください。
URL:https://zaidan-oki.com/event/%e3%80%90%e4%bd%93%e8%82%b2%e9%a4%a8%e3%80%91%e4%ba%88%e7%b4%84%e7%8a%b6%e6%b3%818-13/
ATTACH;FMTTYPE=:
END:VEVENT
BEGIN:VEVENT
DTSTART;VALUE=DATE:20250814
DTEND;VALUE=DATE:20250815
DTSTAMP:20260421T224957
CREATED:20250410T021254Z
LAST-MODIFIED:20250702T001551Z
UID:3870-1755129600-1755215999@zaidan-oki.com
SUMMARY:【文化会館】利用状況8/14
DESCRIPTION:室名\n午前(8:30～12:00)\n午後(12:00～17:00)\n夜間(17:00～22:00)\n\n\n\n\n大ホール\n〇\n×\n×\n\n\n控室\n〇\n〇\n〇\n\n\nホワイエ\n〇\n×\n×\n\n\n小会議室\n〇\n×\n×\n\n\n研修室\n〇\n〇\n〇\n\n\n娯楽室\n〇\n〇\n〇\n\n\n保養室\n〇\n〇\n〇\n\n\n住民相談室\n〇\n〇\n〇\n\n\nコミュニケーション ホール\n〇\n〇\n〇\n\n\n集会室\n〇\n〇\n〇\n\n\n展示ホール\n〇\n〇\n〇\n\n\n調理実習室\n〇\n〇\n〇\n\n\n会議室\n〇\n〇\n〇\n\n\n産業研修室\n〇\n×\n〇\n\n\n青年研修室\n〇\n〇\n×\n\n\n\n\n\n\n詳しくは文化会館（08512-2-0237）までお問い合わせください。
URL:https://zaidan-oki.com/event/%e3%80%90%e6%96%87%e5%8c%96%e4%bc%9a%e9%a4%a8%e3%80%91%e5%88%a9%e7%94%a8%e7%8a%b6%e6%b3%818-14/
ATTACH;FMTTYPE=:
END:VEVENT
BEGIN:VEVENT
DTSTART;VALUE=DATE:20250814
DTEND;VALUE=DATE:20250815
DTSTAMP:20260421T224957
CREATED:20250605T021807Z
LAST-MODIFIED:20250605T021807Z
UID:4810-1755129600-1755215999@zaidan-oki.com
SUMMARY:【体育館】予約状況8/14
DESCRIPTION:部屋名/室名\n8:30～13:00\n13:00～16:00\n16:00～20:00\n20:00～22:00\n\n\n\n\nアリーナA面\n〇\n×\n×\n〇\n\n\nアリーナB面\n〇\n〇\n〇\n×\n\n\nアリーナC面\n×\n〇\n〇\n×\n\n\nトレーニング室\n×\n〇\n〇\n×\n\n\n会議室\n〇\n〇\n〇\n〇\n\n\nグラウンド\n×\n×\n×\n〇\n\n\n\n詳しくは総合体育館(08512-3-0025）までお問い合わせください。
URL:https://zaidan-oki.com/event/%e3%80%90%e4%bd%93%e8%82%b2%e9%a4%a8%e3%80%91%e4%ba%88%e7%b4%84%e7%8a%b6%e6%b3%818-14/
ATTACH;FMTTYPE=:
END:VEVENT
BEGIN:VEVENT
DTSTART;VALUE=DATE:20250815
DTEND;VALUE=DATE:20250816
DTSTAMP:20260421T224957
CREATED:20250410T021427Z
LAST-MODIFIED:20250729T013252Z
UID:3872-1755216000-1755302399@zaidan-oki.com
SUMMARY:【文化会館】予約状況8/15
DESCRIPTION:室名\n午前(8:30～12:00)\n午後(12:00～17:00)\n夜間(17:00～22:00)\n\n\n\n\n大ホール\n×\n〇\n〇\n\n\n控室\n×\n〇\n〇\n\n\nホワイエ\n×\n〇\n〇\n\n\n小会議室\n×\n〇\n〇\n\n\n研修室\n〇\n〇\n〇\n\n\n娯楽室\n〇\n〇\n〇\n\n\n保養室\n〇\n〇\n〇\n\n\n住民相談室\n〇\n〇\n〇\n\n\nコミュニケーション ホール\n〇\n〇\n〇\n\n\n集会室\n〇\n〇\n〇\n\n\n展示ホール\n〇\n〇\n〇\n\n\n調理実習室\n〇\n〇\n〇\n\n\n会議室\n〇\n〇\n〇\n\n\n産業研修室\n〇\n〇\n〇\n\n\n青年研修室\n〇\n〇\n〇\n\n\n\n\n\n\n詳しくは文化会館（08512-2-0237）までお問い合わせください。
URL:https://zaidan-oki.com/event/%e3%80%90%e6%96%87%e5%8c%96%e4%bc%9a%e9%a4%a8%e3%80%91%e4%ba%88%e7%b4%84%e7%8a%b6%e6%b3%818-15/
ATTACH;FMTTYPE=:
END:VEVENT
BEGIN:VEVENT
DTSTART;VALUE=DATE:20250815
DTEND;VALUE=DATE:20250816
DTSTAMP:20260421T224957
CREATED:20250605T022756Z
LAST-MODIFIED:20250605T022756Z
UID:4812-1755216000-1755302399@zaidan-oki.com
SUMMARY:【体育館】予約状況8/15
DESCRIPTION:部屋名/室名\n8:30～13:00\n13:00～16:00\n16:00～20:00\n20:00～22:00\n\n\n\n\nアリーナA面\n〇\n×\n×\n×\n\n\nアリーナB面\n〇\n〇\n〇\n〇\n\n\nアリーナC面\n〇\n×\n〇\n×\n\n\nトレーニング室\n×\n×\n〇\n×\n\n\n会議室\n〇\n〇\n〇\n〇\n\n\nグラウンド\n〇\n〇\n×\n〇\n\n\n\n詳しくは総合体育館(08512-3-0025）までお問い合わせください。
URL:https://zaidan-oki.com/event/%e3%80%90%e4%bd%93%e8%82%b2%e9%a4%a8%e3%80%91%e4%ba%88%e7%b4%84%e7%8a%b6%e6%b3%818-15/
ATTACH;FMTTYPE=:
END:VEVENT
END:VCALENDAR