BEGIN:VCALENDAR
VERSION:2.0
PRODID:-//隠岐の島町教育文化振興財団 - ECPv6.15.20//NONSGML v1.0//EN
CALSCALE:GREGORIAN
METHOD:PUBLISH
X-ORIGINAL-URL:https://zaidan-oki.com
X-WR-CALDESC:隠岐の島町教育文化振興財団 のイベント
REFRESH-INTERVAL;VALUE=DURATION:PT1H
X-Robots-Tag:noindex
X-PUBLISHED-TTL:PT1H
BEGIN:VTIMEZONE
TZID:Asia/Tokyo
BEGIN:STANDARD
TZOFFSETFROM:+0900
TZOFFSETTO:+0900
TZNAME:JST
DTSTART:20240101T000000
END:STANDARD
END:VTIMEZONE
BEGIN:VEVENT
DTSTART;VALUE=DATE:20251001
DTEND;VALUE=DATE:20251002
DTSTAMP:20260421T191106
CREATED:20250410T063523Z
LAST-MODIFIED:20250829T044934Z
UID:3987-1759276800-1759363199@zaidan-oki.com
SUMMARY:【文化会館】予約状況10/1
DESCRIPTION:室名\n午前(8:30～12:00)\n午後(12:00～17:00)\n夜間(17:00～22:00)\n\n\n\n\n大ホール\n〇\n〇\n〇\n\n\n控室\n〇\n〇\n〇\n\n\nホワイエ\n〇\n〇\n〇\n\n\n小会議室\n〇\n〇\n〇\n\n\n研修室\n〇\n〇\n〇\n\n\n娯楽室\n〇\n〇\n〇\n\n\n保養室\n〇\n〇\n〇\n\n\n住民相談室\n〇\n〇\n〇\n\n\nコミュニケーション ホール\n〇\n〇\n〇\n\n\n集会室\n〇\n〇\n〇\n\n\n展示ホール\n〇\n〇\n〇\n\n\n調理実習室\n〇\n〇\n〇\n\n\n会議室\n〇\n〇\n〇\n\n\n産業研修室\n〇\n〇\n〇\n\n\n青年研修室\n〇\n×\n×\n\n\n\n\n\n\n詳しくは文化会館（08512-2-0237）までお問い合わせください。
URL:https://zaidan-oki.com/event/%e3%80%90%e6%96%87%e5%8c%96%e4%bc%9a%e9%a4%a8%e3%80%91%e4%ba%88%e7%b4%84%e7%8a%b6%e6%b3%8110-1/
ATTACH;FMTTYPE=:
END:VEVENT
BEGIN:VEVENT
DTSTART;VALUE=DATE:20251001
DTEND;VALUE=DATE:20251002
DTSTAMP:20260421T191106
CREATED:20250722T014428Z
LAST-MODIFIED:20250926T004859Z
UID:5259-1759276800-1759363199@zaidan-oki.com
SUMMARY:【体育館】予約状況10/1
DESCRIPTION:部屋名/室名\n8:30～13:00\n13:00～16:00\n16:00～20:00\n20:00～22:00\n\n\n\n\nアリーナA面\n〇\n×\n×\n〇\n\n\nアリーナB面\n〇\n〇\n〇\n×\n\n\nアリーナC面\n×\n〇\n×\n×\n\n\nトレーニング室\n〇\n×\n〇\n×\n\n\n会議室\n〇\n〇\n〇\n〇\n\n\nグラウンド\n〇\n〇\n×\n〇\n\n\n\n詳しくは総合体育館(08512-3-0025）までお問い合わせください。
URL:https://zaidan-oki.com/event/%e3%80%90%e4%bd%93%e8%82%b2%e9%a4%a8%e3%80%91%e4%ba%88%e7%b4%84%e7%8a%b6%e6%b3%8110-1/
ATTACH;FMTTYPE=:
END:VEVENT
BEGIN:VEVENT
DTSTART;VALUE=DATE:20251002
DTEND;VALUE=DATE:20251003
DTSTAMP:20260421T191106
CREATED:20250410T064358Z
LAST-MODIFIED:20250729T014709Z
UID:3991-1759363200-1759449599@zaidan-oki.com
SUMMARY:【文化会館】予約状況10/2
DESCRIPTION:室名\n午前(8:30～12:00)\n午後(12:00～17:00)\n夜間(17:00～22:00)\n\n\n\n\n大ホール\n〇\n〇\n〇\n\n\n控室\n〇\n〇\n〇\n\n\nホワイエ\n〇\n〇\n〇\n\n\n小会議室\n〇\n×\n〇\n\n\n研修室\n〇\n〇\n〇\n\n\n娯楽室\n〇\n〇\n×\n\n\n保養室\n〇\n〇\n〇\n\n\n住民相談室\n〇\n×\n〇\n\n\nコミュニケーション ホール\n〇\n〇\n〇\n\n\n集会室\n×\n〇\n〇\n\n\n展示ホール\n〇\n〇\n〇\n\n\n調理実習室\n〇\n〇\n〇\n\n\n会議室\n〇\n〇\n〇\n\n\n産業研修室\n〇\n×\n〇\n\n\n青年研修室\n×\n×\n×\n\n\n\n\n\n\n詳しくは文化会館（08512-2-0237）までお問い合わせください。
URL:https://zaidan-oki.com/event/%e3%80%90%e6%96%87%e5%8c%96%e4%bc%9a%e9%a4%a8%e3%80%91%e4%ba%88%e7%b4%84%e7%8a%b6%e6%b3%8110-2/
ATTACH;FMTTYPE=:
END:VEVENT
BEGIN:VEVENT
DTSTART;VALUE=DATE:20251002
DTEND;VALUE=DATE:20251003
DTSTAMP:20260421T191106
CREATED:20250722T014759Z
LAST-MODIFIED:20250926T005418Z
UID:5261-1759363200-1759449599@zaidan-oki.com
SUMMARY:【体育館】予約状況10/2
DESCRIPTION:部屋名/室名\n8:30～13:00\n13:00～16:00\n16:00～20:00\n20:00～22:00\n\n\n\n\nアリーナA面\n〇\n×\n×\n〇\n\n\nアリーナB面\n〇\n〇\n×\n×\n\n\nアリーナC面\n×\n〇\n〇\n×\n\n\nトレーニング室\n×\n×\n〇\n×\n\n\n会議室\n〇\n〇\n〇\n〇\n\n\nグラウンド\n〇\n〇\n×\n〇\n\n\n\n詳しくは総合体育館(08512-3-0025）までお問い合わせください。
URL:https://zaidan-oki.com/event/%e3%80%90%e4%bd%93%e8%82%b2%e9%a4%a8%e3%80%91%e4%ba%88%e7%b4%84%e7%8a%b6%e6%b3%8110-2/
ATTACH;FMTTYPE=:
END:VEVENT
BEGIN:VEVENT
DTSTART;VALUE=DATE:20251003
DTEND;VALUE=DATE:20251004
DTSTAMP:20260421T191106
CREATED:20250410T064537Z
LAST-MODIFIED:20250829T045007Z
UID:3993-1759449600-1759535999@zaidan-oki.com
SUMMARY:【文化会館】予約状況10/3
DESCRIPTION:室名\n午前(8:30～12:00)\n午後(12:00～17:00)\n夜間(17:00～22:00)\n\n\n\n\n大ホール\n〇\n〇\n〇\n\n\n控室\n〇\n〇\n〇\n\n\nホワイエ\n〇\n〇\n×\n\n\n小会議室\n〇\n〇\n〇\n\n\n研修室\n〇\n〇\n〇\n\n\n娯楽室\n〇\n〇\n〇\n\n\n保養室\n〇\n〇\n〇\n\n\n住民相談室\n×\n×\n〇\n\n\nコミュニケーション ホール\n〇\n〇\n〇\n\n\n集会室\n〇\n〇\n〇\n\n\n展示ホール\n〇\n〇\n〇\n\n\n調理実習室\n〇\n〇\n〇\n\n\n会議室\n〇\n〇\n〇\n\n\n産業研修室\n〇\n×\n〇\n\n\n青年研修室\n〇\n〇\n〇\n\n\n\n\n\n\n詳しくは文化会館（08512-2-0237）までお問い合わせください。
URL:https://zaidan-oki.com/event/%e3%80%90%e6%96%87%e5%8c%96%e4%bc%9a%e9%a4%a8%e3%80%91%e4%ba%88%e7%b4%84%e7%8a%b6%e6%b3%8110-3/
ATTACH;FMTTYPE=:
END:VEVENT
BEGIN:VEVENT
DTSTART;VALUE=DATE:20251003
DTEND;VALUE=DATE:20251004
DTSTAMP:20260421T191106
CREATED:20250722T015146Z
LAST-MODIFIED:20250926T005855Z
UID:5263-1759449600-1759535999@zaidan-oki.com
SUMMARY:【体育館】予約状況10/3
DESCRIPTION:部屋名/室名\n8:30～13:00\n13:00～16:00\n16:00～20:00\n20:00～22:00\n\n\n\n\nアリーナA面\n〇\n×\n×\n×\n\n\nアリーナB面\n〇\n〇\n×\n〇\n\n\nアリーナC面\n〇\n×\n〇\n×\n\n\nトレーニング室\n×\n×\n〇\n×\n\n\n会議室\n〇\n〇\n〇\n〇\n\n\nグラウンド\n〇\n〇\n〇\n〇\n\n\n\n詳しくは総合体育館(08512-3-0025）までお問い合わせください。
URL:https://zaidan-oki.com/event/%e3%80%90%e4%bd%93%e8%82%b2%e9%a4%a8%e3%80%91%e4%ba%88%e7%b4%84%e7%8a%b6%e6%b3%8110-3/
ATTACH;FMTTYPE=:
END:VEVENT
BEGIN:VEVENT
DTSTART;VALUE=DATE:20251004
DTEND;VALUE=DATE:20251005
DTSTAMP:20260421T191106
CREATED:20250410T064651Z
LAST-MODIFIED:20250730T081319Z
UID:3995-1759536000-1759622399@zaidan-oki.com
SUMMARY:【文化会館】予約状況10/4
DESCRIPTION:室名\n午前(8:30～12:00)\n午後(12:00～17:00)\n夜間(17:00～22:00)\n\n\n\n\n大ホール\n〇\n×\n×\n\n\n控室\n〇\n×\n×\n\n\nホワイエ\n〇\n×\n×\n\n\n小会議室\n〇\n×\n×\n\n\n研修室\n〇\n×\n×\n\n\n娯楽室\n〇\n×\n×\n\n\n保養室\n〇\n×\n×\n\n\n住民相談室\n〇\n×\n×\n\n\nコミュニケーション ホール\n〇\n×\n×\n\n\n集会室\n×\n×\n×\n\n\n展示ホール\n〇\n×\n×\n\n\n調理実習室\n×\n×\n×\n\n\n会議室\n〇\n×\n×\n\n\n産業研修室\n〇\n×\n×\n\n\n青年研修室\n〇\n×\n×\n\n\n\n\n\n\n詳しくは文化会館（08512-2-0237）までお問い合わせください。
URL:https://zaidan-oki.com/event/%e3%80%90%e6%96%87%e5%8c%96%e4%bc%9a%e9%a4%a8%e3%80%91%e4%ba%88%e7%b4%84%e7%8a%b6%e6%b3%8110-4/
ATTACH;FMTTYPE=:
END:VEVENT
BEGIN:VEVENT
DTSTART;VALUE=DATE:20251004
DTEND;VALUE=DATE:20251005
DTSTAMP:20260421T191106
CREATED:20250722T020330Z
LAST-MODIFIED:20250926T010423Z
UID:5265-1759536000-1759622399@zaidan-oki.com
SUMMARY:【体育館】予約状況10/4
DESCRIPTION:部屋名/室名\n8:30～13:00\n13:00～16:00\n16:00～20:00\n20:00～22:00\n\n\n\n\nアリーナA面\n×\n×\n〇\n〇\n\n\nアリーナB面\n×\n〇\n〇\n〇\n\n\nアリーナC面\n×\n×\n〇\n〇\n\n\nトレーニング室\n×\n×\n〇\n〇\n\n\n会議室\n〇\n〇\n〇\n〇\n\n\nグラウンド\n×\n×\n〇\n〇\n\n\n\n詳しくは総合体育館(08512-3-0025）までお問い合わせください。
URL:https://zaidan-oki.com/event/%e3%80%90%e4%bd%93%e8%82%b2%e9%a4%a8%e3%80%91%e4%ba%88%e7%b4%84%e7%8a%b6%e6%b3%8110-4/
ATTACH;FMTTYPE=:
END:VEVENT
BEGIN:VEVENT
DTSTART;VALUE=DATE:20251005
DTEND;VALUE=DATE:20251006
DTSTAMP:20260421T191106
CREATED:20250410T064737Z
LAST-MODIFIED:20250829T045149Z
UID:3997-1759622400-1759708799@zaidan-oki.com
SUMMARY:【文化会館】予約状況10/5
DESCRIPTION:室名\n午前(8:30～12:00)\n午後(12:00～17:00)\n夜間(17:00～22:00)\n\n\n\n\n大ホール\n×\n×\n〇\n\n\n控室\n×\n×\n〇\n\n\nホワイエ\n×\n×\n〇\n\n\n小会議室\n×\n×\n〇\n\n\n研修室\n×\n×\n〇\n\n\n娯楽室\n×\n×\n〇\n\n\n保養室\n×\n×\n〇\n\n\n住民相談室\n×\n×\n〇\n\n\nコミュニケーション ホール\n×\n×\n〇\n\n\n集会室\n×\n×\n〇\n\n\n展示ホール\n×\n×\n〇\n\n\n調理実習室\n×\n×\n〇\n\n\n会議室\n×\n×\n〇\n\n\n産業研修室\n×\n×\n〇\n\n\n青年研修室\n×\n×\n〇\n\n\n\n\n\n\n詳しくは文化会館（08512-2-0237）までお問い合わせください。
URL:https://zaidan-oki.com/event/%e3%80%90%e6%96%87%e5%8c%96%e4%bc%9a%e9%a4%a8%e3%80%91%e4%ba%88%e7%b4%84%e7%8a%b6%e6%b3%8110-5/
ATTACH;FMTTYPE=:
END:VEVENT
BEGIN:VEVENT
DTSTART;VALUE=DATE:20251005
DTEND;VALUE=DATE:20251006
DTSTAMP:20260421T191106
CREATED:20250722T023618Z
LAST-MODIFIED:20250926T010636Z
UID:5267-1759622400-1759708799@zaidan-oki.com
SUMMARY:【体育館】予約状況10/5
DESCRIPTION:部屋名/室名\n8:30～13:00\n13:00～16:00\n16:00～20:00\n20:00～22:00\n\n\n\n\nアリーナA面\n×\n〇\n〇\n〇\n\n\nアリーナB面\n×\n〇\n〇\n〇\n\n\nアリーナC面\n×\n〇\n〇\n×\n\n\nトレーニング室\n〇\n〇\n〇\n×\n\n\n会議室\n〇\n〇\n〇\n〇\n\n\nグラウンド\n×\n×\n〇\n〇\n\n\n\n詳しくは総合体育館(08512-3-0025）までお問い合わせください。
URL:https://zaidan-oki.com/event/%e3%80%90%e4%bd%93%e8%82%b2%e9%a4%a8%e3%80%91%e4%ba%88%e7%b4%84%e7%8a%b6%e6%b3%8110-5/
ATTACH;FMTTYPE=:
END:VEVENT
BEGIN:VEVENT
DTSTART;VALUE=DATE:20251006
DTEND;VALUE=DATE:20251007
DTSTAMP:20260421T191106
CREATED:20250410T064932Z
LAST-MODIFIED:20250702T004009Z
UID:3999-1759708800-1759795199@zaidan-oki.com
SUMMARY:【文化会館】予約状況10/6
DESCRIPTION:室名\n午前(8:30～12:00)\n午後(12:00～17:00)\n夜間(17:00～22:00)\n\n\n\n\n大ホール\n〇\n〇\n×\n\n\n控室\n〇\n〇\n×\n\n\nホワイエ\n〇\n〇\n×\n\n\n小会議室\n〇\n〇\n×\n\n\n研修室\n〇\n〇\n×\n\n\n娯楽室\n〇\n〇\n×\n\n\n保養室\n〇\n〇\n×\n\n\n住民相談室\n〇\n〇\n×\n\n\nコミュニケーション ホール\n〇\n〇\n×\n\n\n集会室\n〇\n×\n×\n\n\n展示ホール\n〇\n×\n×\n\n\n調理実習室\n〇\n〇\n×\n\n\n会議室\n〇\n〇\n×\n\n\n産業研修室\n〇\n×\n×\n\n\n青年研修室\n〇\n×\n×\n\n\n\n\n\n\n詳しくは文化会館（08512-2-0237）までお問い合わせください。
URL:https://zaidan-oki.com/event/%e3%80%90%e6%96%87%e5%8c%96%e4%bc%9a%e9%a4%a8%e3%80%91%e4%ba%88%e7%b4%84%e7%8a%b6%e6%b3%8110-6/
ATTACH;FMTTYPE=:
END:VEVENT
BEGIN:VEVENT
DTSTART;VALUE=DATE:20251006
DTEND;VALUE=DATE:20251007
DTSTAMP:20260421T191106
CREATED:20250722T024152Z
LAST-MODIFIED:20250926T010934Z
UID:5270-1759708800-1759795199@zaidan-oki.com
SUMMARY:【体育館】予約状況10/6
DESCRIPTION:部屋名/室名\n8:30～13:00\n13:00～16:00\n16:00～20:00\n20:00～22:00\n\n\n\n\nアリーナA面\n〇\n〇\n×\n×\n\n\nアリーナB面\n〇\n×\n×\n×\n\n\nアリーナC面\n〇\n×\n×\n×\n\n\nトレーニング室\n〇\n×\n〇\n×\n\n\n会議室\n〇\n〇\n〇\n×\n\n\nグラウンド\n〇\n〇\n〇\n×\n\n\n\n詳しくは総合体育館(08512-3-0025）までお問い合わせください。
URL:https://zaidan-oki.com/event/%e3%80%90%e4%bd%93%e8%82%b2%e9%a4%a8%e3%80%91%e4%ba%88%e7%b4%84%e7%8a%b6%e6%b3%8110-6/
ATTACH;FMTTYPE=:
END:VEVENT
BEGIN:VEVENT
DTSTART;VALUE=DATE:20251007
DTEND;VALUE=DATE:20251008
DTSTAMP:20260421T191106
CREATED:20250410T065100Z
LAST-MODIFIED:20250516T002755Z
UID:4001-1759795200-1759881599@zaidan-oki.com
SUMMARY:【文化会館】予約状況10/7
DESCRIPTION:室名\n午前(8:30～12:00)\n午後(12:00～17:00)\n夜間(17:00～22:00)\n\n\n\n\n大ホール\n〇\n〇\n〇\n\n\n控室\n〇\n〇\n〇\n\n\nホワイエ\n〇\n〇\n〇\n\n\n小会議室\n〇\n〇\n〇\n\n\n研修室\n〇\n〇\n〇\n\n\n娯楽室\n〇\n〇\n〇\n\n\n保養室\n〇\n〇\n〇\n\n\n住民相談室\n〇\n×\n〇\n\n\nコミュニケーション ホール\n〇\n〇\n〇\n\n\n集会室\n×\n×\n×\n\n\n展示ホール\n×\n×\n×\n\n\n調理実習室\n〇\n〇\n〇\n\n\n会議室\n〇\n〇\n〇\n\n\n産業研修室\n×\n×\n×\n\n\n青年研修室\n×\n×\n×\n\n\n\n\n\n\n詳しくは文化会館（08512-2-0237）までお問い合わせください。
URL:https://zaidan-oki.com/event/%e3%80%90%e6%96%87%e5%8c%96%e4%bc%9a%e9%a4%a8%e3%80%91%e4%ba%88%e7%b4%84%e7%8a%b6%e6%b3%8110-7/
ATTACH;FMTTYPE=:
END:VEVENT
BEGIN:VEVENT
DTSTART;VALUE=DATE:20251007
DTEND;VALUE=DATE:20251008
DTSTAMP:20260421T191106
CREATED:20250722T054102Z
LAST-MODIFIED:20250926T011138Z
UID:5272-1759795200-1759881599@zaidan-oki.com
SUMMARY:【体育館】予約状況10/7
DESCRIPTION:部屋名/室名\n8:30～13:00\n13:00～16:00\n16:00～20:00\n20:00～22:00\n\n\n\n\nアリーナA面\n〇\n×\n×\n〇\n\n\nアリーナB面\n×\n〇\n×\n〇\n\n\nアリーナC面\n〇\n〇\n〇\n×\n\n\nトレーニング室\n×\n×\n〇\n×\n\n\n会議室\n〇\n〇\n〇\n〇\n\n\nグラウンド\n〇\n〇\n×\n〇\n\n\n\n詳しくは総合体育館(08512-3-0025）までお問い合わせください。
URL:https://zaidan-oki.com/event/%e3%80%90%e4%bd%93%e8%82%b2%e9%a4%a8%e3%80%91%e4%ba%88%e7%b4%84%e7%8a%b6%e6%b3%8110-7/
ATTACH;FMTTYPE=:
END:VEVENT
BEGIN:VEVENT
DTSTART;VALUE=DATE:20251008
DTEND;VALUE=DATE:20251009
DTSTAMP:20260421T191106
CREATED:20250410T065228Z
LAST-MODIFIED:20250829T045309Z
UID:4003-1759881600-1759967999@zaidan-oki.com
SUMMARY:【文化会館】予約状況10/8
DESCRIPTION:室名\n午前(8:30～12:00)\n午後(12:00～17:00)\n夜間(17:00～22:00)\n\n\n\n\n大ホール\n〇\n〇\n〇\n\n\n控室\n〇\n〇\n〇\n\n\nホワイエ\n〇\n〇\n〇\n\n\n小会議室\n〇\n〇\n〇\n\n\n研修室\n〇\n×\n〇\n\n\n娯楽室\n〇\n〇\n〇\n\n\n保養室\n〇\n〇\n〇\n\n\n住民相談室\n〇\n〇\n〇\n\n\nコミュニケーション ホール\n〇\n〇\n〇\n\n\n集会室\n×\n×\n〇\n\n\n展示ホール\n×\n×\n〇\n\n\n調理実習室\n〇\n〇\n〇\n\n\n会議室\n〇\n〇\n〇\n\n\n産業研修室\n×\n×\n〇\n\n\n青年研修室\n×\n×\n〇\n\n\n\n\n\n\n詳しくは文化会館（08512-2-0237）までお問い合わせください。
URL:https://zaidan-oki.com/event/%e3%80%90%e6%96%87%e5%8c%96%e4%bc%9a%e9%a4%a8%e3%80%91%e4%ba%88%e7%b4%84%e7%8a%b6%e6%b3%8110-8/
ATTACH;FMTTYPE=:
END:VEVENT
BEGIN:VEVENT
DTSTART;VALUE=DATE:20251008
DTEND;VALUE=DATE:20251009
DTSTAMP:20260421T191106
CREATED:20250722T054624Z
LAST-MODIFIED:20250926T025120Z
UID:5276-1759881600-1759967999@zaidan-oki.com
SUMMARY:【体育館】予約状況10/8
DESCRIPTION:部屋名/室名\n8:30～13:00\n13:00～16:00\n16:00～20:00\n20:00～22:00\n\n\n\n\nアリーナA面\n〇\n×\n×\n×\n\n\nアリーナB面\n〇\n〇\n〇\n×\n\n\nアリーナC面\n×\n×\n×\n×\n\n\nトレーニング室\n〇\n×\n〇\n×\n\n\n会議室\n×\n〇\n〇\n〇\n\n\nグラウンド\n〇\n×\n×\n〇\n\n\n\n詳しくは総合体育館(08512-3-0025）までお問い合わせください。
URL:https://zaidan-oki.com/event/%e3%80%90%e4%bd%93%e8%82%b2%e9%a4%a8%e3%80%91%e4%ba%88%e7%b4%84%e7%8a%b6%e6%b3%8110-8/
ATTACH;FMTTYPE=:
END:VEVENT
BEGIN:VEVENT
DTSTART;VALUE=DATE:20251009
DTEND;VALUE=DATE:20251010
DTSTAMP:20260421T191106
CREATED:20250410T065317Z
LAST-MODIFIED:20250729T014859Z
UID:4005-1759968000-1760054399@zaidan-oki.com
SUMMARY:【文化会館】予約状況10/9
DESCRIPTION:室名\n午前(8:30～12:00)\n午後(12:00～17:00)\n夜間(17:00～22:00)\n\n\n\n\n大ホール\n〇\n〇\n〇\n\n\n控室\n〇\n〇\n〇\n\n\nホワイエ\n〇\n〇\n〇\n\n\n小会議室\n〇\n〇\n〇\n\n\n研修室\n〇\n〇\n〇\n\n\n娯楽室\n〇\n〇\n×\n\n\n保養室\n〇\n〇\n〇\n\n\n住民相談室\n〇\n〇\n〇\n\n\nコミュニケーション ホール\n〇\n〇\n〇\n\n\n集会室\n〇\n〇\n〇\n\n\n展示ホール\n〇\n〇\n〇\n\n\n調理実習室\n〇\n〇\n〇\n\n\n会議室\n〇\n〇\n〇\n\n\n産業研修室\n〇\n×\n〇\n\n\n青年研修室\n〇\n〇\n×\n\n\n\n\n\n\n詳しくは文化会館（08512-2-0237）までお問い合わせください。
URL:https://zaidan-oki.com/event/%e3%80%90%e6%96%87%e5%8c%96%e4%bc%9a%e9%a4%a8%e3%80%91%e4%ba%88%e7%b4%84%e7%8a%b6%e6%b3%8110-9/
ATTACH;FMTTYPE=:
END:VEVENT
BEGIN:VEVENT
DTSTART;VALUE=DATE:20251009
DTEND;VALUE=DATE:20251010
DTSTAMP:20260421T191106
CREATED:20250926T025357Z
LAST-MODIFIED:20251009T040736Z
UID:5568-1759968000-1760054399@zaidan-oki.com
SUMMARY:【体育館】予約状況10/9
DESCRIPTION:部屋名/室名\n8:30～13:00\n13:00～16:00\n16:00～20:00\n20:00～22:00\n\n\n\n\nアリーナA面\n×\n×\n×\n×\n\n\nアリーナB面\n×\n×\n×\n×\n\n\nアリーナC面\n×\n×\n×\n×\n\n\nトレーニング室\n×\n〇\n〇\n×\n\n\n会議室\n〇\n〇\n〇\n〇\n\n\nグラウンド\n×\n×\n×\n〇\n\n\n\n詳しくは総合体育館(08512-3-0025）までお問い合わせください。
URL:https://zaidan-oki.com/event/%e3%80%90%e4%bd%93%e8%82%b2%e9%a4%a8%e3%80%91%e5%88%a9%e7%94%a8%e7%8a%b6%e6%b3%8110-9/
ATTACH;FMTTYPE=:
END:VEVENT
BEGIN:VEVENT
DTSTART;VALUE=DATE:20251010
DTEND;VALUE=DATE:20251011
DTSTAMP:20260421T191106
CREATED:20250410T065353Z
LAST-MODIFIED:20250702T004121Z
UID:4007-1760054400-1760140799@zaidan-oki.com
SUMMARY:【文化会館】予約状況10/10
DESCRIPTION:室名\n午前(8:30～12:00)\n午後(12:00～17:00)\n夜間(17:00～22:00)\n\n\n\n\n大ホール\n〇\n〇\n〇\n\n\n控室\n〇\n〇\n〇\n\n\nホワイエ\n〇\n〇\n×\n\n\n小会議室\n〇\n〇\n〇\n\n\n研修室\n〇\n〇\n〇\n\n\n娯楽室\n〇\n〇\n〇\n\n\n保養室\n〇\n〇\n〇\n\n\n住民相談室\n〇\n〇\n〇\n\n\nコミュニケーション ホール\n〇\n〇\n〇\n\n\n集会室\n〇\n〇\n〇\n\n\n展示ホール\n〇\n〇\n〇\n\n\n調理実習室\n〇\n〇\n〇\n\n\n会議室\n〇\n〇\n〇\n\n\n産業研修室\n〇\n〇\n〇\n\n\n青年研修室\n〇\n〇\n〇\n\n\n\n\n\n\n詳しくは文化会館（08512-2-0237）までお問い合わせください。
URL:https://zaidan-oki.com/event/%e3%80%90%e6%96%87%e5%8c%96%e4%bc%9a%e9%a4%a8%e3%80%91%e4%ba%88%e7%b4%84%e7%8a%b6%e6%b3%8110-10/
ATTACH;FMTTYPE=:
END:VEVENT
BEGIN:VEVENT
DTSTART;VALUE=DATE:20251010
DTEND;VALUE=DATE:20251011
DTSTAMP:20260421T191106
CREATED:20250926T030111Z
LAST-MODIFIED:20251009T041033Z
UID:5571-1760054400-1760140799@zaidan-oki.com
SUMMARY:【体育館】予約状況10/10
DESCRIPTION:部屋名/室名\n8:30～13:00\n13:00～16:00\n16:00～20:00\n20:00～22:00\n\n\n\n\nアリーナA面\n×\n×\n〇\n×\n\n\nアリーナB面\n×\n×\n〇\n〇\n\n\nアリーナC面\n×\n×\n〇\n×\n\n\nトレーニング室\n×\n〇\n〇\n×\n\n\n会議室\n〇\n〇\n〇\n〇\n\n\nグラウンド\n×\n×\n×\n〇\n\n\n\n詳しくは総合体育館(08512-3-0025）までお問い合わせください。
URL:https://zaidan-oki.com/event/%e3%80%90%e4%bd%93%e8%82%b2%e9%a4%a8%e3%80%91%e4%ba%88%e7%b4%84%e7%8a%b6%e6%b3%8110-10/
ATTACH;FMTTYPE=:
END:VEVENT
BEGIN:VEVENT
DTSTART;VALUE=DATE:20251011
DTEND;VALUE=DATE:20251012
DTSTAMP:20260421T191106
CREATED:20250410T065419Z
LAST-MODIFIED:20250702T004337Z
UID:4009-1760140800-1760227199@zaidan-oki.com
SUMMARY:【文化会館】予約状況10/11
DESCRIPTION:室名\n午前(8:30～12:00)\n午後(12:00～17:00)\n夜間(17:00～22:00)\n\n\n\n\n大ホール\n〇\n×\n×\n\n\n控室\n〇\n×\n×\n\n\nホワイエ\n〇\n×\n×\n\n\n小会議室\n×\n×\n×\n\n\n研修室\n〇\n×\n×\n\n\n娯楽室\n〇\n×\n×\n\n\n保養室\n〇\n×\n×\n\n\n住民相談室\n〇\n×\n×\n\n\nコミュニケーション ホール\n〇\n〇\n〇\n\n\n集会室\n〇\n〇\n〇\n\n\n展示ホール\n〇\n〇\n〇\n\n\n調理実習室\n〇\n〇\n〇\n\n\n会議室\n〇\n〇\n〇\n\n\n産業研修室\n〇\n〇\n〇\n\n\n青年研修室\n〇\n〇\n〇\n\n\n\n\n\n\n詳しくは文化会館（08512-2-0237）までお問い合わせください。
URL:https://zaidan-oki.com/event/%e3%80%90%e6%96%87%e5%8c%96%e4%bc%9a%e9%a4%a8%e3%80%91%e4%ba%88%e7%b4%84%e7%8a%b6%e6%b3%8110-11/
ATTACH;FMTTYPE=:
END:VEVENT
BEGIN:VEVENT
DTSTART;VALUE=DATE:20251011
DTEND;VALUE=DATE:20251012
DTSTAMP:20260421T191106
CREATED:20250926T030335Z
LAST-MODIFIED:20251009T042541Z
UID:5573-1760140800-1760227199@zaidan-oki.com
SUMMARY:【体育館】予約状況10/11
DESCRIPTION:部屋名/室名\n8:30～13:00\n13:00～16:00\n16:00～20:00\n20:00～22:00\n\n\n\n\nアリーナA面\n〇\n〇\n〇\n〇\n\n\nアリーナB面\n〇\n〇\n〇\n〇\n\n\nアリーナC面\n〇\n〇\n〇\n〇\n\n\nトレーニング室\n×\n×\n〇\n〇\n\n\n会議室\n〇\n〇\n〇\n〇\n\n\nグラウンド\n×\n〇\n〇\n〇\n\n\n\n詳しくは総合体育館(08512-3-0025）までお問い合わせください。
URL:https://zaidan-oki.com/event/%e3%80%90%e4%bd%93%e8%82%b2%e9%a4%a8%e3%80%91%e4%ba%88%e7%b4%84%e7%8a%b6%e6%b3%8110-11/
ATTACH;FMTTYPE=:
END:VEVENT
BEGIN:VEVENT
DTSTART;VALUE=DATE:20251012
DTEND;VALUE=DATE:20251013
DTSTAMP:20260421T191106
CREATED:20250410T065500Z
LAST-MODIFIED:20250925T045418Z
UID:4011-1760227200-1760313599@zaidan-oki.com
SUMMARY:【文化会館】予約状況10/12
DESCRIPTION:室名\n午前(8:30～12:00)\n午後(12:00～17:00)\n夜間(17:00～22:00)\n\n\n\n\n大ホール\n〇\n〇\n〇\n\n\n控室\n〇\n〇\n〇\n\n\nホワイエ\n〇\n〇\n〇\n\n\n小会議室\n〇\n〇\n〇\n\n\n研修室\n〇\n〇\n〇\n\n\n娯楽室\n〇\n〇\n〇\n\n\n保養室\n〇\n〇\n〇\n\n\n住民相談室\n〇\n〇\n〇\n\n\nコミュニケーション ホール\n〇\n〇\n〇\n\n\n集会室\n〇\n〇\n〇\n\n\n展示ホール\n〇\n〇\n〇\n\n\n調理実習室\n〇\n〇\n〇\n\n\n会議室\n〇\n×\n〇\n\n\n産業研修室\n〇\n〇\n〇\n\n\n青年研修室\n〇\n〇\n〇\n\n\n\n\n\n\n詳しくは文化会館（08512-2-0237）までお問い合わせください。
URL:https://zaidan-oki.com/event/%e3%80%90%e6%96%87%e5%8c%96%e4%bc%9a%e9%a4%a8%e3%80%91%e4%ba%88%e7%b4%84%e7%8a%b6%e6%b3%8110-12/
ATTACH;FMTTYPE=:
END:VEVENT
BEGIN:VEVENT
DTSTART;VALUE=DATE:20251012
DTEND;VALUE=DATE:20251013
DTSTAMP:20260421T191106
CREATED:20250926T030717Z
LAST-MODIFIED:20251009T042723Z
UID:5575-1760227200-1760313599@zaidan-oki.com
SUMMARY:【体育館】予約状況10/12
DESCRIPTION:部屋名/室名\n8:30～13:00\n13:00～16:00\n16:00～20:00\n20:00～22:00\n\n\n\n\nアリーナA面\n×\n×\n〇\n〇\n\n\nアリーナB面\n×\n×\n〇\n〇\n\n\nアリーナC面\n×\n×\n〇\n×\n\n\nトレーニング室\n×\n×\n〇\n×\n\n\n会議室\n〇\n〇\n〇\n〇\n\n\nグラウンド\n×\n〇\n〇\n〇\n\n\n\n詳しくは総合体育館(08512-3-0025）までお問い合わせください。
URL:https://zaidan-oki.com/event/%e3%80%90%e4%bd%93%e8%82%b2%e9%a4%a8%e3%80%91%e4%ba%88%e7%b4%84%e7%8a%b6%e6%b3%8110-12/
ATTACH;FMTTYPE=:
END:VEVENT
BEGIN:VEVENT
DTSTART;VALUE=DATE:20251013
DTEND;VALUE=DATE:20251014
DTSTAMP:20260421T191106
CREATED:20250410T065656Z
LAST-MODIFIED:20250410T065656Z
UID:4013-1760313600-1760399999@zaidan-oki.com
SUMMARY:【文化会館】予約状況10/13
DESCRIPTION:室名\n午前(8:30～12:00)\n午後(12:00～17:00)\n夜間(17:00～22:00)\n\n\n\n\n大ホール\n〇\n〇\n×\n\n\n控室\n〇\n〇\n×\n\n\nホワイエ\n〇\n〇\n×\n\n\n小会議室\n〇\n〇\n×\n\n\n研修室\n〇\n〇\n×\n\n\n娯楽室\n〇\n〇\n×\n\n\n保養室\n〇\n〇\n×\n\n\n住民相談室\n〇\n〇\n×\n\n\nコミュニケーション ホール\n〇\n〇\n×\n\n\n集会室\n〇\n〇\n×\n\n\n展示ホール\n〇\n〇\n×\n\n\n調理実習室\n〇\n〇\n×\n\n\n会議室\n〇\n〇\n×\n\n\n産業研修室\n〇\n〇\n×\n\n\n青年研修室\n〇\n〇\n×\n\n\n\n\n\n\n詳しくは文化会館（08512-2-0237）までお問い合わせください。
URL:https://zaidan-oki.com/event/%e3%80%90%e6%96%87%e5%8c%96%e4%bc%9a%e9%a4%a8%e3%80%91%e4%ba%88%e7%b4%84%e7%8a%b6%e6%b3%8110-13/
ATTACH;FMTTYPE=:
END:VEVENT
BEGIN:VEVENT
DTSTART;VALUE=DATE:20251013
DTEND;VALUE=DATE:20251014
DTSTAMP:20260421T191106
CREATED:20250926T062835Z
LAST-MODIFIED:20251009T043015Z
UID:5577-1760313600-1760399999@zaidan-oki.com
SUMMARY:【体育館】予約状況10/13
DESCRIPTION:部屋名/室名\n8:30～13:00\n13:00～16:00\n16:00～20:00\n20:00～22:00\n\n\n\n\nアリーナA面\n〇\n〇\n〇\n×\n\n\nアリーナB面\n〇\n〇\n〇\n×\n\n\nアリーナC面\n〇\n×\n×\n×\n\n\nトレーニング室\n〇\n×\n〇\n×\n\n\n会議室\n〇\n〇\n〇\n×\n\n\nグラウンド\n〇\n×\n×\n×\n\n\n\n詳しくは総合体育館(08512-3-0025）までお問い合わせください。
URL:https://zaidan-oki.com/event/%e3%80%90%e4%bd%93%e8%82%b2%e9%a4%a8%e3%80%91%e4%ba%88%e7%b4%84%e7%8a%b6%e6%b3%8110-13/
ATTACH;FMTTYPE=:
END:VEVENT
BEGIN:VEVENT
DTSTART;VALUE=DATE:20251014
DTEND;VALUE=DATE:20251015
DTSTAMP:20260421T191106
CREATED:20250410T065731Z
LAST-MODIFIED:20250702T004457Z
UID:4015-1760400000-1760486399@zaidan-oki.com
SUMMARY:【文化会館】予約状況10/14
DESCRIPTION:室名\n午前(8:30～12:00)\n午後(12:00～17:00)\n夜間(17:00～22:00)\n\n\n\n\n大ホール\n〇\n×\n×\n\n\n控室\n〇\n〇\n〇\n\n\nホワイエ\n〇\n〇\n〇\n\n\n小会議室\n〇\n×\n〇\n\n\n研修室\n〇\n〇\n〇\n\n\n娯楽室\n〇\n〇\n〇\n\n\n保養室\n〇\n〇\n〇\n\n\n住民相談室\n〇\n〇\n〇\n\n\nコミュニケーション ホール\n〇\n〇\n〇\n\n\n集会室\n〇\n〇\n〇\n\n\n展示ホール\n〇\n〇\n〇\n\n\n調理実習室\n〇\n〇\n〇\n\n\n会議室\n〇\n〇\n〇\n\n\n産業研修室\n〇\n〇\n〇\n\n\n青年研修室\n〇\n〇\n〇\n\n\n\n\n\n\n詳しくは文化会館（08512-2-0237）までお問い合わせください。
URL:https://zaidan-oki.com/event/%e3%80%90%e6%96%87%e5%8c%96%e4%bc%9a%e9%a4%a8%e3%80%91%e4%ba%88%e7%b4%84%e7%8a%b6%e6%b3%8110-14/
ATTACH;FMTTYPE=:
END:VEVENT
BEGIN:VEVENT
DTSTART;VALUE=DATE:20251014
DTEND;VALUE=DATE:20251015
DTSTAMP:20260421T191106
CREATED:20251009T044159Z
LAST-MODIFIED:20251009T044159Z
UID:5621-1760400000-1760486399@zaidan-oki.com
SUMMARY:【体育館】予約状況10/14
DESCRIPTION:部屋名/室名\n8:30～13:00\n13:00～16:00\n16:00～20:00\n20:00～22:00\n\n\n\n\nアリーナA面\n〇\n×\n×\n〇\n\n\nアリーナB面\n×\n〇\n×\n〇\n\n\nアリーナC面\n〇\n〇\n×\n×\n\n\nトレーニング室\n×\n×\n〇\n×\n\n\n会議室\n〇\n〇\n〇\n〇\n\n\nグラウンド\n〇\n〇\n〇\n〇\n\n\n\n詳しくは総合体育館(08512-3-0025）までお問い合わせください。
URL:https://zaidan-oki.com/event/%e3%80%90%e4%bd%93%e8%82%b2%e9%a4%a8%e3%80%91%e4%ba%88%e7%b4%84%e7%8a%b6%e6%b3%8110-14/
ATTACH;FMTTYPE=:
END:VEVENT
BEGIN:VEVENT
DTSTART;VALUE=DATE:20251015
DTEND;VALUE=DATE:20251016
DTSTAMP:20260421T191106
CREATED:20251009T044833Z
LAST-MODIFIED:20251009T044858Z
UID:5623-1760486400-1760572799@zaidan-oki.com
SUMMARY:【体育館】予約状況10/15
DESCRIPTION:部屋名/室名\n8:30～13:00\n13:00～16:00\n16:00～20:00\n20:00～22:00\n\n\n\n\nアリーナA面\n〇\n×\n×\n〇\n\n\nアリーナB面\n〇\n〇\n×\n×\n\n\nアリーナC面\n×\n〇\n×\n×\n\n\nトレーニング室\n〇\n〇\n〇\n×\n\n\n会議室\n〇\n〇\n〇\n〇\n\n\nグラウンド\n〇\n〇\n〇\n〇\n\n\n\n詳しくは総合体育館(08512-3-0025）までお問い合わせください。
URL:https://zaidan-oki.com/event/%e3%80%90%e4%bd%93%e8%82%b2%e9%a4%a8%e3%80%91%e4%ba%88%e7%b4%84%e7%8a%b6%e6%b3%8110-15/
ATTACH;FMTTYPE=:
END:VEVENT
BEGIN:VEVENT
DTSTART;VALUE=DATE:20251015
DTEND;VALUE=DATE:20251016
DTSTAMP:20260421T191106
CREATED:20250410T065904Z
LAST-MODIFIED:20250410T065904Z
UID:4017-1760486400-1760572799@zaidan-oki.com
SUMMARY:【文化会館】予約状況10/15
DESCRIPTION:室名\n午前(8:30～12:00)\n午後(12:00～17:00)\n夜間(17:00～22:00)\n\n\n\n\n大ホール\n×\n×\n×\n\n\n控室\n〇\n〇\n〇\n\n\nホワイエ\n〇\n〇\n〇\n\n\n小会議室\n〇\n〇\n〇\n\n\n研修室\n〇\n〇\n〇\n\n\n娯楽室\n〇\n〇\n〇\n\n\n保養室\n〇\n〇\n〇\n\n\n住民相談室\n〇\n〇\n〇\n\n\nコミュニケーション ホール\n〇\n〇\n〇\n\n\n集会室\n×\n×\n〇\n\n\n展示ホール\n×\n×\n〇\n\n\n調理実習室\n〇\n〇\n〇\n\n\n会議室\n〇\n〇\n〇\n\n\n産業研修室\n×\n×\n〇\n\n\n青年研修室\n×\n×\n〇\n\n\n\n\n\n\n詳しくは文化会館（08512-2-0237）までお問い合わせください。
URL:https://zaidan-oki.com/event/%e3%80%90%e6%96%87%e5%8c%96%e4%bc%9a%e9%a4%a8%e3%80%91%e4%ba%88%e7%b4%84%e7%8a%b6%e6%b3%8110-15/
ATTACH;FMTTYPE=:
END:VEVENT
END:VCALENDAR